{"text_format":"1","workbook":"xlsx","n_sheets":6,"sheets":["Simulations (3)","Paramètres","CDC EPARGNE DIASPORA","RENTE VIAGERE NON REVERSIBLE","RENTE VIAGERE REVERSIBLE","Simulations (2)"],"not_rendered":{"charts":0,"images":1,"macros":1,"external_links":1,"defined_names":56,"comments":1,"pivot_tables":0},"unopened":[],"bounds":{"document_bytes":16777216,"sheet_cells":100000,"rows_first":2000,"rows_last":500,"rows_between":2000,"halvings":0,"cell_chars":16384,"cell_head_chars":4096},"cells_cut":0,"cells_raw":0,"read":"whole","date_system":"1900"}

{"sheet":"Simulations (3)","index":0,"n_rows":242,"n_cols":24,"rows_kept":242,"cut":false,"hidden":true,"merged":[[218,0,229,0],[230,0,241,0],[146,0,157,0],[158,0,169,0],[170,0,181,0],[182,0,193,0],[194,0,205,0],[206,0,217,0],[134,0,145,0],[2,0,13,0],[14,0,25,0],[26,0,37,0],[38,0,49,0],[50,0,61,0],[62,0,73,0],[74,0,85,0],[86,0,97,0],[98,0,109,0],[110,0,121,0],[122,0,133,0],[0,17,1,17],[0,0,1,0],[0,1,1,1],[0,2,1,2],[0,5,1,5],[0,6,1,6],[0,7,1,7],[0,12,1,12],[0,13,1,13],[0,14,1,14],[0,15,1,15],[0,16,1,16]]}
["Année","Mois","Cotisation","Cotisation ","Cotisation ","Intérêts 01","Intérêts 02","Intérêts 03","Cumul de ","Provision de","Provision de","Provision de","FRAIS_01","FRAIS_02","FRAIS_03","Gains_01","Gains_01","Gain_02",null,null,"5 ANS","10 ANS","15 ANS","20 ANS"]
[null,null,null,"investie 01&02","investie 03",null,null,null,"cotisations"," clôture 01"," clôture 02"," clôture 03",null,null,null,null,null,null,null,"CAPITAL A TERME",{"$f":"SUM(C3:C62)","v":3936000}]
[1,1,{"$f":"Prime_périodique","v":65600},{"$f":"+C3*PI_1","v":63632},{"$f":"+C3*PI_3","v":63632},{"$f":"tm_1*D3","v":208.31460982088132},{"$f":"+tm_2*D3","v":233.83547176859773},{"$f":"+tm_3*E3","v":259.24464460111204},{"$f":"+C3","v":65600},{"$f":"D3*(1+tm_1)","v":63840.314609820882},{"$f":"D3*(1+tm_2)","v":63865.835471768594},{"$f":"E3*(1+tm_3)","v":63891.244644601109},{"$f":"FV(Paramètres!$C$24,B3,-D3,,1)-FV(i_p_1,B3,-D3,,1)+(1-PI_1)*'Simulations (3)'!C3*B3","v":916.1526720336642},{"$f":"FV(Paramètres!$D$24,B3,-D3,,1)-FV(i_p_2,B3,-D3,,1)+(1-PI_1)*'Simulations (3)'!C3*B3","v":785.86979965859973},{"$f":"FV(Paramètres!$E$24,B3,-E3,,1)-FV(i_p_3,B3,-E3,,1)+(1-PI_1)*'Simulations (3)'!C3*B3","v":655.84753064698634},{"$f":"+J3-I3","v":-1759.6853901791183},{"$f":"+K3-I3","v":-1734.1645282314057},{"$f":"+L3-I3","v":-1708.755355398891},null,"CUMUL COTISATION",{"$f":"SUM(C3:C62)","v":3936000}]
[null,{"$f":"+B3+1","v":2},{"$f":"C3","v":65600},63632,63632,{"$f":"(D4+J3)*(tm_1)","v":417.31118746714651},{"$f":"+tm_2*(D4+K3)","v":468.5302443270063},{"$f":"+tm_3*(E4+L3)","v":519.54548397457688},{"$f":"+I3+C4","v":131200},{"$f":"(D4+J3)*(1+tm_1)","v":127889.62579728803},{"$f":"(D4+K3)*(1+tm_2)","v":127966.36571609561},{"$f":"(E4+L3)*(1+tm_3)","v":128042.79012857568},{"$f":"FV(Paramètres!$C$24,B4,-D4,,1)-FV(i_p_1,B4,-D4,,1)+(1-PI_1)*'Simulations (3)'!C4*B4","v":756.18385950047013},{"$f":"FV(Paramètres!$D$24,B4,-D4,,1)-FV(i_p_2,B4,-D4,,1)+(1-PI_1)*'Simulations (3)'!C4*B4","v":358.96004398698642},{"$f":"FV(Paramètres!$E$24,B4,-E4,,1)-FV(i_p_3,B4,-E4,,1)+(1-PI_1)*'Simulations (3)'!C4*B4","v":-38.206985377586534},{"$f":"+J4-I4","v":-3310.3742027119733},{"$f":"+K4-I4","v":-3233.6342839043937},{"$f":"+L4-I4","v":-3157.2098714243184}]
[null,{"$f":"+B4+1","v":3},{"$f":"C4","v":65600},63632,63632,626.99196552399576,704.08747544184587,780.90682118863685,{"$f":"+I4+C5","v":196800},192148.61776281203,192302.45319153744,192455.69694976433,{"$f":"FV(Paramètres!$C$24,B5,-D5,,1)-FV(i_p_1,B5,-D5,,1)+(1-PI_1)*'Simulations (3)'!C5*B5","v":-504.6725902728158},{"$f":"FV(Paramètres!$D$24,B5,-D5,,1)-FV(i_p_2,B5,-D5,,1)+(1-PI_1)*'Simulations (3)'!C5*B5","v":-1312.0766079246769},{"$f":"FV(Paramètres!$E$24,B5,-E5,,1)-FV(i_p_3,B5,-E5,,1)+(1-PI_1)*'Simulations (3)'!C5*B5","v":-2120.8671338398071},{"$f":"+J5-I5","v":-4651.3822371879651},{"$f":"+K5-I5","v":-4497.5468084625609},{"$f":"+L5-I5","v":-4344.3030502356705}]
[null,4,65600,63632,63632,837.35918388553205,940.51033448392707,1043.3329768427668,262400,256617.97694669757,256874.96352602137,257131.02992660709,{"$f":"FV(Paramètres!$C$24,B6,-D6,,1)-FV(i_p_1,B6,-D6,,1)+(1-PI_1)*'Simulations (3)'!C6*B6","v":-2891.6846063882331},{"$f":"FV(Paramètres!$D$24,B6,-D6,,1)-FV(i_p_2,B6,-D6,,1)+(1-PI_1)*'Simulations (3)'!C6*B6","v":-4259.3010734411582},{"$f":"FV(Paramètres!$E$24,B6,-E6,,1)-FV(i_p_3,B6,-E6,,1)+(1-PI_1)*'Simulations (3)'!C6*B6","v":-5631.8141569974759},-5782.0230533024296,-5525.036473978631,-5268.9700733929058]
[null,5,65600,63632,63632,1048.415089778689,1177.8020024708942,1306.8282891390986,328000,321298.39203647623,321684.76552849222,322069.85821574618,{"$f":"FV(Paramètres!$C$24,B7,-D7,,1)-FV(i_p_1,B7,-D7,,1)+(1-PI_1)*'Simulations (3)'!C7*B7","v":-6430.6318685210917},{"$f":"FV(Paramètres!$D$24,B7,-D7,,1)-FV(i_p_2,B7,-D7,,1)+(1-PI_1)*'Simulations (3)'!C7*B7","v":-8515.5037840552304},{"$f":"FV(Paramètres!$E$24,B7,-E7,,1)-FV(i_p_3,B7,-E7,,1)+(1-PI_1)*'Simulations (3)'!C7*B7","v":-10611.731185992356},-6701.6079635237693,-6315.2344715077779,-5930.1417842538212]
[null,6,65600,63632,63632,1260.1619377872364,1415.9656721100255,1571.3971139541366,393600,386190.55397426349,386732.73120060225,387273.2553297003,{"$f":"FV(Paramètres!$C$24,B8,-D8,,1)-FV(i_p_1,B8,-D8,,1)+(1-PI_1)*'Simulations (3)'!C8*B8","v":-11147.815978732415},{"$f":"FV(Paramètres!$D$24,B8,-D8,,1)-FV(i_p_2,B8,-D8,,1)+(1-PI_1)*'Simulations (3)'!C8*B8","v":-14114.22097794501},{"$f":"FV(Paramètres!$E$24,B8,-E8,,1)-FV(i_p_3,B8,-E8,,1)+(1-PI_1)*'Simulations (3)'!C8*B8","v":-17102.328072037129},-7409.4460257365135,-6867.2687993977452,-6326.7446702996967]
[null,7,{"$f":"Prime_périodique","v":65600},63632,63632,1472.6019898758648,1655.0045478411889,1837.0438249107656,459200,451295.15596413933,452019.73574844346,452742.29915461107,{"$f":"FV(Paramètres!$C$24,B9,-D9,,1)-FV(i_p_1,B9,-D9,,1)+(1-PI_1)*'Simulations (3)'!C9*B9","v":-17070.070834842845},{"$f":"FV(Paramètres!$D$24,B9,-D9,,1)-FV(i_p_2,B9,-D9,,1)+(1-PI_1)*'Simulations (3)'!C9*B9","v":-21089.75135527573},{"$f":"FV(Paramètres!$E$24,B9,-E9,,1)-FV(i_p_3,B9,-E9,,1)+(1-PI_1)*'Simulations (3)'!C9*B9","v":-25146.366831168983},-7904.8440358606749,-7180.2642515565385,-6457.7008453889284]
[null,8,65600,63632,63632,1685.7375154143479,1894.9218458799592,2103.772813450551,524800,516612.89347955369,517546.65759432345,518478.07196806162,{"$f":"FV(Paramètres!$C$24,B10,-D10,,1)-FV(i_p_1,B10,-D10,,1)+(1-PI_1)*'Simulations (3)'!C10*B10","v":-24224.773209349762},{"$f":"FV(Paramètres!$D$24,B10,-D10,,1)-FV(i_p_2,B10,-D10,,1)+(1-PI_1)*'Simulations (3)'!C10*B10","v":-29477.173104368194},{"$f":"FV(Paramètres!$E$24,B10,-E10,,1)-FV(i_p_3,B10,-E10,,1)+(1-PI_1)*'Simulations (3)'!C10*B10","v":-34787.687717715846},-8187.1065204463084,-7253.3424056765507,-6321.9280319383834]
[null,9,65600,63632,63632,1899.5707912017867,2135.7207942608898,2371.5884889063345,590400,582144.46427075553,583314.37838858424,584481.66045696801,{"$f":"FV(Paramètres!$C$24,B11,-D11,,1)-FV(i_p_1,B11,-D11,,1)+(1-PI_1)*'Simulations (3)'!C11*B11","v":-32639.853537975563},{"$f":"FV(Paramètres!$D$24,B11,-D11,,1)-FV(i_p_2,B11,-D11,,1)+(1-PI_1)*'Simulations (3)'!C11*B11","v":-39312.361306914114},{"$f":"FV(Paramètres!$E$24,B11,-E11,,1)-FV(i_p_3,B11,-E11,,1)+(1-PI_1)*'Simulations (3)'!C11*B11","v":-46071.235942051731},-8255.5357292444678,-7085.6216114157578,-5918.3395430319943]
[null,10,65600,63632,63632,2114.1041014909283,2377.4046328809459,2640.4952785751266,656000,647890.56837224646,649323.78302146518,650754.15573554311,{"$f":"FV(Paramètres!$C$24,B12,-D12,,1)-FV(i_p_1,B12,-D12,,1)+(1-PI_1)*'Simulations (3)'!C12*B12","v":-42343.806922002565},{"$f":"FV(Paramètres!$D$24,B12,-D12,,1)-FV(i_p_2,B12,-D12,,1)+(1-PI_1)*'Simulations (3)'!C12*B12","v":-50632.005730776917},{"$f":"FV(Paramètres!$E$24,B12,-E12,,1)-FV(i_p_3,B12,-E12,,1)+(1-PI_1)*'Simulations (3)'!C12*B12","v":-59043.089048475595},-8109.4316277535399,-6676.2169785348233,-5245.8442644568859]
[null,11,65600,63632,63632,2329.3397380125703,2619.9766135430964,2910.4976277912929,721600,713851.90811025898,715575.75963500829,717296.65336333436,{"$f":"FV(Paramètres!$C$24,B13,-D13,,1)-FV(i_p_1,B13,-D13,,1)+(1-PI_1)*'Simulations (3)'!C13*B13","v":-53365.704348606618},{"$f":"FV(Paramètres!$D$24,B13,-D13,,1)-FV(i_p_2,B13,-D13,,1)+(1-PI_1)*'Simulations (3)'!C13*B13","v":-63473.629018894142},{"$f":"FV(Paramètres!$E$24,B13,-E13,,1)-FV(i_p_3,B13,-E13,,1)+(1-PI_1)*'Simulations (3)'!C13*B13","v":-73750.484969590878},-7748.0918897410156,-6024.2403649917105,-4303.3466366656357]
[null,12,65600,63632,63632,2545.2800000000402,2863.4400000000669,3181.6000000000413,787200,780029.18811025901,782071.19963500835,784110.25336333446,{"$f":"FV(Paramètres!$C$24,B14,-D14,,1)-FV(i_p_1,B14,-D14,,1)+(1-PI_1)*'Simulations (3)'!C14*B14","v":-65735.204133546416},{"$f":"FV(Paramètres!$D$24,B14,-D14,,1)-FV(i_p_2,B14,-D14,,1)+(1-PI_1)*'Simulations (3)'!C14*B14","v":-77875.605283192912},{"$f":"FV(Paramètres!$E$24,B14,-E14,,1)-FV(i_p_3,B14,-E14,,1)+(1-PI_1)*'Simulations (3)'!C14*B14","v":-90241.850773839134},-7170.8118897409877,-5128.80036499165,-3089.7466366655426]
[2,13,65600,63632,63632,2761.9271942137566,3107.798067998252,3453.8068768312091,852800,846423.11530447274,848810.99770300661,851196.06024016568,{"$f":"FV(Paramètres!$C$24,B15,-D15,,1)-FV(i_p_1,B15,-D15,,1)+(1-PI_1)*'Simulations (3)'!C15*B15","v":-79482.563590536447},{"$f":"FV(Paramètres!$D$24,B15,-D15,,1)-FV(i_p_2,B15,-D15,,1)+(1-PI_1)*'Simulations (3)'!C15*B15","v":-93877.17911243331},{"$f":"FV(Paramètres!$E$24,B15,-E15,,1)-FV(i_p_3,B15,-E15,,1)+(1-PI_1)*'Simulations (3)'!C15*B15","v":-108566.83212335905},-6376.8846955272602,-3989.0022969933925,-1603.9397598343203]
[null,14,65600,63632,63632,2979.2836349658728,3353.0541053217889,3727.1227581733478,918400,913034.39893943863,915796.05180832837,918555.18299833906,{"$f":"FV(Paramètres!$C$24,B16,-D16,,1)-FV(i_p_1,B16,-D16,,1)+(1-PI_1)*'Simulations (3)'!C16*B16","v":-94638.650931903481},{"$f":"FV(Paramètres!$D$24,B16,-D16,,1)-FV(i_p_2,B16,-D16,,1)+(1-PI_1)*'Simulations (3)'!C16*B16","v":-111518.48500330103},{"$f":"FV(Paramètres!$E$24,B16,-E16,,1)-FV(i_p_3,B16,-E16,,1)+(1-PI_1)*'Simulations (3)'!C16*B16","v":-128776.3234596471},-5365.6010605613701,-2603.9481916716322,155.18299833906349]
[null,15,65600,63632,63632,3197.351644144996,3599.2114118367967,4001.552162248111,984000,979863.75058358361,983027.26322016516,986188.73516058712,{"$f":"FV(Paramètres!$C$24,B17,-D17,,1)-FV(i_p_1,B17,-D17,,1)+(1-PI_1)*'Simulations (3)'!C17*B17","v":-111234.95740501126},{"$f":"FV(Paramètres!$D$24,B17,-D17,,1)-FV(i_p_2,B17,-D17,,1)+(1-PI_1)*'Simulations (3)'!C17*B17","v":-130840.56722407366},{"$f":"FV(Paramètres!$E$24,B17,-E17,,1)-FV(i_p_3,B17,-E17,,1)+(1-PI_1)*'Simulations (3)'!C17*B17","v":-150922.49893506788},-4136.2494164163945,-972.73677983484231,2188.7351605871227]
[null,16,65600,63632,63632,3416.1335512409937,3846.2732995357719,4277.0996256849476,1049600,1046911.8841348246,1050505.5365197009,1054097.8347862721,{"$f":"FV(Paramètres!$C$24,B18,-D18,,1)-FV(i_p_1,B18,-D18,,1)+(1-PI_1)*'Simulations (3)'!C18*B18","v":-129303.60966915984},{"$f":"FV(Paramètres!$D$24,B18,-D18,,1)-FV(i_p_2,B18,-D18,,1)+(1-PI_1)*'Simulations (3)'!C18*B18","v":-151885.40012056005},{"$f":"FV(Paramètres!$E$24,B18,-E18,,1)-FV(i_p_3,B18,-E18,,1)+(1-PI_1)*'Simulations (3)'!C18*B18","v":-175058.84410856615},-2688.1158651753794,905.53651970089413,4497.8347862721421]
[null,17,65600,63632,63632,3635.6316933698772,4094.2430925821527,4553.7697035960964,1115200,1114179.5158281946,1118231.779612283,1122283.6044898683,{"$f":"FV(Paramètres!$C$24,B19,-D19,,1)-FV(i_p_1,B19,-D19,,1)+(1-PI_1)*'Simulations (3)'!C19*B19","v":-148877.38241773259},{"$f":"FV(Paramètres!$D$24,B19,-D19,,1)-FV(i_p_2,B19,-D19,,1)+(1-PI_1)*'Simulations (3)'!C19*B19","v":-174695.9088740614},{"$f":"FV(Paramètres!$E$24,B19,-E19,,1)-FV(i_p_3,B19,-E19,,1)+(1-PI_1)*'Simulations (3)'!C19*B19","v":-201240.18842452343},-1020.4841718054377,3031.7796122829895,7083.604489868274]
[null,18,65600,63632,63632,3855.8484152987671,4343.1241273550449,4831.5669696518862,1180800,1181667.3642434934,1186206.9037396379,1190747.1714595202,{"$f":"FV(Paramètres!$C$24,B20,-D20,,1)-FV(i_p_1,B20,-D20,,1)+(1-PI_1)*'Simulations (3)'!C20*B20","v":-169989.71125043902},{"$f":"FV(Paramètres!$D$24,B20,-D20,,1)-FV(i_p_2,B20,-D20,,1)+(1-PI_1)*'Simulations (3)'!C20*B20","v":-199315.99072154329},{"$f":"FV(Paramètres!$E$24,B20,-E20,,1)-FV(i_p_3,B20,-E20,,1)+(1-PI_1)*'Simulations (3)'!C20*B20","v":-229522.73849401411},867.36424349341542,5406.9037396379281,9947.1714595202357]
[null,19,65600,63632,63632,4076.7860694709407,4592.919752494111,5110.4960161563477,1246400,1249376.1503129643,1254431.8234921321,1259489.6674756766,{"$f":"FV(Paramètres!$C$24,B21,-D21,,1)-FV(i_p_1,B21,-D21,,1)+(1-PI_1)*'Simulations (3)'!C21*B21","v":-192674.70580058868},{"$f":"FV(Paramètres!$D$24,B21,-D21,,1)-FV(i_p_2,B21,-D21,,1)+(1-PI_1)*'Simulations (3)'!C21*B21","v":-225790.53664820312},{"$f":"FV(Paramètres!$E$24,B21,-E21,,1)-FV(i_p_3,B21,-E21,,1)+(1-PI_1)*'Simulations (3)'!C21*B21","v":-259964.11219838655},2976.1503129643388,8031.8234921321273,13089.66747567663]
[null,20,65600,63632,63632,4298.4470160309638,4843.6333289446256,5390.5614541231225,1312000,1317306.5973289954,1322907.4568210768,1328512.2289297997,{"$f":"FV(Paramètres!$C$24,B22,-D22,,1)-FV(i_p_1,B22,-D22,,1)+(1-PI_1)*'Simulations (3)'!C22*B22","v":-216967.16312248047},{"$f":"FV(Paramètres!$D$24,B22,-D22,,1)-FV(i_p_2,B22,-D22,,1)+(1-PI_1)*'Simulations (3)'!C22*B22","v":-254165.45356296559},{"$f":"FV(Paramètres!$E$24,B22,-E22,,1)-FV(i_p_3,B22,-E22,,1)+(1-PI_1)*'Simulations (3)'!C22*B22","v":-292623.3736353665},5306.5973289953545,10907.456821076805,16512.228929799749]
[null,21,65600,63632,63632,4520.8336228499002,5095.2682300026991,5671.7679133516949,1377600,1385459.4309518454,1391634.7250510794,1397815.9968431515,{"$f":"FV(Paramètres!$C$24,B23,-D23,,1)-FV(i_p_1,B23,-D23,,1)+(1-PI_1)*'Simulations (3)'!C23*B23","v":-242902.58134403799},{"$f":"FV(Paramètres!$D$24,B23,-D23,,1)-FV(i_p_2,B23,-D23,,1)+(1-PI_1)*'Simulations (3)'!C23*B23","v":-284487.68696768227},{"$f":"FV(Paramètres!$E$24,B23,-E23,,1)-FV(i_p_3,B23,-E23,,1)+(1-PI_1)*'Simulations (3)'!C23*B23","v":-327561.06892857066},7859.4309518453665,14034.725051079411,20215.996843151515]
[null,22,65600,63632,63632,4743.9482655506072,5347.8278413606577,5954.1200425039278,1443200,1453835.379217396,1460614.55289244,1467402.1168856553,{"$f":"FV(Paramètres!$C$24,B24,-D24,,1)-FV(i_p_1,B24,-D24,,1)+(1-PI_1)*'Simulations (3)'!C24*B24","v":-270517.17358992453},{"$f":"FV(Paramètres!$D$24,B24,-D24,,1)-FV(i_p_2,B24,-D24,,1)+(1-PI_1)*'Simulations (3)'!C24*B24","v":-316805.24413099251},{"$f":"FV(Paramètres!$E$24,B24,-E24,,1)-FV(i_p_3,B24,-E24,,1)+(1-PI_1)*'Simulations (3)'!C24*B24","v":-364839.26292172278},10635.379217396025,17414.552892439999,24202.116885655327]
[null,23,65600,63632,63632,4967.7933275331152,5601.3155611526054,6237.6225091809019,1508800,1522435.1725449292,1529847.8684535925,1537271.7393948361,{"$f":"FV(Paramètres!$C$24,B25,-D25,,1)-FV(i_p_1,B25,-D25,,1)+(1-PI_1)*'Simulations (3)'!C25*B25","v":-299847.88218057127},{"$f":"FV(Paramètres!$D$24,B25,-D25,,1)-FV(i_p_2,B25,-D25,,1)+(1-PI_1)*'Simulations (3)'!C25*B25","v":-351167.21777812083},{"$f":"FV(Paramètres!$E$24,B25,-E25,,1)-FV(i_p_3,B25,-E25,,1)+(1-PI_1)*'Simulations (3)'!C25*B25","v":-404521.57677942765},13635.172544929199,21047.868453592528,28471.739394836128]
[null,24,65600,63632,63632,5192.3712000000851,5855.7348000001393,6522.2800000000871,1574400,1591259.5437449294,1599335.6032535927,1607426.0193948362,{"$f":"FV(Paramètres!$C$24,B26,-D26,,1)-FV(i_p_1,B26,-D26,,1)+(1-PI_1)*'Simulations (3)'!C26*B26","v":-330932.39311247127},{"$f":"FV(Paramètres!$D$24,B26,-D26,,1)-FV(i_p_2,B26,-D26,,1)+(1-PI_1)*'Simulations (3)'!C26*B26","v":-387623.8103080056},{"$f":"FV(Paramètres!$E$24,B26,-E26,,1)-FV(i_p_3,B26,-E26,,1)+(1-PI_1)*'Simulations (3)'!C26*B26","v":-446673.22651686257},16859.543744929368,24935.603253592737,33026.019394836156]
[3,25,65600,63632,63632,5417.6842819823505,6111.088981058243,6808.0972206728138,1640000,1660309.2280269116,1669078.692234651,1677866.1166155089,{"$f":"FV(Paramètres!$C$24,B27,-D27,,1)-FV(i_p_1,B27,-D27,,1)+(1-PI_1)*'Simulations (3)'!C27*B27","v":-363809.15082540101},{"$f":"FV(Paramètres!$D$24,B27,-D27,,1)-FV(i_p_2,B27,-D27,,1)+(1-PI_1)*'Simulations (3)'!C27*B27","v":-426226.35854960041},{"$f":"FV(Paramètres!$E$24,B27,-E27,,1)-FV(i_p_3,B27,-E27,,1)+(1-PI_1)*'Simulations (3)'!C27*B27","v":-491361.06248141726},20309.228026911616,29078.692234650953,37866.116615508916]
[null,26,65600,63632,63632,5643.7349803645511,6367.3815400613394,7095.0788960820591,1705600,1729584.9630072762,1739078.0737747124,1748593.1955115909,{"$f":"FV(Paramètres!$C$24,B28,-D28,,1)-FV(i_p_1,B28,-D28,,1)+(1-PI_1)*'Simulations (3)'!C28*B28","v":-398517.37326220953},{"$f":"FV(Paramètres!$D$24,B28,-D28,,1)-FV(i_p_2,B28,-D28,,1)+(1-PI_1)*'Simulations (3)'!C28*B28","v":-467027.35906926816},{"$f":"FV(Paramètres!$E$24,B28,-E28,,1)-FV(i_p_3,B28,-E28,,1)+(1-PI_1)*'Simulations (3)'!C28*B28","v":-538653.60980964848},23984.963007276179,33478.073774712393,42993.195511590922]
[null,27,65600,63632,63632,5870.5257099108394,6624.6159253695232,7383.22977036056,1771200,1799087.488717187,1809334.6897000819,1819608.4252819514,{"$f":"FV(Paramètres!$C$24,B29,-D29,,1)-FV(i_p_1,B29,-D29,,1)+(1-PI_1)*'Simulations (3)'!C29*B29","v":-435097.06722700055},{"$f":"FV(Paramètres!$D$24,B29,-D29,,1)-FV(i_p_2,B29,-D29,,1)+(1-PI_1)*'Simulations (3)'!C29*B29","v":-510080.49404156505},{"$f":"FV(Paramètres!$E$24,B29,-E29,,1)-FV(i_p_3,B29,-E29,,1)+(1-PI_1)*'Simulations (3)'!C29*B29","v":-588621.10988377826},27887.488717186963,38134.689700081944,48408.425281951437]
[null,28,65600,63632,63632,6098.0588932906767,6882.7955980149527,7672.5546069692382,1836800,1868817.5476104775,1879849.4852980969,1890912.9798889207,{"$f":"FV(Paramètres!$C$24,B30,-D30,,1)-FV(i_p_1,B30,-D30,,1)+(1-PI_1)*'Simulations (3)'!C30*B30","v":-473589.04404757702},{"$f":"FV(Paramètres!$D$24,B30,-D30,,1)-FV(i_p_2,B30,-D30,,1)+(1-PI_1)*'Simulations (3)'!C30*B30","v":-555440.65769596957},{"$f":"FV(Paramètres!$E$24,B30,-E30,,1)-FV(i_p_3,B30,-E30,,1)+(1-PI_1)*'Simulations (3)'!C30*B30","v":-641335.56281233416},32017.547610477544,43049.485298096901,54112.979888920672]
[null,29,65600,63632,63632,6326.3369611047156,7141.9240317484209,7963.0581887759445,1902400,1938775.8845715823,1950623.4093298453,1962508.0380776967,{"$f":"FV(Paramètres!$C$24,B31,-D31,,1)-FV(i_p_1,B31,-D31,,1)+(1-PI_1)*'Simulations (3)'!C31*B31","v":-514034.93554816133},{"$f":"FV(Paramètres!$D$24,B31,-D31,,1)-FV(i_p_2,B31,-D31,,1)+(1-PI_1)*'Simulations (3)'!C31*B31","v":-603163.98335229023},{"$f":"FV(Paramètres!$E$24,B31,-E31,,1)-FV(i_p_3,B31,-E31,,1)+(1-PI_1)*'Simulations (3)'!C31*B31","v":-696870.77096027089},36375.884571582312,48223.409329845337,60108.038077696692]
[null,30,65600,63632,63632,6555.3623519107614,7402.0047130860939,8254.7453181345245,1968000,2008963.246923493,2021657.4140429315,2034394.7833958312,{"$f":"FV(Paramètres!$C$24,B32,-D32,,1)-FV(i_p_1,B32,-D32,,1)+(1-PI_1)*'Simulations (3)'!C32*B32","v":-556477.21033866587},{"$f":"FV(Paramètres!$D$24,B32,-D32,,1)-FV(i_p_2,B32,-D32,,1)+(1-PI_1)*'Simulations (3)'!C32*B32","v":-653307.87105798069},{"$f":"FV(Paramètres!$E$24,B32,-E32,,1)-FV(i_p_3,B32,-E32,,1)+(1-PI_1)*'Simulations (3)'!C32*B32","v":-755302.38355444162},40963.246923492989,53657.414042931516,66394.78339583124]
[null,31,65600,63632,63632,6785.1375122498212,7663.0411413564188,8547.6208169642086,2033600,2079380.3844357429,2092952.4551842879,2106574.4042127957,{"$f":"FV(Paramètres!$C$24,B33,-D33,,1)-FV(i_p_1,B33,-D33,,1)+(1-PI_1)*'Simulations (3)'!C33*B33","v":-600959.19042657665},{"$f":"FV(Paramètres!$D$24,B33,-D33,,1)-FV(i_p_2,B33,-D33,,1)+(1-PI_1)*'Simulations (3)'!C33*B33","v":-705931.01584064728},{"$f":"FV(Paramètres!$E$24,B33,-E33,,1)-FV(i_p_3,B33,-E33,,1)+(1-PI_1)*'Simulations (3)'!C33*B33","v":-816707.94239102863},45780.384435742861,59352.455184287857,72974.404212795664]
[null,32,65600,63632,63632,7015.664896672246,7925.0368287472065,8841.6895268293229,2099200,2150028.0493324152,2164509.4920130349,2179048.0937396251,{"$f":"FV(Paramètres!$C$24,B34,-D34,,1)-FV(i_p_1,B34,-D34,,1)+(1-PI_1)*'Simulations (3)'!C34*B34","v":-647525.06815801887},{"$f":"FV(Paramètres!$D$24,B34,-D34,,1)-FV(i_p_2,B34,-D34,,1)+(1-PI_1)*'Simulations (3)'!C34*B34","v":-761093.43658952182},{"$f":"FV(Paramètres!$E$24,B34,-E34,,1)-FV(i_p_3,B34,-E34,,1)+(1-PI_1)*'Simulations (3)'!C34*B34","v":-881166.92867211392},50828.049332415219,65309.492013034876,79848.093739625067]
[null,33,65600,{"$f":"+C35*PI_1","v":63632},63632,7246.946967763939,8187.9953003528926,9136.956309019326,2164800,2220906.996300179,2236329.4873133879,2251817.0500486442,{"$f":"FV(Paramètres!$C$24,B35,-D35,,1)-FV(i_p_1,B35,-D35,,1)+(1-PI_1)*'Simulations (3)'!C35*B35","v":-696219.92349442467},{"$f":"FV(Paramètres!$D$24,B35,-D35,,1)-FV(i_p_2,B35,-D35,,1)+(1-PI_1)*'Simulations (3)'!C35*B35","v":-818856.50557977892},{"$f":"FV(Paramètres!$E$24,B35,-E35,,1)-FV(i_p_3,B35,-E35,,1)+(1-PI_1)*'Simulations (3)'!C35*B35","v":-948760.81099932175},56106.996300179046,71529.487313387915,87017.050048644189]
[null,34,65600,63632,63632,7478.9861961726747,8451.9200942219595,9433.4260446291682,2230400,2292017.9824963519,2308413.4074076097,2324882.4760932731,{"$f":"FV(Paramètres!$C$24,B36,-D36,,1)-FV(i_p_1,B36,-D36,,1)+(1-PI_1)*'Simulations (3)'!C36*B36","v":-747089.74163148878},{"$f":"FV(Paramètres!$D$24,B36,-D36,,1)-FV(i_p_2,B36,-D36,,1)+(1-PI_1)*'Simulations (3)'!C36*B36","v":-879282.97865417041},{"$f":"FV(Paramètres!$E$24,B36,-E36,,1)-FV(i_p_3,B36,-E36,,1)+(1-PI_1)*'Simulations (3)'!C36*B36","v":-1019573.0945530054},61617.982496351935,78013.407407609746,94482.476093273144]
[null,35,65600,63632,63632,7711.7850606344837,8716.8147614045447,9731.1036346399906,2296000,2363361.7675569863,2380762.2221690142,2398245.5797279133,{"$f":"FV(Paramètres!$C$24,B37,-D37,,1)-FV(i_p_1,B37,-D37,,1)+(1-PI_1)*'Simulations (3)'!C37*B37","v":-800181.43096718704},{"$f":"FV(Paramètres!$D$24,B37,-D37,,1)-FV(i_p_2,B37,-D37,,1)+(1-PI_1)*'Simulations (3)'!C37*B37","v":-942437.02607645513},{"$f":"FV(Paramètres!$E$24,B37,-E37,,1)-FV(i_p_3,B37,-E37,,1)+(1-PI_1)*'Simulations (3)'!C37*B37","v":-1093689.371486404},67361.767556986306,84762.22216901416,102245.57972791325]
[null,36,65600,63632,63632,7945.3460480001313,8982.6828660002193,10029.994000000137,{"$f":"+I37+C38","v":2361600},2434939.1136049866,2453376.9050350143,2471907.5737279132,{"$f":"FV(Paramètres!$C$24,B38,-D38,,1)-FV(i_p_1,B38,-D38,,1)+(1-PI_1)*'Simulations (3)'!C38*B38","v":-855542.8414257518},{"$f":"FV(Paramètres!$D$24,B38,-D38,,1)-FV(i_p_2,B38,-D38,,1)+(1-PI_1)*'Simulations (3)'!C38*B38","v":-1008384.2640716564},{"$f":"FV(Paramètres!$E$24,B38,-E38,,1)-FV(i_p_3,B38,-E38,,1)+(1-PI_1)*'Simulations (3)'!C38*B38","v":-1171197.3725646352},73339.113604986575,91776.905035014264,110307.5737279132]
[4,37,65600,63632,63632,8179.6716532616883,9249.5279852059375,10330.102081706498,{"$f":"+I38+C39","v":2427200},2506750.7852582484,2526258.4330202201,2545869.6758096195,{"$f":"FV(Paramètres!$C$24,B39,-D39,,1)-FV(i_p_1,B39,-D39,,1)+(1-PI_1)*'Simulations (3)'!C39*B39","v":-913222.78314468113},{"$f":"FV(Paramètres!$D$24,B39,-D39,,1)-FV(i_p_2,B39,-D39,,1)+(1-PI_1)*'Simulations (3)'!C39*B39","v":-1077191.7870684047},{"$f":"FV(Paramètres!$E$24,B39,-E39,,1)-FV(i_p_3,B39,-E39,,1)+(1-PI_1)*'Simulations (3)'!C39*B39","v":-1252187.0200793711},79550.785258248448,99058.433020220138,118669.67580961948]
[null,38,65600,63632,63632,8414.7643795791773,9517.3537093641735,10631.432840886206,2492800,2578797.5496378276,2599407.7867295844,2620133.1086505055,{"$f":"FV(Paramètres!$C$24,B40,-D40,,1)-FV(i_p_1,B40,-D40,,1)+(1-PI_1)*'Simulations (3)'!C40*B40","v":-973271.04553192796},{"$f":"FV(Paramètres!$D$24,B40,-D40,,1)-FV(i_p_2,B40,-D40,,1)+(1-PI_1)*'Simulations (3)'!C40*B40","v":-1148928.2006589943},{"$f":"FV(Paramètres!$E$24,B40,-E40,,1)-FV(i_p_3,B40,-E40,,1)+(1-PI_1)*'Simulations (3)'!C40*B40","v":-1336750.4820706267},85997.549637827557,106607.78672958445,127333.10865050554]
[null,39,65600,63632,63632,8650.6267383073173,9786.1636420112245,10933.991258878632,2558400,2651080.1763761351,2672825.9503715956,2694699.0999093843,{"$f":"FV(Paramètres!$C$24,B41,-D41,,1)-FV(i_p_1,B41,-D41,,1)+(1-PI_1)*'Simulations (3)'!C41*B41","v":-1035738.4167006937},{"$f":"FV(Paramètres!$D$24,B41,-D41,,1)-FV(i_p_2,B41,-D41,,1)+(1-PI_1)*'Simulations (3)'!C41*B41","v":-1223663.6552931238},{"$f":"FV(Paramètres!$E$24,B41,-E41,,1)-FV(i_p_3,B41,-E41,,1)+(1-PI_1)*'Simulations (3)'!C41*B41","v":-1424982.2278880114},92680.176376135089,114425.95037159557,136299.09990938427]
[null,40,65600,63632,63632,8887.2612490223491,10055.961399925698,11237.782337317745,2624000,2723599.4376251576,2746513.9117715214,2769568.882246702,{"$f":"FV(Paramètres!$C$24,B42,-D42,,1)-FV(i_p_1,B42,-D42,,1)+(1-PI_1)*'Simulations (3)'!C42*B42","v":-1100676.7032891763},{"$f":"FV(Paramètres!$D$24,B42,-D42,,1)-FV(i_p_2,B42,-D42,,1)+(1-PI_1)*'Simulations (3)'!C42*B42","v":-1301469.8807216524},{"$f":"FV(Paramètres!$E$24,B42,-E42,,1)-FV(i_p_3,B42,-E42,,1)+(1-PI_1)*'Simulations (3)'!C42*B42","v":-1516979.0851244424},99599.437625157647,122513.91177152144,145568.88224670198]
[null,41,65600,63632,63632,9124.6704395489505,10326.750613177173,11542.811098214786,2689600,2796356.1080647064,2820472.6623846986,2844743.6933449167,{"$f":"FV(Paramètres!$C$24,B43,-D43,,1)-FV(i_p_1,B43,-D43,,1)+(1-PI_1)*'Simulations (3)'!C43*B43","v":-1168138.7506729872},{"$f":"FV(Paramètres!$D$24,B43,-D43,,1)-FV(i_p_2,B43,-D43,,1)+(1-PI_1)*'Simulations (3)'!C43*B43","v":-1382420.2212070436},{"$f":"FV(Paramètres!$E$24,B43,-E43,,1)-FV(i_p_3,B43,-E43,,1)+(1-PI_1)*'Simulations (3)'!C43*B43","v":-1612840.297956299},106756.10806470644,130872.66238469863,155143.69334491668]
[null,42,65600,63632,63632,9362.8568459872367,10598.534925175043,11849.082584041296,2755200,2869350.9649106935,2894703.1973098735,2920224.7759289579,{"$f":"FV(Paramètres!$C$24,B44,-D44,,1)-FV(i_p_1,B44,-D44,,1)+(1-PI_1)*'Simulations (3)'!C44*B44","v":-1238178.4635780067},{"$f":"FV(Paramètres!$D$24,B44,-D44,,1)-FV(i_p_2,B44,-D44,,1)+(1-PI_1)*'Simulations (3)'!C44*B44","v":-1466589.6715176059},{"$f":"FV(Paramètres!$E$24,B44,-E44,,1)-FV(i_p_3,B44,-E44,,1)+(1-PI_1)*'Simulations (3)'!C44*B44","v":-1712667.5869246963},114150.96491069347,139503.19730987353,165024.77592895785]
[null,43,65600,63632,63632,9601.8230127398601,10871.317992717532,12156.601857812462,2820800,2942584.7879234334,2969206.515302591,2996013.3777867705,{"$f":"FV(Paramètres!$C$24,B45,-D45,,1)-FV(i_p_1,B45,-D45,,1)+(1-PI_1)*'Simulations (3)'!C45*B45","v":-1310850.8271015515},{"$f":"FV(Paramètres!$D$24,B45,-D45,,1)-FV(i_p_2,B45,-D45,,1)+(1-PI_1)*'Simulations (3)'!C45*B45","v":-1554054.9137228867},{"$f":"FV(Paramètres!$E$24,B45,-E45,,1)-FV(i_p_3,B45,-E45,,1)+(1-PI_1)*'Simulations (3)'!C45*B45","v":-1816565.2101934641},121784.78792343335,148406.51530259103,175213.37778677046]
[null,44,65600,63632,63632,9841.5714925391803,11145.103486040905,12465.374003170833,2886400,3016058.3594159726,3043983.6187886321,3072110.7517899415,{"$f":"FV(Paramètres!$C$24,B46,-D46,,1)-FV(i_p_1,B46,-D46,,1)+(1-PI_1)*'Simulations (3)'!C46*B46","v":-1386211.9281500583},{"$f":"FV(Paramètres!$D$24,B46,-D46,,1)-FV(i_p_2,B46,-D46,,1)+(1-PI_1)*'Simulations (3)'!C46*B46","v":-1644894.3548081913},{"$f":"FV(Paramètres!$E$24,B46,-E46,,1)-FV(i_p_3,B46,-E46,,1)+(1-PI_1)*'Simulations (3)'!C46*B46","v":-1924640.0263203518},129658.35941597261,157583.6187886321,185710.75178994145]
[null,45,65600,63632,63632,10082.104846474544,11419.895088868849,12775.404124470337,2952000,3089772.4642624473,3119035.5138775008,3148518.1559144119,{"$f":"FV(Paramètres!$C$24,B47,-D47,,1)-FV(i_p_1,B47,-D47,,1)+(1-PI_1)*'Simulations (3)'!C47*B47","v":-1464318.9773013289},{"$f":"FV(Paramètres!$D$24,B47,-D47,,1)-FV(i_p_2,B47,-D47,,1)+(1-PI_1)*'Simulations (3)'!C47*B47","v":-1739188.1651262348},{"$f":"FV(Paramètres!$E$24,B47,-E47,,1)-FV(i_p_3,B47,-E47,,1)+(1-PI_1)*'Simulations (3)'!C47*B47","v":-2037001.5585787906},137772.46426244732,167035.51387750078,196518.15591441188]
[null,46,65600,63632,63632,10323.42564401963,11695.696498462023,13086.697346860672,3017600,3163727.8899064669,3194363.2103759628,3225236.8532612724,{"$f":"FV(Paramètres!$C$24,B48,-D48,,1)-FV(i_p_1,B48,-D48,,1)+(1-PI_1)*'Simulations (3)'!C48*B48","v":-1545230.3310999884},{"$f":"FV(Paramètres!$D$24,B48,-D48,,1)-FV(i_p_2,B48,-D48,,1)+(1-PI_1)*'Simulations (3)'!C48*B48","v":-1837018.3177048257},{"$f":"FV(Paramètres!$E$24,B48,-E48,,1)-FV(i_p_3,B48,-E48,,1)+(1-PI_1)*'Simulations (3)'!C48*B48","v":-2153762.0608684923},146127.88990646694,176763.21037596278,207636.85326127242]
[null,47,65600,63632,63632,10565.536463059911,11972.511425667826,13399.258816372037,3083200,3237925.4263695269,3269967.7218016307,3302268.1120776446,{"$f":"FV(Paramètres!$C$24,B49,-D49,,1)-FV(i_p_1,B49,-D49,,1)+(1-PI_1)*'Simulations (3)'!C49*B49","v":-1629005.5147945834},{"$f":"FV(Paramètres!$D$24,B49,-D49,,1)-FV(i_p_2,B49,-D49,,1)+(1-PI_1)*'Simulations (3)'!C49*B49","v":-1938468.6284293788},{"$f":"FV(Paramètres!$E$24,B49,-E49,,1)-FV(i_p_3,B49,-E49,,1)+(1-PI_1)*'Simulations (3)'!C49*B49","v":-2275036.5852541733},154725.42636952689,186767.72180163069,219068.11207764456]
[null,48,65600,63632,63632,10808.439889920184,12250.343594970305,13713.09370000019,3148800,3312365.8662594473,3345850.0653966009,3379613.2057776446,{"$f":"FV(Paramètres!$C$24,B50,-D50,,1)-FV(i_p_1,B50,-D50,,1)+(1-PI_1)*'Simulations (3)'!C50*B50","v":-1715705.2455250584},{"$f":"FV(Paramètres!$D$24,B50,-D50,,1)-FV(i_p_2,B50,-D50,,1)+(1-PI_1)*'Simulations (3)'!C50*B50","v":-2043624.7971199304},{"$f":"FV(Paramètres!$E$24,B50,-E50,,1)-FV(i_p_3,B50,-E50,,1)+(1-PI_1)*'Simulations (3)'!C50*B50","v":-2400943.0511725591},163565.8662594473,197050.06539660087,230813.20577764465]
[5,49,65600,63632,63632,11052.138519392203,12529.196744540281,14028.207185791871,3214400,3387050.0047788396,3422011.2621411411,3457273.4129634365,{"$f":"FV(Paramètres!$C$24,B51,-D51,,1)-FV(i_p_1,B51,-D51,,1)+(1-PI_1)*'Simulations (3)'!C51*B51","v":-1805391.4559696219},{"$f":"FV(Paramètres!$D$24,B51,-D51,,1)-FV(i_p_2,B51,-D51,,1)+(1-PI_1)*'Simulations (3)'!C51*B51","v":-2152574.4495223779},{"$f":"FV(Paramètres!$E$24,B51,-E51,,1)-FV(i_p_3,B51,-E51,,1)+(1-PI_1)*'Simulations (3)'!C51*B51","v":-2531602.316348929},172650.00477883965,207611.26214114111,242873.41296343645]
[null,50,65600,63632,63632,11296.634954762392,12809.074626285637,14344.604482930565,3280000,3461978.6397336018,3498452.3367674267,3535250.0174463671,{"$f":"FV(Paramètres!$C$24,B52,-D52,,1)-FV(i_p_1,B52,-D52,,1)+(1-PI_1)*'Simulations (3)'!C52*B52","v":-1898127.3184600701},{"$f":"FV(Paramètres!$D$24,B52,-D52,,1)-FV(i_p_2,B52,-D52,,1)+(1-PI_1)*'Simulations (3)'!C52*B52","v":-2265407.180234456},{"$f":"FV(Paramètres!$E$24,B52,-E52,,1)-FV(i_p_3,B52,-E52,,1)+(1-PI_1)*'Simulations (3)'!C52*B52","v":-2667138.2494653054},181978.63973360183,218452.33676742669,255250.01744636707]
[null,51,65600,63632,63632,11541.931807839657,13089.981005901807,14662.290821822613,3345600,3537152.5715414416,3575174.3177733286,3613544.3082681899,{"$f":"FV(Paramètres!$C$24,B53,-D53,,1)-FV(i_p_1,B53,-D53,,1)+(1-PI_1)*'Simulations (3)'!C53*B53","v":-1993977.2695747516},{"$f":"FV(Paramètres!$D$24,B53,-D53,,1)-FV(i_p_2,B53,-D53,,1)+(1-PI_1)*'Simulations (3)'!C53*B53","v":-2382214.5965871545},{"$f":"FV(Paramètres!$E$24,B53,-E53,,1)-FV(i_p_3,B53,-E53,,1)+(1-PI_1)*'Simulations (3)'!C53*B53","v":-2807677.8046237458},191552.5715414416,229574.31777332863,267944.3082681899]
[null,52,65600,63632,63632,11788.03169898329,13371.919662922433,14981.271454183681,3411200,3612572.6032404248,3652178.2374362512,3692157.5797223737,{"$f":"FV(Paramètres!$C$24,B54,-D54,,1)-FV(i_p_1,B54,-D54,,1)+(1-PI_1)*'Simulations (3)'!C54*B54","v":-2093007.0352187823},{"$f":"FV(Paramètres!$D$24,B54,-D54,,1)-FV(i_p_2,B54,-D54,,1)+(1-PI_1)*'Simulations (3)'!C54*B54","v":-2503090.3635028233},{"$f":"FV(Paramètres!$E$24,B54,-E54,,1)-FV(i_p_3,B54,-E54,,1)+(1-PI_1)*'Simulations (3)'!C54*B54","v":-2953351.0976488404},201372.60324042477,240978.23743625125,280957.57972237375]
[null,53,65600,63632,63632,12034.937257130956,13654.894390770225,15301.551653125576,3476800,3688239.5404975559,3729465.1318270215,3771091.1313754995,{"$f":"FV(Paramètres!$C$24,B55,-D55,,1)-FV(i_p_1,B55,-D55,,1)+(1-PI_1)*'Simulations (3)'!C55*B55","v":-2195283.656201072},{"$f":"FV(Paramètres!$D$24,B55,-D55,,1)-FV(i_p_2,B55,-D55,,1)+(1-PI_1)*'Simulations (3)'!C55*B55","v":-2628130.2493517953},{"$f":"FV(Paramètres!$E$24,B55,-E55,,1)-FV(i_p_3,B55,-E55,,1)+(1-PI_1)*'Simulations (3)'!C55*B55","v":-3104291.4842749937},211439.54049755586,252665.13182702148,294291.13137549954]
[null,54,65600,63632,63632,12282.651119826774,13938.908996807997,15623.136713243412,3542400,3764154.1916173827,3807036.0408238294,3850346.2680887431,{"$f":"FV(Paramètres!$C$24,B56,-D56,,1)-FV(i_p_1,B56,-D56,,1)+(1-PI_1)*'Simulations (3)'!C56*B56","v":-2300875.5143179749},{"$f":"FV(Paramètres!$D$24,B56,-D56,,1)-FV(i_p_2,B56,-D56,,1)+(1-PI_1)*'Simulations (3)'!C56*B56","v":-2757432.172829614},{"$f":"FV(Paramètres!$E$24,B56,-E56,,1)-FV(i_p_3,B56,-E56,,1)+(1-PI_1)*'Simulations (3)'!C56*B56","v":-3260635.6402649875},221754.19161738269,264636.04082382936,307946.26808874309]
[null,55,65600,63632,63632,12531.175933249502,14223.967302389899,15946.03195070314,3608000,3840317.367550632,3884892.0081262193,3929924.3000394464,{"$f":"FV(Paramètres!$C$24,B57,-D57,,1)-FV(i_p_1,B57,-D57,,1)+(1-PI_1)*'Simulations (3)'!C57*B57","v":-2409852.3589537223},{"$f":"FV(Paramètres!$D$24,B57,-D57,,1)-FV(i_p_2,B57,-D57,,1)+(1-PI_1)*'Simulations (3)'!C57*B57","v":-2891096.2508777524},{"$f":"FV(Paramètres!$E$24,B57,-E57,,1)-FV(i_p_3,B57,-E57,,1)+(1-PI_1)*'Simulations (3)'!C57*B57","v":-3422523.6435075281},232317.36755063199,276892.00812621927,321924.30003944645]
[null,56,65600,63632,63632,12780.514352240796,14510.073142912825,16270.242703329428,3673600,3916729.8819028726,3963034.081269132,4009826.5427427758,{"$f":"FV(Paramètres!$C$24,B58,-D58,,1)-FV(i_p_1,B58,-D58,,1)+(1-PI_1)*'Simulations (3)'!C58*B58","v":-2522285.3342076889},{"$f":"FV(Paramètres!$D$24,B58,-D58,,1)-FV(i_p_2,B58,-D58,,1)+(1-PI_1)*'Simulations (3)'!C58*B58","v":-3029224.8476708271},{"$f":"FV(Paramètres!$E$24,B58,-E58,,1)-FV(i_p_3,B58,-E58,,1)+(1-PI_1)*'Simulations (3)'!C58*B58","v":-3590099.0581425955},243129.88190287258,289434.08126913197,336226.54274277575]
[null,57,65600,63632,63632,13030.669040333571,14797.230367868025,16595.774330693905,3739200,3993392.5509432061,4041463.3116370002,4090054.3170734695,{"$f":"FV(Paramètres!$C$24,B59,-D59,,1)-FV(i_p_1,B59,-D59,,1)+(1-PI_1)*'Simulations (3)'!C59*B59","v":-2638247.006559113},{"$f":"FV(Paramètres!$D$24,B59,-D59,,1)-FV(i_p_2,B59,-D59,,1)+(1-PI_1)*'Simulations (3)'!C59*B59","v":-3171922.6246942594},{"$f":"FV(Paramètres!$E$24,B59,-E59,,1)-FV(i_p_3,B59,-E59,,1)+(1-PI_1)*'Simulations (3)'!C59*B59","v":-3763509.0207648063},254192.55094320606,302263.31163700018,350854.31707346952]
[null,58,65600,63632,63632,13281.64266978046,15085.442840892894,16922.632214203757,{"$f":"+I59+C60","v":3804800},4070306.1936129867,4120180.754477893,4170608.9492876735,{"$f":"FV(Paramètres!$C$24,B60,-D60,,1)-FV(i_p_1,B60,-D60,,1)+(1-PI_1)*'Simulations (3)'!C60*B60","v":-2757811.3930797875},{"$f":"FV(Paramètres!$D$24,B60,-D60,,1)-FV(i_p_2,B60,-D60,,1)+(1-PI_1)*'Simulations (3)'!C60*B60","v":-3319296.591936477},{"$f":"FV(Paramètres!$E$24,B60,-E60,,1)-FV(i_p_3,B60,-E60,,1)+(1-PI_1)*'Simulations (3)'!C60*B60","v":-3942904.3287559282},265506.19361298671,315380.754477893,365808.94928767346]
[null,59,65600,63632,63632,13533.437921582354,15374.714439822958,17250.821757190693,{"$f":"+I60+C61","v":3870400},4147471.631534569,4199187.4689177163,4251491.7710448643,{"$f":"FV(Paramètres!$C$24,B61,-D61,,1)-FV(i_p_1,B61,-D61,,1)+(1-PI_1)*'Simulations (3)'!C61*B61","v":-2881053.9902056246},{"$f":"FV(Paramètres!$D$24,B61,-D61,,1)-FV(i_p_2,B61,-D61,,1)+(1-PI_1)*'Simulations (3)'!C61*B61","v":-3471456.1602205541},{"$f":"FV(Paramètres!$E$24,B61,-E61,,1)-FV(i_p_3,B61,-E61,,1)+(1-PI_1)*'Simulations (3)'!C61*B61","v":-4128439.5307992827},277071.63153456897,328787.46891771629,381091.77104486432]
[null,60,65600,63632,63632,13786.057485517038,15665.04905674405,17580.348385000256,3936000,4224889.6890200861,4278484.5179744605,4332704.1194298649,{"$f":"FV(Paramètres!$C$24,B62,-D62,,1)-FV(i_p_1,B62,-D62,,1)+(1-PI_1)*'Simulations (3)'!C62*B62","v":-3008051.8030781904},{"$f":"FV(Paramètres!$D$24,B62,-D62,,1)-FV(i_p_2,B62,-D62,,1)+(1-PI_1)*'Simulations (3)'!C62*B62","v":-3628513.1947006602},{"$f":"FV(Paramètres!$E$24,B62,-E62,,1)-FV(i_p_3,B62,-E62,,1)+(1-PI_1)*'Simulations (3)'!C62*B62","v":-4320273.0196298687},288889.68902008608,342484.5179744605,396704.11942986492]
[6,61,65600,63632,63632,14039.504060167937,15956.450598044676,17911.217545081519,4001600,4302561.1930802539,4358072.9685725048,4414247.3369749468,{"$f":"FV(Paramètres!$C$24,B63,-D63,,1)-FV(i_p_1,B63,-D63,,1)+(1-PI_1)*'Simulations (3)'!C63*B63","v":-3138883.3754673386},{"$f":"FV(Paramètres!$D$24,B63,-D63,,1)-FV(i_p_2,B63,-D63,,1)+(1-PI_1)*'Simulations (3)'!C63*B63","v":-3790582.0695491023},{"$f":"FV(Paramètres!$E$24,B63,-E63,,1)-FV(i_p_3,B63,-E63,,1)+(1-PI_1)*'Simulations (3)'!C63*B63","v":-4518567.1270753611},300961.1930802539,356472.96857250482,412647.33697494678]
[null,62,65600,63632,63632,14293.780352952934,16248.922984468574,18243.434707077151,4067200,4380486.9734332068,4437953.8915569736,4496122.771682024,{"$f":"FV(Paramètres!$C$24,B64,-D64,,1)-FV(i_p_1,B64,-D64,,1)+(1-PI_1)*'Simulations (3)'!C64*B64","v":-3273628.8202867778},{"$f":"FV(Paramètres!$D$24,B64,-D64,,1)-FV(i_p_2,B64,-D64,,1)+(1-PI_1)*'Simulations (3)'!C64*B64","v":-3957779.7238606419},{"$f":"FV(Paramètres!$E$24,B64,-E64,,1)-FV(i_p_3,B64,-E64,,1)+(1-PI_1)*'Simulations (3)'!C64*B64","v":-4723488.2214446552},313286.97343320679,370753.89155697357,428922.771682024]
[null,63,65600,63632,63632,14548.889080153291,16542.470151167472,18577.005362913802,4132800,4458667.8625133596,4518128.3617081409,4578331.7770449379,{"$f":"FV(Paramètres!$C$24,B65,-D65,,1)-FV(i_p_1,B65,-D65,,1)+(1-PI_1)*'Simulations (3)'!C65*B65","v":-3412369.8507139208},{"$f":"FV(Paramètres!$D$24,B65,-D65,,1)-FV(i_p_2,B65,-D65,,1)+(1-PI_1)*'Simulations (3)'!C65*B65","v":-4130225.7188010402},{"$f":"FV(Paramètres!$E$24,B65,-E65,,1)-FV(i_p_3,B65,-E65,,1)+(1-PI_1)*'Simulations (3)'!C65*B65","v":-4935206.8073218493},325867.86251335964,385328.36170814093,445531.77704493795]
[null,64,65600,63632,63632,14804.832966942668,16837.096047754025,18911.935026892923,4198400,4537104.695480302,4598597.4577558953,4660875.7120718304,{"$f":"FV(Paramètres!$C$24,B66,-D66,,1)-FV(i_p_1,B66,-D66,,1)+(1-PI_1)*'Simulations (3)'!C66*B66","v":-3555189.8119262727},{"$f":"FV(Paramètres!$D$24,B66,-D66,,1)-FV(i_p_2,B66,-D66,,1)+(1-PI_1)*'Simulations (3)'!C66*B66","v":-4308042.2960276119},{"$f":"FV(Paramètres!$E$24,B66,-E66,,1)-FV(i_p_3,B66,-E66,,1)+(1-PI_1)*'Simulations (3)'!C66*B66","v":-5153897.6278251382},338704.69548030198,400197.45775589533,462475.71207183041]
[null,65,65600,{"$f":"+C67*PI_1","v":63632},{"$f":"+C67*PI_3","v":63632},15061.614747416237,17132.80463835497,19248.22923578191,4264000,4615798.3102277182,4679362.2623942504,4743755.9413076127,{"$f":"FV(Paramètres!$C$24,B67,-D67,,1)-FV(i_p_1,B67,-D67,,1)+(1-PI_1)*'Simulations (3)'!C67*B67","v":-3702173.7134664431},{"$f":"FV(Paramètres!$D$24,B67,-D67,,1)-FV(i_p_2,B67,-D67,,1)+(1-PI_1)*'Simulations (3)'!C67*B67","v":-4491354.4374099541},{"$f":"FV(Paramètres!$E$24,B67,-E67,,1)-FV(i_p_3,B67,-E67,,1)+(1-PI_1)*'Simulations (3)'!C67*B67","v":-5379739.7693914678},351798.3102277182,415362.26239425037,479755.94130761269]
[null,66,65600,63632,63632,{"$f":"(D68+J67)*(tm_1)","v":15319.23716461989},{"$f":"+tm_2*(D68+K67)","v":17429.599901664442},{"$f":"+tm_3*(E68+L67)","v":19585.893548905638},4329600,{"$f":"(D68+J67)*(1+tm_1)","v":4694749.5473923385},{"$f":"(D68+K67)*(1+tm_2)","v":4760423.8622959144},{"$f":"(E68+L67)*(1+tm_3)","v":4826973.8348565185},{"$f":"FV(Paramètres!$C$24,B68,-D68,,1)-FV(i_p_1,B68,-D68,,1)+(1-PI_1)*'Simulations (3)'!C68*B68","v":-3853408.2622482879},{"$f":"FV(Paramètres!$D$24,B68,-D68,,1)-FV(i_p_2,B68,-D68,,1)+(1-PI_1)*'Simulations (3)'!C68*B68","v":-4680289.9260799596},{"$f":"FV(Paramètres!$E$24,B68,-E68,,1)-FV(i_p_3,B68,-E68,,1)+(1-PI_1)*'Simulations (3)'!C68*B68","v":-5612916.7691492541},365149.54739233851,430823.86229591444,497373.83485651854]
[null,{"$f":"+B68+1","v":67},65600,63632,63632,15577.702970579528,17727.485830997528,19924.933548238354,4395200,4773959.2503629178,4841783.3481269116,4910530.7684047567,{"$f":"FV(Paramètres!$C$24,B69,-D69,,1)-FV(i_p_1,B69,-D69,,1)+(1-PI_1)*'Simulations (3)'!C69*B69","v":-4008981.8962167995},{"$f":"FV(Paramètres!$D$24,B69,-D69,,1)-FV(i_p_2,B69,-D69,,1)+(1-PI_1)*'Simulations (3)'!C69*B69","v":-4874979.4088405911},{"$f":"FV(Paramètres!$E$24,B69,-E69,,1)-FV(i_p_3,B69,-E69,,1)+(1-PI_1)*'Simulations (3)'!C69*B69","v":-5853616.7249432355},{"$f":"+J69-I69","v":378759.25036291778},{"$f":"+K69-I69","v":446583.34812691156},{"$f":"+L69-I69","v":515330.76840475667}]
[null,68,65600,63632,63632,15837.014926330472,18026.466434343984,20265.354838495958,4460800,4853428.265289248,4923441.8145612553,4994428.1232432527,{"$f":"FV(Paramètres!$C$24,B70,-D70,,1)-FV(i_p_1,B70,-D70,,1)+(1-PI_1)*'Simulations (3)'!C70*B70","v":-4168984.8186747907},{"$f":"FV(Paramètres!$D$24,B70,-D70,,1)-FV(i_p_2,B70,-D70,,1)+(1-PI_1)*'Simulations (3)'!C70*B70","v":-5075556.4599636421},{"$f":"FV(Paramètres!$E$24,B70,-E70,,1)-FV(i_p_3,B70,-E70,,1)+(1-PI_1)*'Simulations (3)'!C70*B70","v":-6102032.4080767669},392628.26528924797,462641.81456125528,533628.12324325275]
[null,69,65600,63632,63632,16097.17580194696,18326.545734422169,20607.16304722866,4526400,4933157.4410911947,5005400.3602956776,5078667.2862904817,{"$f":"FV(Paramètres!$C$24,B71,-D71,,1)-FV(i_p_1,B71,-D71,,1)+(1-PI_1)*'Simulations (3)'!C71*B71","v":-4333509.0332895005},{"$f":"FV(Paramètres!$D$24,B71,-D71,,1)-FV(i_p_2,B71,-D71,,1)+(1-PI_1)*'Simulations (3)'!C71*B71","v":-5282157.6464074701},{"$f":"FV(Paramètres!$E$24,B71,-E71,,1)-FV(i_p_3,B71,-E71,,1)+(1-PI_1)*'Simulations (3)'!C71*B71","v":-6358361.3788388697},406757.44109119475,479000.36029567756,552267.28629048169]
[null,70,65600,63632,63632,16358.188376571723,18627.727768733155,20950.363824914006,4592000,5013147.6294677667,5087660.0880644107,5163249.6501153959,{"$f":"FV(Paramètres!$C$24,B72,-D72,,1)-FV(i_p_1,B72,-D72,,1)+(1-PI_1)*'Simulations (3)'!C72*B72","v":-4502648.3797926214},{"$f":"FV(Paramètres!$D$24,B72,-D72,,1)-FV(i_p_2,B72,-D72,,1)+(1-PI_1)*'Simulations (3)'!C72*B72","v":-5494922.5944862161},{"$f":"FV(Paramètres!$E$24,B72,-E72,,1)-FV(i_p_3,B72,-E72,,1)+(1-PI_1)*'Simulations (3)'!C72*B72","v":-6622806.1048845854},421147.62946776673,495660.08806441072,571249.6501153959]
[null,71,{"$f":"Prime_périodique","v":65600},63632,63632,16620.055438445692,18930.016589615072,21294.962845050286,4657600,5093399.6849062126,5170222.1046540262,5248176.6129604466,{"$f":"FV(Paramètres!$C$24,B73,-D73,,1)-FV(i_p_1,B73,-D73,,1)+(1-PI_1)*'Simulations (3)'!C73*B73","v":-4676498.5703874938},{"$f":"FV(Paramètres!$D$24,B73,-D73,,1)-FV(i_p_2,B73,-D73,,1)+(1-PI_1)*'Simulations (3)'!C73*B73","v":-5713994.0580228707},{"$f":"FV(Paramètres!$E$24,B73,-E73,,1)-FV(i_p_3,B73,-E73,,1)+(1-PI_1)*'Simulations (3)'!C73*B73","v":-6895574.082539334},435799.68490621261,512622.10465402622,590576.61296044663]
[null,72,65600,63632,63632,16882.779784937764,19233.416264297615,21640.965804250329,4723200,5173914.46469115,5253087.5209183237,5333449.5787646966,{"$f":"FV(Paramètres!$C$24,B74,-D74,,1)-FV(i_p_1,B74,-D74,,1)+(1-PI_1)*'Simulations (3)'!C74*B74","v":-4855157.2268774388},{"$f":"FV(Paramètres!$D$24,B74,-D74,,1)-FV(i_p_2,B74,-D74,,1)+(1-PI_1)*'Simulations (3)'!C74*B74","v":-5939517.9880191926},{"$f":"FV(Paramètres!$E$24,B74,-E74,,1)-FV(i_p_3,B74,-E74,,1)+(1-PI_1)*'Simulations (3)'!C74*B74","v":-7176877.9610992428},450714.46469115,529887.52091832366,610249.57876469661]
[7,73,65600,63632,63632,17146.364222574699,19537.930874956768,21988.378422335656,4788800,5254692.828913725,5336257.4517932804,5419069.9571870323,{"$f":"FV(Paramètres!$C$24,B75,-D75,,1)-FV(i_p_1,B75,-D75,,1)+(1-PI_1)*'Simulations (3)'!C75*B75","v":-5038723.9185295198},{"$f":"FV(Paramètres!$D$24,B75,-D75,,1)-FV(i_p_2,B75,-D75,,1)+(1-PI_1)*'Simulations (3)'!C75*B75","v":-6171643.6038761893},{"$f":"FV(Paramètres!$E$24,B75,-E75,,1)-FV(i_p_3,B75,-E75,,1)+(1-PI_1)*'Simulations (3)'!C75*B75","v":-7466935.6702016871},465892.82891372498,547457.45179328043,630269.95718703233]
[null,74,65600,63632,63632,17410.811567071098,19843.564518769745,22337.206442431067,4854400,5335735.6404807959,5419733.0163120506,5505039.1636294629,{"$f":"FV(Paramètres!$C$24,B76,-D76,,1)-FV(i_p_1,B76,-D76,,1)+(1-PI_1)*'Simulations (3)'!C76*B76","v":-5227300.2006883305},{"$f":"FV(Paramètres!$D$24,B76,-D76,,1)-FV(i_p_2,B76,-D76,,1)+(1-PI_1)*'Simulations (3)'!C76*B76","v":-6410523.4661997613},{"$f":"FV(Paramètres!$E$24,B76,-E76,,1)-FV(i_p_3,B76,-E76,,1)+(1-PI_1)*'Simulations (3)'!C76*B76","v":-7765970.5503416294},481335.64048079588,565333.01631205063,650639.16362946294]
[null,75,65600,63632,63632,17676.124643359468,20150.321307970094,22687.455631059547,4920000,5417043.7651241552,5503515.3376200208,5591358.6192605225,{"$f":"FV(Paramètres!$C$24,B77,-D77,,1)-FV(i_p_1,B77,-D77,,1)+(1-PI_1)*'Simulations (3)'!C77*B77","v":-5420989.6541546052},{"$f":"FV(Paramètres!$D$24,B77,-D77,,1)-FV(i_p_2,B77,-D77,,1)+(1-PI_1)*'Simulations (3)'!C77*B77","v":-6656313.5512266802},{"$f":"FV(Paramètres!$E$24,B77,-E77,,1)-FV(i_p_3,B77,-E77,,1)+(1-PI_1)*'Simulations (3)'!C77*B77","v":-8074211.4866115954},497043.76512415521,583515.33762002084,671358.61926052254]
[null,76,65600,63632,63632,17942.30628562042,20458.205369903044,23039.131778237625,4985600,5498618.0714097759,5587605.5429899236,5678029.7510387599,{"$f":"FV(Paramètres!$C$24,B78,-D78,,1)-FV(i_p_1,B78,-D78,,1)+(1-PI_1)*'Simulations (3)'!C78*B78","v":-5619897.9253438953},{"$f":"FV(Paramètres!$D$24,B78,-D78,,1)-FV(i_p_2,B78,-D78,,1)+(1-PI_1)*'Simulations (3)'!C78*B78","v":-6909173.3269070275},{"$f":"FV(Paramètres!$E$24,B78,-E78,,1)-FV(i_p_3,B78,-E78,,1)+(1-PI_1)*'Simulations (3)'!C78*B78","v":-8391893.0457448419},513018.07140977588,602005.54298992362,692429.75103875995]
[null,77,65600,63632,63632,18209.359337312937,20767.220847081026,23392.240697571062,5051200,5580459.430747089,5672004.763837005,5765053.991736331,{"$f":"FV(Paramètres!$C$24,B79,-D79,,1)-FV(i_p_1,B79,-D79,,1)+(1-PI_1)*'Simulations (3)'!C79*B79","v":-5824132.7672406137},{"$f":"FV(Paramètres!$D$24,B79,-D79,,1)-FV(i_p_2,B79,-D79,,1)+(1-PI_1)*'Simulations (3)'!C79*B79","v":-7169265.8306799093},{"$f":"FV(Paramètres!$E$24,B79,-E79,,1)-FV(i_p_3,B79,-E79,,1)+(1-PI_1)*'Simulations (3)'!C79*B79","v":-8719255.6165433489},529259.43074708898,620804.76383700501,713853.99173633102]
[null,78,65600,63632,63632,18477.286651204733,21077.371897239427,23746.788226350978,5116800,5662568.7173982933,5756714.1357342442,5852432.7799626822,{"$f":"FV(Paramètres!$C$24,B80,-D80,,1)-FV(i_p_1,B80,-D80,,1)+(1-PI_1)*'Simulations (3)'!C80*B80","v":-6033804.0811633095},{"$f":"FV(Paramètres!$D$24,B80,-D80,,1)-FV(i_p_2,B80,-D80,,1)+(1-PI_1)*'Simulations (3)'!C80*B80","v":-7436757.7489801832},{"$f":"FV(Paramètres!$E$24,B80,-E80,,1)-FV(i_p_3,B80,-E80,,1)+(1-PI_1)*'Simulations (3)'!C80*B80","v":-9056545.5537740625},545768.71739829332,639914.13573424425,735632.77996268217]
[null,79,65600,63632,63632,18746.091089402758,21388.662693392504,24102.780225650327,5182400,5744946.8084876956,5841734.7984276367,5940167.5601883326,{"$f":"FV(Paramètres!$C$24,B81,-D81,,1)-FV(i_p_1,B81,-D81,,1)+(1-PI_1)*'Simulations (3)'!C81*B81","v":-6249023.9593572998},{"$f":"FV(Paramètres!$D$24,B81,-D81,,1)-FV(i_p_2,B81,-D81,,1)+(1-PI_1)*'Simulations (3)'!C81*B81","v":-7711819.4985146411},{"$f":"FV(Paramètres!$E$24,B81,-E81,,1)-FV(i_p_3,B81,-E81,,1)+(1-PI_1)*'Simulations (3)'!C81*B81","v":-9404015.3256192915},562546.80848769564,659334.79842763674,757767.56018833257]
[null,80,65600,63632,63632,19015.775523383738,21701.097423889554,24460.22258042081,5248000,5827594.5840110797,5927067.8958515264,6028259.7827687534,{"$f":"FV(Paramètres!$C$24,B82,-D82,,1)-FV(i_p_1,B82,-D82,,1)+(1-PI_1)*'Simulations (3)'!C82*B82","v":-6469906.7284307787},{"$f":"FV(Paramètres!$D$24,B82,-D82,,1)-FV(i_p_2,B82,-D82,,1)+(1-PI_1)*'Simulations (3)'!C82*B82","v":-7994625.3093471518},{"$f":"FV(Paramètres!$E$24,B82,-E82,,1)-FV(i_p_3,B82,-E82,,1)+(1-PI_1)*'Simulations (3)'!C82*B82","v":-9761923.6647687852},579594.58401107974,679067.89585152641,780259.78276875336]
[null,81,65600,63632,63632,19286.342834024887,22014.680292471257,24819.121199590147,5313600,5910512.9268451044,6012714.5761439977,6116710.9039683435,{"$f":"FV(Paramètres!$C$24,B83,-D83,,1)-FV(i_p_1,B83,-D83,,1)+(1-PI_1)*'Simulations (3)'!C83*B83","v":-6696568.9936514767},{"$f":"FV(Paramètres!$D$24,B83,-D83,,1)-FV(i_p_2,B83,-D83,,1)+(1-PI_1)*'Simulations (3)'!C83*B83","v":-8285353.3098328002},{"$f":"FV(Paramètres!$E$24,B83,-E83,,1)-FV(i_p_3,B83,-E83,,1)+(1-PI_1)*'Simulations (3)'!C83*B83","v":-10130535.72324362},596912.92684510443,699114.57614399772,803110.90396834351]
[null,82,65600,63632,63632,19557.795911634643,22329.415518326241,25179.48201615976,5379200,5993702.7227567388,6098675.9916623244,6205522.3859845037,{"$f":"FV(Paramètres!$C$24,B84,-D84,,1)-FV(i_p_1,B84,-D84,,1)+(1-PI_1)*'Simulations (3)'!C84*B84","v":-6929129.6841205824},{"$f":"FV(Paramètres!$D$24,B84,-D84,,1)-FV(i_p_2,B84,-D84,,1)+(1-PI_1)*'Simulations (3)'!C84*B84","v":-8584185.6134424023},{"$f":"FV(Paramètres!$E$24,B84,-E84,,1)-FV(i_p_3,B84,-E84,,1)+(1-PI_1)*'Simulations (3)'!C84*B84","v":-10510123.231043873},614502.72275673877,719475.99166232441,826322.38598450366]
[null,83,65600,63632,63632,19830.13765598357,22645.307336147845,25541.310987302855,5444800,6077164.8604127225,6184953.2989984723,6294695.6969718067,{"$f":"FV(Paramètres!$C$24,B85,-D85,,1)-FV(i_p_1,B85,-D85,,1)+(1-PI_1)*'Simulations (3)'!C85*B85","v":-7167710.0988415079},{"$f":"FV(Paramètres!$D$24,B85,-D85,,1)-FV(i_p_2,B85,-D85,,1)+(1-PI_1)*'Simulations (3)'!C85*B85","v":-8891308.4075193889},{"$f":"FV(Paramètres!$E$24,B85,-E85,,1)-FV(i_p_3,B85,-E85,,1)+(1-PI_1)*'Simulations (3)'!C85*B85","v":-10900964.658714715},632364.86041272245,740153.29899847228,849895.6969718067]
[null,84,65600,63632,63632,20103.370976335325,22962.359996191099,25904.614094462897,5510400,6160900.2313890578,6271547.6589946635,6384232.3110662699,{"$f":"FV(Paramètres!$C$24,B86,-D86,,1)-FV(i_p_1,B86,-D86,,1)+(1-PI_1)*'Simulations (3)'!C86*B86","v":-7412433.9537011394},{"$f":"FV(Paramètres!$D$24,B86,-D86,,1)-FV(i_p_2,B86,-D86,,1)+(1-PI_1)*'Simulations (3)'!C86*B86","v":-9206912.0440118872},{"$f":"FV(Paramètres!$E$24,B86,-E86,,1)-FV(i_p_3,B86,-E86,,1)+(1-PI_1)*'Simulations (3)'!C86*B86","v":-11303345.383927485},650500.23138905782,761147.65899466351,873832.31106626987]
[8,85,65600,63632,63632,20377.498791477738,23280.577764329915,26269.397343452496,5576000,6244909.7301805355,6358460.236758993,6474133.708409722,{"$f":"FV(Paramètres!$C$24,B87,-D87,,1)-FV(i_p_1,B87,-D87,,1)+(1-PI_1)*'Simulations (3)'!C87*B87","v":-7663427.4293816593},{"$f":"FV(Paramètres!$D$24,B87,-D87,,1)-FV(i_p_2,B87,-D87,,1)+(1-PI_1)*'Simulations (3)'!C87*B87","v":-9531191.1322242841},{"$f":"FV(Paramètres!$E$24,B87,-E87,,1)-FV(i_p_3,B87,-E87,,1)+(1-PI_1)*'Simulations (3)'!C87*B87","v":-11717557.862175087},668909.73018053547,782460.23675899301,898133.70840972196]
[null,86,65600,63632,63632,20652.524029753989,23599.964922114472,26635.666764552676,5641600,6329194.2542102896,6445692.2016811073,6564401.3751742747,{"$f":"FV(Paramètres!$C$24,B88,-D88,,1)-FV(i_p_1,B88,-D88,,1)+(1-PI_1)*'Simulations (3)'!C88*B88","v":-7920819.2202213053},{"$f":"FV(Paramètres!$D$24,B88,-D88,,1)-FV(i_p_2,B88,-D88,,1)+(1-PI_1)*'Simulations (3)'!C88*B88","v":-9864344.6336328425},{"$f":"FV(Paramètres!$E$24,B88,-E88,,1)-FV(i_p_3,B88,-E88,,1)+(1-PI_1)*'Simulations (3)'!C88*B88","v":-12143901.801683124},687594.25421028957,804092.20168110728,922801.37517427467]
[null,87,65600,63632,63632,20928.449629093895,23920.525766828836,27003.428412612582,5707200,6413754.7038393831,6533244.7274479363,6655036.8035868872,{"$f":"FV(Paramètres!$C$24,B89,-D89,,1)-FV(i_p_1,B89,-D89,,1)+(1-PI_1)*'Simulations (3)'!C89*B89","v":-8184740.5840430744},{"$f":"FV(Paramètres!$D$24,B89,-D89,,1)-FV(i_p_2,B89,-D89,,1)+(1-PI_1)*'Simulations (3)'!C89*B89","v":-10206575.958811689},{"$f":"FV(Paramètres!$E$24,B89,-E89,,1)-FV(i_p_3,B89,-E89,,1)+(1-PI_1)*'Simulations (3)'!C89*B89","v":-12582684.342641126},706554.70383938309,826044.72744793631,947836.8035868872]
[null,88,65600,63632,63632,21205.278537045288,24242.26461154877,27372.688367149563,5772800,6498591.9823764283,6621118.9920594851,6746041.491954037,{"$f":"FV(Paramètres!$C$24,B90,-D90,,1)-FV(i_p_1,B90,-D90,,1)+(1-PI_1)*'Simulations (3)'!C90*B90","v":-8455325.3929702193},{"$f":"FV(Paramètres!$D$24,B90,-D90,,1)-FV(i_p_2,B90,-D90,,1)+(1-PI_1)*'Simulations (3)'!C90*B90","v":-10558093.066515708},{"$f":"FV(Paramètres!$E$24,B90,-E90,,1)-FV(i_p_3,B90,-E90,,1)+(1-PI_1)*'Simulations (3)'!C90*B90","v":-13034220.240860198},725791.98237642832,848318.99205948506,973241.49195403699]
[null,89,65600,63632,63632,21483.013710805502,24565.185785199763,27743.452732449678,5838400,6583706.9960872335,6709316.1778446846,6837416.9446864864,{"$f":"FV(Paramètres!$C$24,B91,-D91,,1)-FV(i_p_1,B91,-D91,,1)+(1-PI_1)*'Simulations (3)'!C91*B91","v":-8732710.1852483172},{"$f":"FV(Paramètres!$D$24,B91,-D91,,1)-FV(i_p_2,B91,-D91,,1)+(1-PI_1)*'Simulations (3)'!C91*B91","v":-10919108.564968735},{"$f":"FV(Paramètres!$E$24,B91,-E91,,1)-FV(i_p_3,B91,-E91,,1)+(1-PI_1)*'Simulations (3)'!C91*B91","v":-13498832.055966873},745306.99608723354,870916.17784468457,999016.94468648639]
[null,90,65600,63632,63632,21761.65811725297,24889.293632615292,28115.727637668584,5904000,6669100.6542044869,6797837.4714772999,6929164.6723241545,{"$f":"FV(Paramètres!$C$24,B92,-D92,,1)-FV(i_p_1,B92,-D92,,1)+(1-PI_1)*'Simulations (3)'!C92*B92","v":-9017034.2180938143},{"$f":"FV(Paramètres!$D$24,B92,-D92,,1)-FV(i_p_2,B92,-D92,,1)+(1-PI_1)*'Simulations (3)'!C92*B92","v":-11289839.815405887},{"$f":"FV(Paramètres!$E$24,B92,-E92,,1)-FV(i_p_3,B92,-E92,,1)+(1-PI_1)*'Simulations (3)'!C92*B92","v":-13976850.344244752},765100.65420448687,893837.47147729993,1025164.6723241545]
[null,91,65600,63632,63632,22041.214732978915,25214.592514595257,28489.519236932902,5969600,6754773.8689374654,6886684.0639918949,7021286.191561087,{"$f":"FV(Paramètres!$C$24,B93,-D93,,1)-FV(i_p_1,B93,-D93,,1)+(1-PI_1)*'Simulations (3)'!C93*B93","v":-9308439.5215892904},{"$f":"FV(Paramètres!$D$24,B93,-D93,,1)-FV(i_p_2,B93,-D93,,1)+(1-PI_1)*'Simulations (3)'!C93*B93","v":-11670509.037920229},{"$f":"FV(Paramètres!$E$24,B93,-E93,,1)-FV(i_p_3,B93,-E93,,1)+(1-PI_1)*'Simulations (3)'!C93*B93","v":-14468613.856238911},785173.86893746536,917084.06399189495,1051686.191561087]
[null,92,65600,63632,63632,22321.686544319138,25541.086807964672,28864.833709441908,6035200,6840727.555481784,6975857.1507998593,7113783.0252705291,{"$f":"FV(Paramètres!$C$24,B94,-D94,,1)-FV(i_p_1,B94,-D94,,1)+(1-PI_1)*'Simulations (3)'!C94*B94","v":-9607070.953646237},{"$f":"FV(Paramètres!$D$24,B94,-D94,,1)-FV(i_p_2,B94,-D94,,1)+(1-PI_1)*'Simulations (3)'!C94*B94","v":-12061343.419665173},{"$f":"FV(Paramètres!$E$24,B94,-E94,,1)-FV(i_p_3,B94,-E94,,1)+(1-PI_1)*'Simulations (3)'!C94*B94","v":-14974469.73924078},805527.55548178405,940657.15079985932,1078583.0252705291]
[null,93,65600,63632,63632,22603.076547385928,25868.780905632553,29241.677259569711,6100800,6926962.6320291702,7065357.9317054916,7206656.7025300991,{"$f":"FV(Paramètres!$C$24,B95,-D95,,1)-FV(i_p_1,B95,-D95,,1)+(1-PI_1)*'Simulations (3)'!C95*B95","v":-9913076.2560564466},{"$f":"FV(Paramètres!$D$24,B95,-D95,,1)-FV(i_p_2,B95,-D95,,1)+(1-PI_1)*'Simulations (3)'!C95*B95","v":-12462575.225464795},{"$f":"FV(Paramètres!$E$24,B95,-E95,,1)-FV(i_p_3,B95,-E95,,1)+(1-PI_1)*'Simulations (3)'!C95*B95","v":-15494773.744773861},826162.63202917017,964557.93170549162,1105856.7025300991]
[null,94,65600,63632,63632,22885.387748100075,26197.679216651009,29620.056116967808,6166400,7013480.01977727,7155187.6109221429,7299908.7586470665,{"$f":"FV(Paramètres!$C$24,B96,-D96,,1)-FV(i_p_1,B96,-D96,,1)+(1-PI_1)*'Simulations (3)'!C96*B96","v":-10226606.111653652},{"$f":"FV(Paramètres!$D$24,B96,-D96,,1)-FV(i_p_2,B96,-D96,,1)+(1-PI_1)*'Simulations (3)'!C96*B96","v":-12874441.910885934},{"$f":"FV(Paramètres!$E$24,B96,-E96,,1)-FV(i_p_3,B96,-E96,,1)+(1-PI_1)*'Simulations (3)'!C96*B96","v":-16029890.441203769},847080.01977727003,988787.61092214286,1133508.7586470665]
[null,95,65600,63632,63632,23168.623162222961,26527.786166274585,29999.976536668055,6232000,7100280.6429394931,7245347.3970884178,7393540.7351837344,{"$f":"FV(Paramètres!$C$24,B97,-D97,,1)-FV(i_p_1,B97,-D97,,1)+(1-PI_1)*'Simulations (3)'!C97*B97","v":-10547814.202607326},{"$f":"FV(Paramètres!$D$24,B97,-D97,,1)-FV(i_p_2,B97,-D97,,1)+(1-PI_1)*'Simulations (3)'!C97*B97","v":-13297186.237826638},{"$f":"FV(Paramètres!$E$24,B97,-E97,,1)-FV(i_p_3,B97,-E97,,1)+(1-PI_1)*'Simulations (3)'!C97*B97","v":-16580193.431599386},868280.64293949306,1013347.3970884178,1161540.7351837344]
[null,96,65600,63632,63632,23452.785815388786,26859.106196019788,30381.444799186098,6297600,7187365.428754882,7335838.5032844376,7487554.1799829202,{"$f":"FV(Paramètres!$C$24,B98,-D98,,1)-FV(i_p_1,B98,-D98,,1)+(1-PI_1)*'Simulations (3)'!C98*B98","v":-10876857.269871065},{"$f":"FV(Paramètres!$D$24,B98,-D98,,1)-FV(i_p_2,B98,-D98,,1)+(1-PI_1)*'Simulations (3)'!C98*B98","v":-13731056.392677097},{"$f":"FV(Paramètres!$E$24,B98,-E98,,1)-FV(i_p_3,B98,-E98,,1)+(1-PI_1)*'Simulations (3)'!C98*B98","v":-17146065.576974422},889765.42875488196,1038238.5032844376,1189954.1799829202]
[9,97,65600,{"$f":"+C99*PI_1","v":63632},63632,23737.878743136895,27191.643763724853,30764.467210625171,6363200,7274735.3074980192,7426662.1470481623,7581950.6471935455,{"$f":"FV(Paramètres!$C$24,B99,-D99,,1)-FV(i_p_1,B99,-D99,,1)+(1-PI_1)*'Simulations (3)'!C99*B99","v":-11213895.173808469},{"$f":"FV(Paramètres!$D$24,B99,-D99,,1)-FV(i_p_2,B99,-D99,,1)+(1-PI_1)*'Simulations (3)'!C99*B99","v":-14176306.107110169},{"$f":"FV(Paramètres!$E$24,B99,-E99,,1)-FV(i_p_3,B99,-E99,,1)+(1-PI_1)*'Simulations (3)'!C99*B99","v":-17727899.225042678},911535.30749801919,1063462.1470481623,1218750.6471935455]
[null,98,65600,63632,63632,24023.9049909442,27525.403343609716,31149.050102780362,6428800,7362391.2124889633,7517819.5503917718,7676731.697296326,{"$f":"FV(Paramètres!$C$24,B100,-D100,,1)-FV(i_p_1,B100,-D100,,1)+(1-PI_1)*'Simulations (3)'!C100*B100","v":-11559090.956019819},{"$f":"FV(Paramètres!$D$24,B100,-D100,,1)-FV(i_p_2,B100,-D100,,1)+(1-PI_1)*'Simulations (3)'!C100*B100","v":-14633194.781560143},{"$f":"FV(Paramètres!$E$24,B100,-E100,,1)-FV(i_p_3,B100,-E100,,1)+(1-PI_1)*'Simulations (3)'!C100*B100","v":-18326096.444622837},933591.21248896327,1089019.5503917718,1247931.697296326]
[null,99,65600,63632,63632,24310.867614257702,27860.389426336224,31535.199833243267,6494400,7450334.0801032213,7609311.9398181085,7771898.8971295692,{"$f":"FV(Paramètres!$C$24,B101,-D101,,1)-FV(i_p_1,B101,-D101,,1)+(1-PI_1)*'Simulations (3)'!C101*B101","v":-11912610.902393311},{"$f":"FV(Paramètres!$D$24,B101,-D101,,1)-FV(i_p_2,B101,-D101,,1)+(1-PI_1)*'Simulations (3)'!C101*B101","v":-15101987.611449465},{"$f":"FV(Paramètres!$E$24,B101,-E101,,1)-FV(i_p_3,B101,-E101,,1)+(1-PI_1)*'Simulations (3)'!C101*B101","v":-18941069.265832432},955934.08010322135,1114911.9398181085,1277498.8971295692]
[null,100,65600,63632,63632,24598.769678527151,28196.606519068555,31922.922785507097,6560000,7538564.8497817488,7701140.546337177,7867453.8199150767,{"$f":"FV(Paramètres!$C$24,B102,-D102,,1)-FV(i_p_1,B102,-D102,,1)+(1-PI_1)*'Simulations (3)'!C102*B102","v":-12274624.607405171},{"$f":"FV(Paramètres!$D$24,B102,-D102,,1)-FV(i_p_2,B102,-D102,,1)+(1-PI_1)*'Simulations (3)'!C102*B102","v":-15582955.716224682},{"$f":"FV(Paramètres!$E$24,B102,-E102,,1)-FV(i_p_3,B102,-E102,,1)+(1-PI_1)*'Simulations (3)'!C102*B102","v":-19573239.926214006},978564.84978174884,1141140.546337177,1307453.8199150767]
[null,101,65600,63632,63632,24887.614259237776,28534.059145533847,32312.225369072217,6625600,7627084.4640409863,7793306.6054827105,7963398.0452841492,{"$f":"FV(Paramètres!$C$24,B103,-D103,,1)-FV(i_p_1,B103,-D103,,1)+(1-PI_1)*'Simulations (3)'!C103*B103","v":-12645305.039693203},{"$f":"FV(Paramètres!$D$24,B103,-D103,,1)-FV(i_p_2,B103,-D103,,1)+(1-PI_1)*'Simulations (3)'!C103*B103","v":-16076376.271264017},{"$f":"FV(Paramètres!$E$24,B103,-E103,,1)-FV(i_p_3,B103,-E103,,1)+(1-PI_1)*'Simulations (3)'!C103*B103","v":-20223041.122939922},1001484.4640409863,1167706.6054827105,1337798.0452841492]
[null,102,65600,63632,63632,25177.404441943145,28872.751846083072,32703.114019552071,6691200,7715893.8684829297,7885811.357328794,8059733.1593037015,{"$f":"FV(Paramètres!$C$24,B104,-D104,,1)-FV(i_p_1,B104,-D104,,1)+(1-PI_1)*'Simulations (3)'!C104*B104","v":-13024828.60892925},{"$f":"FV(Paramètres!$D$24,B104,-D104,,1)-FV(i_p_2,B104,-D104,,1)+(1-PI_1)*'Simulations (3)'!C104*B104","v":-16582532.642720453},{"$f":"FV(Paramètres!$E$24,B104,-E104,,1)-FV(i_p_3,B104,-E104,,1)+(1-PI_1)*'Simulations (3)'!C104*B104","v":-20890916.271245807},1024693.8684829297,1194611.357328794,1368533.1593037015]
[null,103,65600,63632,63632,25468.143322298129,29212.689177752138,33095.595198779607,6756800,7804994.011805228,7978656.0465065464,8156460.7545024808,{"$f":"FV(Paramètres!$C$24,B105,-D105,,1)-FV(i_p_1,B105,-D105,,1)+(1-PI_1)*'Simulations (3)'!C105*B105","v":-13413375.234016107},{"$f":"FV(Paramètres!$D$24,B105,-D105,,1)-FV(i_p_2,B105,-D105,,1)+(1-PI_1)*'Simulations (3)'!C105*B105","v":-17101714.525365882},{"$f":"FV(Paramètres!$E$24,B105,-E105,,1)-FV(i_p_3,B105,-E105,,1)+(1-PI_1)*'Simulations (3)'!C105*B105","v":-21577319.769246761},1048194.011805228,1221856.0465065464,1399660.7545024808]
[null,104,65600,63632,63632,25759.834006091962,29553.875714323178,33489.675394914062,6822400,7894385.8458113195,8071841.9222208699,8253582.429897395,{"$f":"FV(Paramètres!$C$24,B106,-D106,,1)-FV(i_p_1,B106,-D106,,1)+(1-PI_1)*'Simulations (3)'!C106*B106","v":-13811128.412635136},{"$f":"FV(Paramètres!$D$24,B106,-D106,,1)-FV(i_p_2,B106,-D106,,1)+(1-PI_1)*'Simulations (3)'!C106*B106","v":-17634218.083502706},{"$f":"FV(Paramètres!$E$24,B106,-E106,,1)-FV(i_p_3,B106,-E106,,1)+(1-PI_1)*'Simulations (3)'!C106*B106","v":-22282717.269293554},1071985.8458113195,1249441.9222208699,1431182.429897395]
[null,105,65600,63632,63632,26052.479609281425,29896.316046386117,33885.36112254826,6888000,7984070.3254206013,8165370.2382672559,8351099.7910199435,{"$f":"FV(Paramètres!$C$24,B107,-D107,,1)-FV(i_p_1,B107,-D107,,1)+(1-PI_1)*'Simulations (3)'!C107*B107","v":-14218275.292171385},{"$f":"FV(Paramètres!$D$24,B107,-D107,,1)-FV(i_p_2,B107,-D107,,1)+(1-PI_1)*'Simulations (3)'!C107*B107","v":-18180346.095011543},{"$f":"FV(Paramètres!$E$24,B107,-E107,,1)-FV(i_p_3,B107,-E107,,1)+(1-PI_1)*'Simulations (3)'!C107*B107","v":-23007585.956030712},1096070.3254206013,1277370.2382672559,1463099.7910199435]
[null,106,65600,63632,63632,26346.083258024137,30240.014781400405,34282.658922816256,6953600,8074048.4086786257,8259242.2530486565,8449014.4499427583,{"$f":"FV(Paramètres!$C$24,B108,-D108,,1)-FV(i_p_1,B108,-D108,,1)+(1-PI_1)*'Simulations (3)'!C108*B108","v":-14635006.742043484},{"$f":"FV(Paramètres!$D$24,B108,-D108,,1)-FV(i_p_2,B108,-D108,,1)+(1-PI_1)*'Simulations (3)'!C108*B108","v":-18740408.098604593},{"$f":"FV(Paramètres!$E$24,B108,-E108,,1)-FV(i_p_3,B108,-E108,,1)+(1-PI_1)*'Simulations (3)'!C108*B108","v":-23752414.831321701},1120448.4086786257,1305642.2530486565,1495414.4499427583]
[null,107,65600,63632,63632,26640.648088711936,30584.976543757042,34681.575363501513,7019200,8164321.056767338,8353459.2295924136,8547328.0253062602,{"$f":"FV(Paramètres!$C$24,B109,-D109,,1)-FV(i_p_1,B109,-D109,,1)+(1-PI_1)*'Simulations (3)'!C109*B109","v":-15061517.427466113},{"$f":"FV(Paramètres!$D$24,B109,-D109,,1)-FV(i_p_2,B109,-D109,,1)+(1-PI_1)*'Simulations (3)'!C109*B109","v":-19314720.544356037},{"$f":"FV(Paramètres!$E$24,B109,-E109,,1)-FV(i_p_3,B109,-E109,,1)+(1-PI_1)*'Simulations (3)'!C109*B109","v":-24517705.006210901},1145121.056767338,1334259.2295924136,1528128.0253062602]
[null,108,65600,63632,63632,26936.177248004398,30931.205974840774,35082.117039145465,7084800,8254889.2340153428,8448022.4355672542,8646042.1423454061,{"$f":"FV(Paramètres!$C$24,B110,-D110,,1)-FV(i_p_1,B110,-D110,,1)+(1-PI_1)*'Simulations (3)'!C110*B110","v":-15498005.884673428},{"$f":"FV(Paramètres!$D$24,B110,-D110,,1)-FV(i_p_2,B110,-D110,,1)+(1-PI_1)*'Simulations (3)'!C110*B110","v":-19903606.947582491},{"$f":"FV(Paramètres!$E$24,B110,-E110,,1)-FV(i_p_3,B110,-E110,,1)+(1-PI_1)*'Simulations (3)'!C110*B110","v":-25303970.000096239},1170089.2340153428,1363222.4355672542,1561242.1423454061]
[10,109,65600,{"$f":"+C111*PI_2","v":63632},63632,27232.673892862433,31278.707733092568,35484.290571156496,7150400,8345753.9079082049,8542933.143300347,8745158.432916563,{"$f":"FV(Paramètres!$C$24,B111,-D111,,1)-FV(i_p_1,B111,-D111,,1)+(1-PI_1)*'Simulations (3)'!C111*B111","v":-15944674.597632378},{"$f":"FV(Paramètres!$D$24,B111,-D111,,1)-FV(i_p_2,B111,-D111,,1)+(1-PI_1)*'Simulations (3)'!C111*B111","v":-20507398.04614789},{"$f":"FV(Paramètres!$E$24,B111,-E111,,1)-FV(i_p_3,B111,-E111,,1)+(1-PI_1)*'Simulations (3)'!C111*B111","v":-26111736.047290415},1195353.9079082049,1392533.143300347,1594758.432916563]
[null,110,65600,63632,63632,27530.141190582028,31627.486494072251,35888.102607919449,7216000,8436916.0490987878,8638192.6297944188,8844678.5355244819,{"$f":"FV(Paramètres!$C$24,B112,-D112,,1)-FV(i_p_1,B112,-D112,,1)+(1-PI_1)*'Simulations (3)'!C112*B112","v":-16401730.076275319},{"$f":"FV(Paramètres!$D$24,B112,-D112,,1)-FV(i_p_2,B112,-D112,,1)+(1-PI_1)*'Simulations (3)'!C112*B112","v":-21126431.961269177},{"$f":"FV(Paramètres!$E$24,B112,-E112,,1)-FV(i_p_3,B112,-E112,,1)+(1-PI_1)*'Simulations (3)'!C112*B112","v":-26941542.411153205},1220916.0490987878,1422192.6297944188,1628678.5355244819]
[null,111,65600,63632,63632,27828.582318828074,31977.546950521453,36293.559824905489,7281600,8528376.6314176153,8733802.1767449398,8944604.0953493882,{"$f":"FV(Paramètres!$C$24,B113,-D113,,1)-FV(i_p_1,B113,-D113,,1)+(1-PI_1)*'Simulations (3)'!C113*B113","v":-16869382.936282374},{"$f":"FV(Paramètres!$D$24,B113,-D113,,1)-FV(i_p_2,B113,-D113,,1)+(1-PI_1)*'Simulations (3)'!C113*B113","v":-21761054.361900568},{"$f":"FV(Paramètres!$E$24,B113,-E113,,1)-FV(i_p_3,B113,-E113,,1)+(1-PI_1)*'Simulations (3)'!C113*B113","v":-27793941.70598191},1246776.6314176153,1452202.1767449398,1663004.0953493882]
[null,112,65600,63632,63632,28128.000465668298,32328.893812426737,36700.66892478252,7347200,8620136.6318832841,8829763.0705573671,9044936.7642741706,{"$f":"FV(Paramètres!$C$24,B114,-D114,,1)-FV(i_p_1,B114,-D114,,1)+(1-PI_1)*'Simulations (3)'!C114*B114","v":-17347847.980443578},{"$f":"FV(Paramètres!$D$24,B114,-D114,,1)-FV(i_p_2,B114,-D114,,1)+(1-PI_1)*'Simulations (3)'!C114*B114","v":-22411618.632776193},{"$f":"FV(Paramètres!$E$24,B114,-E114,,1)-FV(i_p_3,B114,-E114,,1)+(1-PI_1)*'Simulations (3)'!C114*B114","v":-28669500.226851366},1272936.6318832841,1482563.0705573671,1697736.7642741706]
[null,113,65600,63632,63632,28428.398829607348,32681.531807082967,37109.436637525891,7412800,8712197.0307128914,8926076.6023644507,9145678.200911697,{"$f":"FV(Paramètres!$C$24,B115,-D115,,1)-FV(i_p_1,B115,-D115,,1)+(1-PI_1)*'Simulations (3)'!C115*B115","v":-17837344.281632885},{"$f":"FV(Paramètres!$D$24,B115,-D115,,1)-FV(i_p_2,B115,-D115,,1)+(1-PI_1)*'Simulations (3)'!C115*B115","v":-23078486.046192225},{"$f":"FV(Paramètres!$E$24,B115,-E115,,1)-FV(i_p_3,B115,-E115,,1)+(1-PI_1)*'Simulations (3)'!C115*B115","v":-29568798.28760013},1299397.0307128914,1513276.6023644507,1732878.200911697]
[null,114,65600,63632,63632,28729.780619620931,33035.465679156914,37519.869720529743,7478400,8804558.8113325126,9022744.0680436082,9246830.0706322268,{"$f":"FV(Paramètres!$C$24,B116,-D116,,1)-FV(i_p_1,B116,-D116,,1)+(1-PI_1)*'Simulations (3)'!C116*B116","v":-18338095.26742522},{"$f":"FV(Paramètres!$D$24,B116,-D116,,1)-FV(i_p_2,B116,-D116,,1)+(1-PI_1)*'Simulations (3)'!C116*B116","v":-23762025.937612068},{"$f":"FV(Paramètres!$E$24,B116,-E116,,1)-FV(i_p_3,B116,-E116,,1)+(1-PI_1)*'Simulations (3)'!C116*B116","v":-30492430.567163561},1326158.8113325126,1544344.0680436082,1768430.0706322268]
[null,115,65600,63632,63632,29032.149055190115,33390.700190751086,37931.974958718652,7544000,8897222.960387703,9119766.7682343591,9348394.0455909446,{"$f":"FV(Paramètres!$C$24,B117,-D117,,1)-FV(i_p_1,B117,-D117,,1)+(1-PI_1)*'Simulations (3)'!C117*B117","v":-18850328.806389693},{"$f":"FV(Paramètres!$D$24,B117,-D117,,1)-FV(i_p_2,B117,-D117,,1)+(1-PI_1)*'Simulations (3)'!C117*B117","v":-24462615.885179471},{"$f":"FV(Paramètres!$E$24,B117,-E117,,1)-FV(i_p_3,B117,-E117,,1)+(1-PI_1)*'Simulations (3)'!C117*B117","v":-31441006.464460433},1353222.960387703,1575766.7682343591,1804394.0455909446]
[null,116,65600,63632,63632,29335.5073663357,33747.240121467825,38345.75916465983,7609600,8990190.4677540381,9217146.0083558261,9450371.8047556039,{"$f":"FV(Paramètres!$C$24,B118,-D118,,1)-FV(i_p_1,B118,-D118,,1)+(1-PI_1)*'Simulations (3)'!C118*B118","v":-19374277.296091788},{"$f":"FV(Paramètres!$D$24,B118,-D118,,1)-FV(i_p_2,B118,-D118,,1)+(1-PI_1)*'Simulations (3)'!C118*B118","v":-25180641.89322646},{"$f":"FV(Paramètres!$E$24,B118,-E118,,1)-FV(i_p_3,B118,-E118,,1)+(1-PI_1)*'Simulations (3)'!C118*B118","v":-32415150.462043937},1380590.4677540381,1607546.0083558261,1840771.8047556039]
[null,117,65600,63632,63632,29639.858793652744,34105.090268473592,38761.229178675734,7675200,9083462.3265476916,9314883.0986243002,9552765.0339342803,{"$f":"FV(Paramètres!$C$24,B119,-D119,,1)-FV(i_p_1,B119,-D119,,1)+(1-PI_1)*'Simulations (3)'!C119*B119","v":-19910177.752838589},{"$f":"FV(Paramètres!$D$24,B119,-D119,,1)-FV(i_p_2,B119,-D119,,1)+(1-PI_1)*'Simulations (3)'!C119*B119","v":-25916498.579865262},{"$f":"FV(Paramètres!$E$24,B119,-E119,,1)-FV(i_p_3,B119,-E119,,1)+(1-PI_1)*'Simulations (3)'!C119*B119","v":-33415502.49873364},1408262.3265476916,1639683.0986243002,1877565.0339342803]
[null,118,65600,63632,63632,29945.206588345165,34464.255446563526,39178.391868957136,7740800,9177039.5331360362,9412979.3540708646,9655575.4258032367,{"$f":"FV(Paramètres!$C$24,B120,-D120,,1)-FV(i_p_1,B120,-D120,,1)+(1-PI_1)*'Simulations (3)'!C120*B120","v":-20458271.903201409},{"$f":"FV(Paramètres!$D$24,B120,-D120,,1)-FV(i_p_2,B120,-D120,,1)+(1-PI_1)*'Simulations (3)'!C120*B120","v":-26670589.368754737},{"$f":"FV(Paramètres!$E$24,B120,-E120,,1)-FV(i_p_3,B120,-E120,,1)+(1-PI_1)*'Simulations (3)'!C120*B120","v":-34442718.35145025},1436239.5331360362,1672179.3540708646,1914775.4258032367]
[null,119,65600,63632,63632,30251.554012260476,34824.740488226213,39597.254131676658,7806400,9270923.0871482976,9511436.0945590902,9758804.6799349133,{"$f":"FV(Paramètres!$C$24,B121,-D121,,1)-FV(i_p_1,B121,-D121,,1)+(1-PI_1)*'Simulations (3)'!C121*B121","v":-21018806.277351215},{"$f":"FV(Paramètres!$D$24,B121,-D121,,1)-FV(i_p_2,B121,-D121,,1)+(1-PI_1)*'Simulations (3)'!C121*B121","v":-27443326.685134612},{"$f":"FV(Paramètres!$E$24,B121,-E121,,1)-FV(i_p_3,B121,-E121,,1)+(1-PI_1)*'Simulations (3)'!C121*B121","v":-35497470.026480377},1464523.0871482976,1705036.0945590902,1952404.6799349133]
[null,120,65600,63632,63632,30558.904337924636,35186.550243708713,40017.822891102798,7872000,9365113.9914862216,9610254.6448027994,9862454.5028260164,{"$f":"FV(Paramètres!$C$24,B122,-D122,,1)-FV(i_p_1,B122,-D122,,1)+(1-PI_1)*'Simulations (3)'!C122*B122","v":-21592032.304242518},{"$f":"FV(Paramètres!$D$24,B122,-D122,,1)-FV(i_p_2,B122,-D122,,1)+(1-PI_1)*'Simulations (3)'!C122*B122","v":-28235132.156222068},{"$f":"FV(Paramètres!$E$24,B122,-E122,,1)-FV(i_p_3,B122,-E122,,1)+(1-PI_1)*'Simulations (3)'!C122*B122","v":-36580446.160404101},1493113.9914862216,1738254.6448027994,1990454.5028260164]
[11,121,65600,63632,63632,30867.260848576992,35549.689581081839,40440.105099714383,7937600,9459613.2523347978,9709436.3343838807,9966526.6079257317,{"$f":"FV(Paramètres!$C$24,B123,-D123,,1)-FV(i_p_1,B123,-D123,,1)+(1-PI_1)*'Simulations (3)'!C123*B123","v":-22178206.408682484},{"$f":"FV(Paramètres!$D$24,B123,-D123,,1)-FV(i_p_2,B123,-D123,,1)+(1-PI_1)*'Simulations (3)'!C123*B123","v":-29046436.816068143},{"$f":"FV(Paramètres!$E$24,B123,-E123,,1)-FV(i_p_3,B123,-E123,,1)+(1-PI_1)*'Simulations (3)'!C123*B123","v":-37692352.430924281},1522013.2523347978,1771836.3343838807,2028926.6079257317]
[null,122,65600,63632,63632,31176.626838205368,35914.163386305605,40864.107738315484,8003200,9554421.8791730031,9808982.4977701865,10071022.715664048,{"$f":"FV(Paramètres!$C$24,B124,-D124,,1)-FV(i_p_1,B124,-D124,,1)+(1-PI_1)*'Simulations (3)'!C124*B124","v":-22777590.110322677},{"$f":"FV(Paramètres!$D$24,B124,-D124,,1)-FV(i_p_2,B124,-D124,,1)+(1-PI_1)*'Simulations (3)'!C124*B124","v":-29877681.314972907},{"$f":"FV(Paramètres!$E$24,B124,-E124,,1)-FV(i_p_3,B124,-E124,,1)+(1-PI_1)*'Simulations (3)'!C124*B124","v":-38833911.977841556},1551221.8791730031,1805782.4977701865,2067822.7156640477]
[null,123,65600,63632,63632,31487.005611581251,36279.976563295029,41289.837816150837,{"$f":"+I124+C125","v":8068800},9649540.8847845849,9908894.4743334819,10175944.553480199,{"$f":"FV(Paramètres!$C$24,B125,-D125,,1)-FV(i_p_1,B125,-D125,,1)+(1-PI_1)*'Simulations (3)'!C125*B125","v":-23390450.124611169},{"$f":"FV(Paramètres!$D$24,B125,-D125,,1)-FV(i_p_2,B125,-D125,,1)+(1-PI_1)*'Simulations (3)'!C125*B125","v":-30729316.133560993},{"$f":"FV(Paramètres!$E$24,B125,-E125,,1)-FV(i_p_3,B125,-E125,,1)+(1-PI_1)*'Simulations (3)'!C125*B125","v":-40005865.834426291},1580740.8847845849,1840094.4743334819,2107144.5534801986]
[null,124,65600,63632,63632,31798.400484295089,36647.134033986047,41717.302371021717,8134400,9744971.2852688804,10009173.608367467,10281293.85585122,{"$f":"FV(Paramètres!$C$24,B126,-D126,,1)-FV(i_p_1,B126,-D126,,1)+(1-PI_1)*'Simulations (3)'!C126*B126","v":-24017058.465744406},{"$f":"FV(Paramètres!$D$24,B126,-D126,,1)-FV(i_p_2,B126,-D126,,1)+(1-PI_1)*'Simulations (3)'!C126*B126","v":-31601801.801621158},{"$f":"FV(Paramètres!$E$24,B126,-E126,,1)-FV(i_p_3,B126,-E126,,1)+(1-PI_1)*'Simulations (3)'!C126*B126","v":-41208973.369443625},1610571.2852688804,1874773.6083674673,2146893.85585122]
[null,125,65600,63632,63632,32110.814782791702,37015.640738401809,42146.508469402252,8200000,9840714.1000516713,10109821.249105869,10387072.364320623,{"$f":"FV(Paramètres!$C$24,B127,-D127,,1)-FV(i_p_1,B127,-D127,,1)+(1-PI_1)*'Simulations (3)'!C127*B127","v":-24657692.551657714},{"$f":"FV(Paramètres!$D$24,B127,-D127,,1)-FV(i_p_2,B127,-D127,,1)+(1-PI_1)*'Simulations (3)'!C127*B127","v":-32495609.121815957},{"$f":"FV(Paramètres!$E$24,B127,-E127,,1)-FV(i_p_3,B127,-E127,,1)+(1-PI_1)*'Simulations (3)'!C127*B127","v":-42444012.740095153},1640714.1000516713,1909821.2491058689,2187072.3643206228]
[null,126,65600,63632,63632,32424.251844405826,37385.501634719076,42577.463206556298,8265600,9936770.3518960774,10210838.750740588,10493281.827527178,{"$f":"FV(Paramètres!$C$24,B128,-D128,,1)-FV(i_p_1,B128,-D128,,1)+(1-PI_1)*'Simulations (3)'!C128*B128","v":-25312635.311095521},{"$f":"FV(Paramètres!$D$24,B128,-D128,,1)-FV(i_p_2,B128,-D128,,1)+(1-PI_1)*'Simulations (3)'!C128*B128","v":-33411219.398369655},{"$f":"FV(Paramètres!$E$24,B128,-E128,,1)-FV(i_p_3,B128,-E128,,1)+(1-PI_1)*'Simulations (3)'!C128*B128","v":-43711781.356146395},1671170.3518960774,1945238.7507405877,2227681.8275271785]
[null,127,65600,63632,63632,32738.715017397775,37756.721699334987,43010.173706654648,8331200,10033141.066913474,10312227.472439922,10599924.001233833,{"$f":"FV(Paramètres!$C$24,B129,-D129,,1)-FV(i_p_1,B129,-D129,,1)+(1-PI_1)*'Simulations (3)'!C129*B129","v":-25982175.292802066},{"$f":"FV(Paramètres!$D$24,B129,-D129,,1)-FV(i_p_2,B129,-D129,,1)+(1-PI_1)*'Simulations (3)'!C129*B129","v":-34349124.670845479},{"$f":"FV(Paramètres!$E$24,B129,-E129,,1)-FV(i_p_3,B129,-E129,,1)+(1-PI_1)*'Simulations (3)'!C129*B129","v":-45013096.355516717},1701941.0669134744,1981027.4724399224,2268724.0012338329]
[null,128,65600,63632,63632,33054.207660989181,38129.305926933979,43444.647122892893,8396800,10129827.274574464,10413988.778366856,10707000.648356726,{"$f":"FV(Paramètres!$C$24,B130,-D130,,1)-FV(i_p_1,B130,-D130,,1)+(1-PI_1)*'Simulations (3)'!C130*B130","v":-26666606.776874591},{"$f":"FV(Paramètres!$D$24,B130,-D130,,1)-FV(i_p_2,B130,-D130,,1)+(1-PI_1)*'Simulations (3)'!C130*B130","v":-35309827.953125425},{"$f":"FV(Paramètres!$E$24,B130,-E130,,1)-FV(i_p_3,B130,-E130,,1)+(1-PI_1)*'Simulations (3)'!C130*B130","v":-46348795.091614492},1733027.2745744642,2017188.7783668563,2310200.6483567264]
[null,129,65600,63632,{"$f":"+C131*PI_3","v":63632},33370.73314539891,38503.259330555004,43880.890637609591,8462400,10226830.007719863,10516124.037697412,10814513.538994337,{"$f":"FV(Paramètres!$C$24,B131,-D131,,1)-FV(i_p_1,B131,-D131,,1)+(1-PI_1)*'Simulations (3)'!C131*B131","v":-27366229.888322093},{"$f":"FV(Paramètres!$D$24,B131,-D131,,1)-FV(i_p_2,B131,-D131,,1)+(1-PI_1)*'Simulations (3)'!C131*B131","v":-36293843.47770793},{"$f":"FV(Paramètres!$E$24,B131,-E131,,1)-FV(i_p_3,B131,-E131,,1)+(1-PI_1)*'Simulations (3)'!C131*B131","v":-47719735.6327077},1764430.0077198632,2053724.0376974121,2352113.5389943365]
[null,130,65600,63632,63632,{"$f":"(D132+J131)*(tm_1)","v":33688.294851879029},{"$f":"+tm_2*(D132+K131)","v":38878.586941658985},{"$f":"+tm_3*(E132+L131)","v":44318.911462405064},8528000,{"$f":"(D132+J131)*(1+tm_1)","v":10324150.302571742},{"$f":"(D132+K131)*(1+tm_2)","v":10618634.624639072},{"$f":"(E132+L131)*(1+tm_3)","v":10922464.450456742},{"$f":"FV(Paramètres!$C$24,B132,-D132,,1)-FV(i_p_1,B132,-D132,,1)+(1-PI_1)*'Simulations (3)'!C132*B132","v":-28081350.712873068},{"$f":"FV(Paramètres!$D$24,B132,-D132,,1)-FV(i_p_2,B132,-D132,,1)+(1-PI_1)*'Simulations (3)'!C132*B132","v":-37301696.945442468},{"$f":"FV(Paramètres!$E$24,B132,-E132,,1)-FV(i_p_3,B132,-E132,,1)+(1-PI_1)*'Simulations (3)'!C132*B132","v":-49126797.273627006},1796150.3025717419,2090634.6246390715,2394464.4504567422]
[null,{"$f":"+B132+1","v":131},65600,63632,63632,34006.896172750952,39255.293810196497,44758.716838260567,8593600,10421789.198744493,10721521.918449268,11030855.167295003,{"$f":"FV(Paramètres!$C$24,B133,-D133,,1)-FV(i_p_1,B133,-D133,,1)+(1-PI_1)*'Simulations (3)'!C133*B133","v":-28812281.415076926},{"$f":"FV(Paramètres!$D$24,B133,-D133,,1)-FV(i_p_2,B133,-D133,,1)+(1-PI_1)*'Simulations (3)'!C133*B133","v":-38333925.780821428},{"$f":"FV(Paramètres!$E$24,B133,-E133,,1)-FV(i_p_3,B133,-E133,,1)+(1-PI_1)*'Simulations (3)'!C133*B133","v":-50570881.060106114},{"$f":"+J133-I133","v":1828189.1987444926},{"$f":"+K133-I133","v":2127921.9184492677},{"$f":"+L133-I133","v":2437255.1672950033}]
[null,132,65600,63632,63632,34326.540511441679,39633.385004675714,45200.314035658019,8659200,10519747.739255935,10824787.303453943,11139687.481330661,{"$f":"FV(Paramètres!$C$24,B134,-D134,,1)-FV(i_p_1,B134,-D134,,1)+(1-PI_1)*'Simulations (3)'!C134*B134","v":-29559340.358744454},{"$f":"FV(Paramètres!$D$24,B134,-D134,,1)-FV(i_p_2,B134,-D134,,1)+(1-PI_1)*'Simulations (3)'!C134*B134","v":-39391079.392953359},{"$f":"FV(Paramètres!$E$24,B134,-E134,,1)-FV(i_p_3,B134,-E134,,1)+(1-PI_1)*'Simulations (3)'!C134*B134","v":-52052910.326071247},1860547.739255935,2165587.3034539428,2480487.4813306611]
[12,133,65600,63632,63632,34647.23128252013,40012.86561223062,45643.710354700183,8724800,10618026.970538456,10928432.169066174,11248963.191685362,{"$f":"FV(Paramètres!$C$24,B135,-D135,,1)-FV(i_p_1,B135,-D135,,1)+(1-PI_1)*'Simulations (3)'!C135*B135","v":-30322852.229773611},{"$f":"FV(Paramètres!$D$24,B135,-D135,,1)-FV(i_p_2,B135,-D135,,1)+(1-PI_1)*'Simulations (3)'!C135*B135","v":-40473719.442343801},{"$f":"FV(Paramètres!$E$24,B135,-E135,,1)-FV(i_p_3,B135,-E135,,1)+(1-PI_1)*'Simulations (3)'!C135*B135","v":-53573831.244199775},1893226.970538456,2203632.169066174,2524163.1916853618]
[null,134,65600,63632,63632,34968.971911733643,40393.740738689463,46088.913125231338,8790400,10716627.94245019,11032457.909804864,11358684.104810594,{"$f":"FV(Paramètres!$C$24,B136,-D136,,1)-FV(i_p_1,B136,-D136,,1)+(1-PI_1)*'Simulations (3)'!C136*B136","v":-31103148.161408003},{"$f":"FV(Paramètres!$D$24,B136,-D136,,1)-FV(i_p_2,B136,-D136,,1)+(1-PI_1)*'Simulations (3)'!C136*B136","v":-41582420.113612883},{"$f":"FV(Paramètres!$E$24,B136,-E136,,1)-FV(i_p_3,B136,-E136,,1)+(1-PI_1)*'Simulations (3)'!C136*B136","v":-55134613.390075386},1926227.94245019,2242057.9098048639,2568284.1048105936]
[null,135,{"$f":"Prime_périodique","v":65600},63632,63632,35291.765836044564,40776.01550864341,46535.929706958457,8856000,10815551.708286235,11136865.925313508,11468852.034517553,{"$f":"FV(Paramètres!$C$24,B137,-D137,,1)-FV(i_p_1,B137,-D137,,1)+(1-PI_1)*'Simulations (3)'!C137*B137","v":-31900565.861976098},{"$f":"FV(Paramètres!$D$24,B137,-D137,,1)-FV(i_p_2,B137,-D137,,1)+(1-PI_1)*'Simulations (3)'!C137*B137","v":-42717768.394282028},{"$f":"FV(Paramètres!$E$24,B137,-E137,,1)-FV(i_p_3,B137,-E137,,1)+(1-PI_1)*'Simulations (3)'!C137*B137","v":-56736250.320275828},1959551.7082862351,2280865.9253135081,2612852.0345175527]
[null,136,65600,63632,63632,35615.616503666955,41159.695065515531,46984.767489572878,8921600,10914799.324789902,11241657.620379023,11579468.802007126,{"$f":"FV(Paramètres!$C$24,B138,-D138,,1)-FV(i_p_1,B138,-D138,,1)+(1-PI_1)*'Simulations (3)'!C138*B138","v":-32715449.745160401},{"$f":"FV(Paramètres!$D$24,B138,-D138,,1)-FV(i_p_2,B138,-D138,,1)+(1-PI_1)*'Simulations (3)'!C138*B138","v":-43880364.359764636},{"$f":"FV(Paramètres!$E$24,B138,-E138,,1)-FV(i_p_3,B138,-E138,,1)+(1-PI_1)*'Simulations (3)'!C138*B138","v":-58379760.164737135},1993199.3247899022,2320057.6203790233,2657868.8020071257]
[null,137,65600,63632,63632,35940.527374103433,41544.78457163,47435.433892872446,8987200,11014371.852164006,11346834.404950654,11690536.235899998,{"$f":"FV(Paramètres!$C$24,B139,-D139,,1)-FV(i_p_1,B139,-D139,,1)+(1-PI_1)*'Simulations (3)'!C139*B139","v":-33548151.062846616},{"$f":"FV(Paramètres!$D$24,B139,-D139,,1)-FV(i_p_2,B139,-D139,,1)+(1-PI_1)*'Simulations (3)'!C139*B139","v":-45070821.464698784},{"$f":"FV(Paramètres!$E$24,B139,-E139,,1)-FV(i_p_3,B139,-E139,,1)+(1-PI_1)*'Simulations (3)'!C139*B139","v":-60066186.233747005},2027171.8521640059,2359634.4049506541,2703336.2358999979]
[null,138,65600,63632,63632,36266.501918182126,41931.289208281552,47887.936366884191,9052800,11114270.354082188,11452397.694158936,11802056.172266882,{"$f":"FV(Paramètres!$C$24,B140,-D140,,1)-FV(i_p_1,B140,-D140,,1)+(1-PI_1)*'Simulations (3)'!C140*B140","v":-34399028.040603928},{"$f":"FV(Paramètres!$D$24,B140,-D140,,1)-FV(i_p_2,B140,-D140,,1)+(1-PI_1)*'Simulations (3)'!C140*B140","v":-46289766.840763293},{"$f":"FV(Paramètres!$E$24,B140,-E140,,1)-FV(i_p_3,B140,-E140,,1)+(1-PI_1)*'Simulations (3)'!C140*B140","v":-61796597.63992855},2061470.3540821876,2399597.6941589359,2749256.1722668819]
[null,139,65600,63632,63632,36593.543618093754,42319.21417580518,48342.282391987465,9118400,11214495.897700282,11558348.908334741,11914030.45465887,{"$f":"FV(Paramètres!$C$24,B141,-D141,,1)-FV(i_p_1,B141,-D141,,1)+(1-PI_1)*'Simulations (3)'!C141*B141","v":-35268446.015848547},{"$f":"FV(Paramètres!$D$24,B141,-D141,,1)-FV(i_p_2,B141,-D141,,1)+(1-PI_1)*'Simulations (3)'!C141*B141","v":-47537841.601121038},{"$f":"FV(Paramètres!$E$24,B141,-E141,,1)-FV(i_p_3,B141,-E141,,1)+(1-PI_1)*'Simulations (3)'!C141*B141","v":-63572089.935584478},2096095.8977002818,2439948.9083347414,2795630.4546588697]
[null,140,65600,63632,63632,36921.655967428822,42708.564693646127,48798.479479037618,9184000,11315049.553667711,11664689.473028388,12026460.934137907,{"$f":"FV(Paramètres!$C$24,B142,-D142,,1)-FV(i_p_1,B142,-D142,,1)+(1-PI_1)*'Simulations (3)'!C142*B142","v":-36156777.578743637},{"$f":"FV(Paramètres!$D$24,B142,-D142,,1)-FV(i_p_2,B142,-D142,,1)+(1-PI_1)*'Simulations (3)'!C142*B142","v":-48815701.151637435},{"$f":"FV(Paramètres!$E$24,B142,-E142,,1)-FV(i_p_3,B142,-E142,,1)+(1-PI_1)*'Simulations (3)'!C142*B142","v":-65393785.765781268},2131049.5536677111,2480689.4730283879,2842460.9341379069]
[null,141,65600,{"$f":"+C143*PI_2","v":63632},63632,37250.842471214935,43099.346000430101,49256.535169490155,9249600,11415932.396138925,11771420.819028817,12139349.469307397,{"$f":"FV(Paramètres!$C$24,B143,-D143,,1)-FV(i_p_1,B143,-D143,,1)+(1-PI_1)*'Simulations (3)'!C143*B143","v":-37064402.715889655},{"$f":"FV(Paramètres!$D$24,B143,-D143,,1)-FV(i_p_2,B143,-D143,,1)+(1-PI_1)*'Simulations (3)'!C143*B143","v":-50124015.50902456},{"$f":"FV(Paramètres!$E$24,B143,-E143,,1)-FV(i_p_3,B143,-E143,,1)+(1-PI_1)*'Simulations (3)'!C143*B143","v":-67262835.537562087},2166332.3961389251,2521820.8190288171,2889749.4693073966]
[null,142,65600,63632,63632,37581.106645954256,43491.563354033759,49716.457035525396,9315200,11517145.50278488,11878544.382382851,12252697.926342921,{"$f":"FV(Paramètres!$C$24,B144,-D144,,1)-FV(i_p_1,B144,-D144,,1)+(1-PI_1)*'Simulations (3)'!C144*B144","v":-37991708.956860691},{"$f":"FV(Paramètres!$D$24,B144,-D144,,1)-FV(i_p_2,B144,-D144,,1)+(1-PI_1)*'Simulations (3)'!C144*B144","v":-51463469.626065046},{"$f":"FV(Paramètres!$E$24,B144,-E144,,1)-FV(i_p_3,B144,-E144,,1)+(1-PI_1)*'Simulations (3)'!C144*B144","v":-69180418.105686203},2201945.5027848799,2563344.3823828511,2937497.9263429213]
[null,143,65600,63632,63632,37912.452019661061,43885.222031655452,50178.252680173668,9380800,11618689.954804542,11986061.604414506,12366508.179023094,{"$f":"FV(Paramètres!$C$24,B145,-D145,,1)-FV(i_p_1,B145,-D145,,1)+(1-PI_1)*'Simulations (3)'!C145*B145","v":-38939091.523642972},{"$f":"FV(Paramètres!$D$24,B145,-D145,,1)-FV(i_p_2,B145,-D145,,1)+(1-PI_1)*'Simulations (3)'!C145*B145","v":-52834763.724073388},{"$f":"FV(Paramètres!$E$24,B145,-E145,,1)-FV(i_p_3,B145,-E145,,1)+(1-PI_1)*'Simulations (3)'!C145*B145","v":-71147741.475303859},2237889.9548045415,2605261.6044145059,2985708.1790230945]
[null,144,65600,63632,63632,38244.882131899416,44280.327329886233,50641.929737440994,9446400,11720566.83693644,12093973.931744393,12480782.108760536,{"$f":"FV(Paramètres!$C$24,B146,-D146,,1)-FV(i_p_1,B146,-D146,,1)+(1-PI_1)*'Simulations (3)'!C146*B146","v":-39906953.483032763},{"$f":"FV(Paramètres!$D$24,B146,-D146,,1)-FV(i_p_2,B146,-D146,,1)+(1-PI_1)*'Simulations (3)'!C146*B146","v":-54238613.632755764},{"$f":"FV(Paramètres!$E$24,B146,-E146,,1)-FV(i_p_3,B146,-E146,,1)+(1-PI_1)*'Simulations (3)'!C146*B146","v":-73166043.521984026},2274166.8369364403,2647573.931744393,3034382.1087605357]
[13,145,65600,63632,63632,38578.400533821005,44676.884564781125,51107.495872435262,9512000,11822777.237470262,12202282.816309175,12595521.604632972,{"$f":"FV(Paramètres!$C$24,B147,-D147,,1)-FV(i_p_1,B147,-D147,,1)+(1-PI_1)*'Simulations (3)'!C147*B147","v":-40895705.902052939},{"$f":"FV(Paramètres!$D$24,B147,-D147,,1)-FV(i_p_2,B147,-D147,,1)+(1-PI_1)*'Simulations (3)'!C147*B147","v":-55675751.137632772},{"$f":"FV(Paramètres!$E$24,B147,-E147,,1)-FV(i_p_3,B147,-E147,,1)+(1-PI_1)*'Simulations (3)'!C147*B147","v":-75236592.729524285},2310777.2374702618,2690282.8163091745,3083521.6046329718]
[null,146,65600,63632,63632,38913.010788203057,45074.899071930609,51574.958781492976,9577600,11925322.248258464,12310989.715381104,12710728.563414466,{"$f":"FV(Paramètres!$C$24,B148,-D148,,1)-FV(i_p_1,B148,-D148,,1)+(1-PI_1)*'Simulations (3)'!C148*B148","v":-41905768.006447293},{"$f":"FV(Paramètres!$D$24,B148,-D148,,1)-FV(i_p_2,B148,-D148,,1)+(1-PI_1)*'Simulations (3)'!C148*B148","v":-57146924.335193649},{"$f":"FV(Paramètres!$E$24,B148,-E148,,1)-FV(i_p_3,B148,-E148,,1)+(1-PI_1)*'Simulations (3)'!C148*B148","v":-77360688.945981294},2347722.248258464,2733389.7153811045,3133128.5634144656]
[null,147,65600,63632,63632,39248.716469486411,45474.376206532477,52044.326192306457,9643200,12028202.964727951,12420096.091587637,12826404.889606772,{"$f":"FV(Paramètres!$C$24,B149,-D149,,1)-FV(i_p_1,B149,-D149,,1)+(1-PI_1)*'Simulations (3)'!C149*B149","v":-42937567.342313975},{"$f":"FV(Paramètres!$D$24,B149,-D149,,1)-FV(i_p_2,B149,-D149,,1)+(1-PI_1)*'Simulations (3)'!C149*B149","v":-58652897.995953806},{"$f":"FV(Paramètres!$E$24,B149,-E149,,1)-FV(i_p_3,B149,-E149,,1)+(1-PI_1)*'Simulations (3)'!C149*B149","v":-79539664.158372343},2385002.9647279512,2776896.0915876366,3183204.889606772]
[null,148,65600,63632,63632,39585.521163813704,45875.321343463846,52515.605864051598,9708800,12131420.485891765,12529603.4129311,12942552.495470824,{"$f":"FV(Paramètres!$C$24,B150,-D150,,1)-FV(i_p_1,B150,-D150,,1)+(1-PI_1)*'Simulations (3)'!C150*B150","v":-43991539.940940015},{"$f":"FV(Paramètres!$D$24,B150,-D150,,1)-FV(i_p_2,B150,-D150,,1)+(1-PI_1)*'Simulations (3)'!C150*B150","v":-60194453.935591623},{"$f":"FV(Paramètres!$E$24,B150,-E150,,1)-FV(i_p_3,B150,-E150,,1)+(1-PI_1)*'Simulations (3)'!C150*B150","v":-81774883.286508724},2422620.485891765,2820803.4129310995,3233752.4954708237]
[null,149,65600,63632,63632,39923.428469067636,46277.739877353459,52988.805587516144,9774400,12234975.914360832,12639513.152808454,13059173.301058339,{"$f":"FV(Paramètres!$C$24,B151,-D151,,1)-FV(i_p_1,B151,-D151,,1)+(1-PI_1)*'Simulations (3)'!C151*B151","v":-45068130.486900561},{"$f":"FV(Paramètres!$D$24,B151,-D151,,1)-FV(i_p_2,B151,-D151,,1)+(1-PI_1)*'Simulations (3)'!C151*B151","v":-61772391.394344464},{"$f":"FV(Paramètres!$E$24,B151,-E151,,1)-FV(i_p_3,B151,-E151,,1)+(1-PI_1)*'Simulations (3)'!C151*B151","v":-84067744.99643372},2460575.9143608324,2865113.1528084539,3284773.301058339]
[null,150,65600,63632,63632,40262.441994909481,46681.637222654332,53463.933185228467,9840000,12338870.356355742,12749826.790031109,13176269.234243568,{"$f":"FV(Paramètres!$C$24,B152,-D152,,1)-FV(i_p_1,B152,-D152,,1)+(1-PI_1)*'Simulations (3)'!C152*B152","v":-46167792.489487089},{"$f":"FV(Paramètres!$D$24,B152,-D152,,1)-FV(i_p_2,B152,-D152,,1)+(1-PI_1)*'Simulations (3)'!C152*B152","v":-63387527.42484723},{"$f":"FV(Paramètres!$E$24,B152,-E152,,1)-FV(i_p_3,B152,-E152,,1)+(1-PI_1)*'Simulations (3)'!C152*B152","v":-86419682.533948928},2498870.3563557416,2909826.790031109,3336269.234243568]
[null,151,65600,63632,63632,40602.565362817571,47087.018813716524,53940.996511586913,9905600,12443104.921718558,12860545.808844825,13293842.230755154,{"$f":"FV(Paramètres!$C$24,B153,-D153,,1)-FV(i_p_1,B153,-D153,,1)+(1-PI_1)*'Simulations (3)'!C153*B153","v":-47290988.457531065},{"$f":"FV(Paramètres!$D$24,B153,-D153,,1)-FV(i_p_2,B153,-D153,,1)+(1-PI_1)*'Simulations (3)'!C153*B153","v":-65040697.288602054},{"$f":"FV(Paramètres!$E$24,B153,-E153,,1)-FV(i_p_3,B153,-E153,,1)+(1-PI_1)*'Simulations (3)'!C153*B153","v":-88832164.578725502},2537504.9217185583,2954945.8088448253,3388242.230755154]
[null,152,65600,63632,63632,40943.802206126034,47493.890104860315,54420.003452989571,9971200,12547680.723924683,12971671.698949685,13411894.234208144,{"$f":"FV(Paramètres!$C$24,B154,-D154,,1)-FV(i_p_1,B154,-D154,,1)+(1-PI_1)*'Simulations (3)'!C154*B154","v":-48438190.077689648},{"$f":"FV(Paramètres!$D$24,B154,-D154,,1)-FV(i_p_2,B154,-D154,,1)+(1-PI_1)*'Simulations (3)'!C154*B154","v":-66732754.861270301},{"$f":"FV(Paramètres!$E$24,B154,-E154,,1)-FV(i_p_3,B154,-E154,,1)+(1-PI_1)*'Simulations (3)'!C154*B154","v":-91306696.119507968},2576480.7239246834,3000471.6989496853,3440694.2342081442]
[null,153,65600,63632,63632,41286.156170063594,47902.256570449565,54900.96192796473,10036800,12652598.880094746,13083205.955520134,13530427.19613611,{"$f":"FV(Paramètres!$C$24,B155,-D155,,1)-FV(i_p_1,B155,-D155,,1)+(1-PI_1)*'Simulations (3)'!C155*B155","v":-49609878.396262661},{"$f":"FV(Paramètres!$D$24,B155,-D155,,1)-FV(i_p_2,B155,-D155,,1)+(1-PI_1)*'Simulations (3)'!C155*B155","v":-68464573.046983972},{"$f":"FV(Paramètres!$E$24,B155,-E155,,1)-FV(i_p_3,B155,-E155,,1)+(1-PI_1)*'Simulations (3)'!C155*B155","v":-93844819.350932539},2615798.8800947461,3046405.9555201344,3493627.1961361095]
[null,154,65600,63632,63632,41629.630911792483,48312.123704965386,55383.879887301744,10102400,12757860.511006538,13195150.079225101,13649443.076023411,{"$f":"FV(Paramètres!$C$24,B156,-D156,,1)-FV(i_p_1,B156,-D156,,1)+(1-PI_1)*'Simulations (3)'!C156*B156","v":-50806544.004610159},{"$f":"FV(Paramètres!$D$24,B156,-D156,,1)-FV(i_p_2,B156,-D156,,1)+(1-PI_1)*'Simulations (3)'!C156*B156","v":-70237044.201876894},{"$f":"FV(Paramètres!$E$24,B156,-E156,,1)-FV(i_p_3,B156,-E156,,1)+(1-PI_1)*'Simulations (3)'!C156*B156","v":-96448114.592492476},2655460.5110065378,3092750.0792251006,3547043.076023411]
[null,155,65600,63632,63632,41974.230100447559,48723.497023080061,55868.765314182434,10168000,12863466.741106985,13307505.57624818,13768943.841337593,{"$f":"FV(Paramètres!$C$24,B157,-D157,,1)-FV(i_p_1,B157,-D157,,1)+(1-PI_1)*'Simulations (3)'!C157*B157","v":-52028687.228242487},{"$f":"FV(Paramètres!$D$24,B157,-D157,,1)-FV(i_p_2,B157,-D157,,1)+(1-PI_1)*'Simulations (3)'!C157*B157","v":-72051080.567040712},{"$f":"FV(Paramètres!$E$24,B157,-E157,,1)-FV(i_p_3,B157,-E157,,1)+(1-PI_1)*'Simulations (3)'!C157*B157","v":-99118201.230198488},2695466.7411069851,3139505.5762481801,3600943.8413375933]
[null,156,65600,63632,63632,42319.957417175443,49136.38205973123,56355.62622431312,10233600,12969418.69852416,13420273.958307911,13888931.467561906,{"$f":"FV(Paramètres!$C$24,B158,-D158,,1)-FV(i_p_1,B158,-D158,,1)+(1-PI_1)*'Simulations (3)'!C158*B158","v":-53276818.319655001},{"$f":"FV(Paramètres!$D$24,B158,-D158,,1)-FV(i_p_2,B158,-D158,,1)+(1-PI_1)*'Simulations (3)'!C158*B158","v":-73907614.711115763},{"$f":"FV(Paramètres!$E$24,B158,-E158,,1)-FV(i_p_3,B158,-E158,,1)+(1-PI_1)*'Simulations (3)'!C158*B158","v":-101856738.68149374},2735818.6985241603,3186673.9583079107,3655331.4675619062]
[14,157,65600,63632,63632,42666.816555173893,49550.784370196379,56844.470666057103,10299200,13075717.515079334,13533456.742678108,14009407.938227963,{"$f":"FV(Paramètres!$C$24,B159,-D159,,1)-FV(i_p_1,B159,-D159,,1)+(1-PI_1)*'Simulations (3)'!C159*B159","v":-54551457.654981911},{"$f":"FV(Paramètres!$D$24,B159,-D159,,1)-FV(i_p_2,B159,-D159,,1)+(1-PI_1)*'Simulations (3)'!C159*B159","v":-75807599.982730895},{"$f":"FV(Paramètres!$E$24,B159,-E159,,1)-FV(i_p_3,B159,-E159,,1)+(1-PI_1)*'Simulations (3)'!C159*B159","v":-104665427.38399892},2776517.5150793344,3234256.7426781077,3710207.9382279627]
[null,158,65600,63632,63632,43014.811219731229,49966.709530167602,57335.3067205677,10364800,13182364.326299066,13647055.452208275,14130375.244948531,{"$f":"FV(Paramètres!$C$24,B160,-D160,,1)-FV(i_p_1,B160,-D160,,1)+(1-PI_1)*'Simulations (3)'!C160*B160","v":-55853135.934545033},{"$f":"FV(Paramètres!$D$24,B160,-D160,,1)-FV(i_p_2,B160,-D160,,1)+(1-PI_1)*'Simulations (3)'!C160*B160","v":-77752010.973011598},{"$f":"FV(Paramètres!$E$24,B160,-E160,,1)-FV(i_p_3,B160,-E160,,1)+(1-PI_1)*'Simulations (3)'!C160*B160","v":-107546009.80867392},2817564.3262990657,3282255.452208275,3765575.2449485306]
[null,159,65600,63632,63632,43363.945128265928,50384.163135826551,57828.142501921851,10430400,13289360.271427331,13761071.615344102,14251835.387450453,{"$f":"FV(Paramètres!$C$24,B161,-D161,,1)-FV(i_p_1,B161,-D161,,1)+(1-PI_1)*'Simulations (3)'!C161*B161","v":-57182394.387374148},{"$f":"FV(Paramètres!$D$24,B161,-D161,,1)-FV(i_p_2,B161,-D161,,1)+(1-PI_1)*'Simulations (3)'!C161*B161","v":-79741843.988380402},{"$f":"FV(Paramètres!$E$24,B161,-E161,,1)-FV(i_p_3,B161,-E161,,1)+(1-PI_1)*'Simulations (3)'!C161*B161","v":-110500271.49800177},2858960.2714273315,3330671.6153441016,3821435.3874504529]
[null,160,65600,63632,63632,43714.222010366298,50803.150803919831,58322.98615725425,10496000,13396706.493437698,13875506.766148021,14373790.373607706,{"$f":"FV(Paramètres!$C$24,B162,-D162,,1)-FV(i_p_1,B162,-D162,,1)+(1-PI_1)*'Simulations (3)'!C162*B162","v":-58539784.979777977},{"$f":"FV(Paramètres!$D$24,B162,-D162,,1)-FV(i_p_2,B162,-D162,,1)+(1-PI_1)*'Simulations (3)'!C162*B162","v":-81778117.533878803},{"$f":"FV(Paramètres!$E$24,B162,-E162,,1)-FV(i_p_3,B162,-E162,,1)+(1-PI_1)*'Simulations (3)'!C162*B162","v":-113530042.12980984},2900706.4934376981,3379506.7661480214,3877790.3736077063]
[null,161,65600,63632,63632,44065.645607830396,51223.678171834486,58819.845866892021,10561600,13504404.139045529,13990362.444319855,14496242.219474599,{"$f":"FV(Paramètres!$C$24,B163,-D163,,1)-FV(i_p_1,B163,-D163,,1)+(1-PI_1)*'Simulations (3)'!C163*B163","v":-59925870.628045797},{"$f":"FV(Paramètres!$D$24,B163,-D163,,1)-FV(i_p_2,B163,-D163,,1)+(1-PI_1)*'Simulations (3)'!C163*B163","v":-83861872.807244316},{"$f":"FV(Paramètres!$E$24,B163,-E163,,1)-FV(i_p_3,B163,-E163,,1)+(1-PI_1)*'Simulations (3)'!C163*B163","v":-116637196.60736416},2942804.1390455291,3428762.4443198554,3934642.2194745988]
[null,162,65600,63632,63632,44418.219674705913,51645.75089767389,59318.729844489972,10627200,13612454.358720236,14105640.195217529,14619192.949319089,{"$f":"FV(Paramètres!$C$24,B164,-D164,,1)-FV(i_p_1,B164,-D164,,1)+(1-PI_1)*'Simulations (3)'!C164*B164","v":-61341225.415361851},{"$f":"FV(Paramètres!$D$24,B164,-D164,,1)-FV(i_p_2,B164,-D164,,1)+(1-PI_1)*'Simulations (3)'!C164*B164","v":-85994174.203982607},{"$f":"FV(Paramètres!$E$24,B164,-E164,,1)-FV(i_p_3,B164,-E164,,1)+(1-PI_1)*'Simulations (3)'!C164*B164","v":-119823656.1763833},2985254.3587202355,3478440.1952175293,3991992.9493190888]
[null,163,65600,63632,63632,44771.947977330332,52069.37466033388,59819.646337166327,10692800,13720858.306697566,14221341.569877863,14742644.595656255,{"$f":"FV(Paramètres!$C$24,B165,-D165,,1)-FV(i_p_1,B165,-D165,,1)+(1-PI_1)*'Simulations (3)'!C165*B165","v":-62786434.813015223},{"$f":"FV(Paramètres!$D$24,B165,-D165,,1)-FV(i_p_2,B165,-D165,,1)+(1-PI_1)*'Simulations (3)'!C165*B165","v":-88176109.833678842},{"$f":"FV(Paramètres!$E$24,B165,-E165,,1)-FV(i_p_3,B165,-E165,,1)+(1-PI_1)*'Simulations (3)'!C165*B165","v":-123091389.56963843},3028058.3066975661,3528541.5698778629,4049844.5956562553]
[null,164,65600,63632,63632,45126.83429437114,52494.55515957914,60322.603625639123,10758400,13829617.140991937,14337468.125037443,14866599.199281894,{"$f":"FV(Paramètres!$C$24,B166,-D166,,1)-FV(i_p_1,B166,-D166,,1)+(1-PI_1)*'Simulations (3)'!C166*B166","v":-64262095.905991204},{"$f":"FV(Paramètres!$D$24,B166,-D166,,1)-FV(i_p_2,B166,-D166,,1)+(1-PI_1)*'Simulations (3)'!C166*B166","v":-90408792.047798797},{"$f":"FV(Paramètres!$E$24,B166,-E166,,1)-FV(i_p_3,B166,-E166,,1)+(1-PI_1)*'Simulations (3)'!C166*B166","v":-126442414.17981963},3071217.1409919374,3579068.1250374429,4108199.1992818937]
[null,165,65600,63632,63632,45482.882416866203,52921.298116119913,60827.610024363043,10824000,13938732.023408804,14454021.423153562,14991058.809306256,{"$f":"FV(Paramètres!$C$24,B167,-D167,,1)-FV(i_p_1,B167,-D167,,1)+(1-PI_1)*'Simulations (3)'!C167*B167","v":-65768817.623030297},{"$f":"FV(Paramètres!$D$24,B167,-D167,,1)-FV(i_p_2,B167,-D167,,1)+(1-PI_1)*'Simulations (3)'!C167*B167","v":-92693357.979235291},{"$f":"FV(Paramètres!$E$24,B167,-E167,,1)-FV(i_p_3,B167,-E167,,1)+(1-PI_1)*'Simulations (3)'!C167*B167","v":-129878797.26136716},3114732.0234088041,3630021.4231535625,4167058.8093062565]
[null,166,65600,63632,63632,45840.096148264252,53349.609271688947,61334.673881666895,10889600,14048204.119557068,14571003.032425251,15116025.483187923,{"$f":"FV(Paramètres!$C$24,B168,-D168,,1)-FV(i_p_1,B168,-D168,,1)+(1-PI_1)*'Simulations (3)'!C168*B168","v":-67307220.971243188},{"$f":"FV(Paramètres!$D$24,B168,-D168,,1)-FV(i_p_2,B168,-D168,,1)+(1-PI_1)*'Simulations (3)'!C168*B168","v":-95030970.093860731},{"$f":"FV(Paramètres!$E$24,B168,-E168,,1)-FV(i_p_3,B168,-E168,,1)+(1-PI_1)*'Simulations (3)'!C168*B168","v":-133402657.16198272},3158604.1195570678,3681403.0324252509,4226425.4831879232]
[null,167,65600,63632,63632,46198.479304465531,53779.49438911878,61843.803579891624,10955200,14158034.598861534,14688414.526814369,15241501.286767814,{"$f":"FV(Paramètres!$C$24,B169,-D169,,1)-FV(i_p_1,B169,-D169,,1)+(1-PI_1)*'Simulations (3)'!C169*B169","v":-68877939.275372893},{"$f":"FV(Paramètres!$D$24,B169,-D169,,1)-FV(i_p_2,B169,-D169,,1)+(1-PI_1)*'Simulations (3)'!C169*B169","v":-97422816.75435406},{"$f":"FV(Paramètres!$E$24,B169,-E169,,1)-FV(i_p_3,B169,-E169,,1)+(1-PI_1)*'Simulations (3)'!C169*B169","v":-137016164.5845533},3202834.5988615341,3733214.5268143695,4286301.2867678143]
[null,168,65600,63632,63632,46558.035713862533,54210.959252419249,62355.00753552885,11020800,14268224.634575397,14806257.486066788,15367488.294303343,{"$f":"FV(Paramètres!$C$24,B170,-D170,,1)-FV(i_p_1,B170,-D170,,1)+(1-PI_1)*'Simulations (3)'!C170*B170","v":-70481618.421794683},{"$f":"FV(Paramètres!$D$24,B170,-D170,,1)-FV(i_p_2,B170,-D170,,1)+(1-PI_1)*'Simulations (3)'!C170*B170","v":-99870112.796574146},{"$f":"FV(Paramètres!$E$24,B170,-E170,,1)-FV(i_p_3,B170,-E170,,1)+(1-PI_1)*'Simulations (3)'!C170*B170","v":-140721543.88023978},3247424.6345753968,3785457.4860667884,4346688.2943033427]
[15,169,65600,{"$f":"+C171*PI_3","v":63632},63632,46918.769217380926,54644.009666855338,62868.294199360025,11086400,14378775.403792778,14924533.495733643,15493988.588502703,{"$f":"FV(Paramètres!$C$24,B171,-D171,,1)-FV(i_p_1,B171,-D171,,1)+(1-PI_1)*'Simulations (3)'!C171*B171","v":-72118917.10734883},{"$f":"FV(Paramètres!$D$24,B171,-D171,,1)-FV(i_p_2,B171,-D171,,1)+(1-PI_1)*'Simulations (3)'!C171*B171","v":-102374100.11875947},{"$f":"FV(Paramètres!$E$24,B171,-E171,,1)-FV(i_p_3,B171,-E171,,1)+(1-PI_1)*'Simulations (3)'!C171*B171","v":-144521074.37349844},3292375.403792778,3838133.495733643,4407588.5885027032]
[null,170,65600,63632,63632,47280.683668520556,55078.651459025255,63383.672056596159,11152000,14489688.087461298,15043244.147192668,15621004.2605593,{"$f":"FV(Paramètres!$C$24,B172,-D172,,1)-FV(i_p_1,B172,-D172,,1)+(1-PI_1)*'Simulations (3)'!C172*B172","v":-73790507.093101382},{"$f":"FV(Paramètres!$D$24,B172,-D172,,1)-FV(i_p_2,B172,-D172,,1)+(1-PI_1)*'Simulations (3)'!C172*B172","v":-104936048.28383924},{"$f":"FV(Paramètres!$E$24,B172,-E172,,1)-FV(i_p_3,B172,-E172,,1)+(1-PI_1)*'Simulations (3)'!C172*B172","v":-148417091.719825},3337688.0874612983,3891244.1471926682,4469004.2605593]
[null,171,65600,63632,63632,47643.782933396637,55514.890476938861,63901.149627018014,11217600,14600963.870394696,15162391.037669607,15748537.410186319,{"$f":"FV(Paramètres!$C$24,B173,-D173,,1)-FV(i_p_1,B173,-D173,,1)+(1-PI_1)*'Simulations (3)'!C173*B173","v":-75497073.463130355},{"$f":"FV(Paramètres!$D$24,B173,-D173,,1)-FV(i_p_2,B173,-D173,,1)+(1-PI_1)*'Simulations (3)'!C173*B173","v":-107557255.13514777},{"$f":"FV(Paramètres!$E$24,B173,-E173,,1)-FV(i_p_3,B173,-E173,,1)+(1-PI_1)*'Simulations (3)'!C173*B173","v":-152411989.29702893},3383363.8703946956,3944791.0376696065,4530937.4101863187]
[null,172,65600,63632,63632,48008.070890781033,55952.732590096333,64420.735465117039,11283200,14712603.941285476,15281975.770259703,15876590.145651435,{"$f":"FV(Paramètres!$C$24,B174,-D174,,1)-FV(i_p_1,B174,-D174,,1)+(1-PI_1)*'Simulations (3)'!C174*B174","v":-77239314.888437495},{"$f":"FV(Paramètres!$D$24,B174,-D174,,1)-FV(i_p_2,B174,-D174,,1)+(1-PI_1)*'Simulations (3)'!C174*B174","v":-110239047.42584072},{"$f":"FV(Paramètres!$E$24,B174,-E174,,1)-FV(i_p_3,B174,-E174,,1)+(1-PI_1)*'Simulations (3)'!C174*B174","v":-156508219.63086605},3429403.9412854761,3998775.7702597026,4593390.1456514355]
[null,173,65600,63632,63632,48373.551432143686,56392.183689567144,64942.438160236699,11348800,14824609.49271762,15401999.953949269,16005164.583811672,{"$f":"FV(Paramètres!$C$24,B175,-D175,,1)-FV(i_p_1,B175,-D175,,1)+(1-PI_1)*'Simulations (3)'!C175*B175","v":-79017943.896086231},{"$f":"FV(Paramètres!$D$24,B175,-D175,,1)-FV(i_p_2,B175,-D175,,1)+(1-PI_1)*'Simulations (3)'!C175*B175","v":-112982781.46231697},{"$f":"FV(Paramètres!$E$24,B175,-E175,,1)-FV(i_p_3,B175,-E175,,1)+(1-PI_1)*'Simulations (3)'!C175*B175","v":-160708295.85587829},3475809.49271762,4053199.9539492689,4656364.5838116724]
[null,174,65600,63632,63632,48740.22846169422,56833.249688069322,65466.266336714551,11414400,14936981.721179314,15522465.203637337,16134262.850148387,{"$f":"FV(Paramètres!$C$24,B176,-D176,,1)-FV(i_p_1,B176,-D176,,1)+(1-PI_1)*'Simulations (3)'!C176*B176","v":-80833687.143670335},{"$f":"FV(Paramètres!$D$24,B176,-D176,,1)-FV(i_p_2,B176,-D176,,1)+(1-PI_1)*'Simulations (3)'!C176*B176","v":-115789843.7619597},{"$f":"FV(Paramètres!$E$24,B176,-E176,,1)-FV(i_p_3,B176,-E176,,1)+(1-PI_1)*'Simulations (3)'!C176*B176","v":-165014793.212309},3522581.721179314,4108065.2036373373,4719862.8501483873]
[null,175,65600,63632,63632,49108.105896423614,57275.936520049014,65992.22865402473,11480000,15049721.827075738,15643373.140157387,16263887.078802412,{"$f":"FV(Paramètres!$C$24,B177,-D177,,1)-FV(i_p_1,B177,-D177,,1)+(1-PI_1)*'Simulations (3)'!C177*B177","v":-82687285.69921805},{"$f":"FV(Paramètres!$D$24,B177,-D177,,1)-FV(i_p_2,B177,-D177,,1)+(1-PI_1)*'Simulations (3)'!C177*B177","v":-118661651.72551298},{"$f":"FV(Paramètres!$E$24,B177,-E177,,1)-FV(i_p_3,B177,-E177,,1)+(1-PI_1)*'Simulations (3)'!C177*B177","v":-169430350.57998607},3569721.8270757385,4163373.1401573867,4783887.0788024124]
[null,176,65600,63632,63632,49477.187666146056,57720.250141760313,66520.33380692116,11545600,15162831.014741885,15764725.390299147,16394039.412609333,{"$f":"FV(Paramètres!$C$24,B178,-D178,,1)-FV(i_p_1,B178,-D178,,1)+(1-PI_1)*'Simulations (3)'!C178*B178","v":-84579495.326639563},{"$f":"FV(Paramètres!$D$24,B178,-D178,,1)-FV(i_p_2,B178,-D178,,1)+(1-PI_1)*'Simulations (3)'!C178*B178","v":-121599654.32442185},{"$f":"FV(Paramètres!$E$24,B178,-E178,,1)-FV(i_p_3,B178,-E178,,1)+(1-PI_1)*'Simulations (3)'!C178*B178","v":-173957672.05008489},3617231.0147418845,4219125.390299147,4848439.4126093332]
[null,177,65600,63632,63632,49847.477713540924,58166.196531345413,67050.590525581283,11611200,15276310.492455425,15886523.586830493,16524722.003134914,{"$f":"FV(Paramètres!$C$24,B179,-D179,,1)-FV(i_p_1,B179,-D179,,1)+(1-PI_1)*'Simulations (3)'!C179*B179","v":-86511086.776827931},{"$f":"FV(Paramètres!$D$24,B179,-D179,,1)-FV(i_p_2,B179,-D179,,1)+(1-PI_1)*'Simulations (3)'!C179*B179","v":-124605332.80346712},{"$f":"FV(Paramètres!$E$24,B179,-E179,,1)-FV(i_p_3,B179,-E179,,1)+(1-PI_1)*'Simulations (3)'!C179*B179","v":-178599528.53570697},3665110.4924554247,4275323.5868304931,4913522.0031349137]
[null,178,65600,63632,63632,50218.979994194895,58613.781688915064,67583.007575750322,11676800,15390161.472449619,16008769.368519409,16655937.010710664,{"$f":"FV(Paramètres!$C$24,B180,-D180,,1)-FV(i_p_1,B180,-D180,,1)+(1-PI_1)*'Simulations (3)'!C180*B180","v":-88482846.08452487},{"$f":"FV(Paramètres!$D$24,B180,-D180,,1)-FV(i_p_2,B180,-D180,,1)+(1-PI_1)*'Simulations (3)'!C180*B180","v":-127680201.39903612},{"$f":"FV(Paramètres!$E$24,B180,-E180,,1)-FV(i_p_3,B180,-E180,,1)+(1-PI_1)*'Simulations (3)'!C180*B180","v":-183358759.42223233},3713361.4724496193,4331969.3685194086,4979137.0107106641]
[null,179,65600,63632,63632,50591.698476644226,59063.011636629242,68117.593758886287,11742400,15504385.170926264,16131464.380156038,16787686.604469549,{"$f":"FV(Paramètres!$C$24,B181,-D181,,1)-FV(i_p_1,B181,-D181,,1)+(1-PI_1)*'Simulations (3)'!C181*B181","v":-90495574.871066198},{"$f":"FV(Paramètres!$D$24,B181,-D181,,1)-FV(i_p_2,B181,-D181,,1)+(1-PI_1)*'Simulations (3)'!C181*B181","v":-130825808.07337706},{"$f":"FV(Paramètres!$E$24,B181,-E181,,1)-FV(i_p_3,B181,-E181,,1)+(1-PI_1)*'Simulations (3)'!C181*B181","v":-188238274.25842848},3761985.1709262636,4389064.3801560383,5045286.6044695489]
[null,180,65600,63632,63632,50965.637142417108,59513.892418778232,68654.357912305364,11808000,15618982.808068682,16254610.272574816,16919972.962381855,{"$f":"FV(Paramètres!$C$24,B182,-D182,,1)-FV(i_p_1,B182,-D182,,1)+(1-PI_1)*'Simulations (3)'!C182*B182","v":-92550090.653122589},{"$f":"FV(Paramètres!$D$24,B182,-D182,,1)-FV(i_p_2,B182,-D182,,1)+(1-PI_1)*'Simulations (3)'!C182*B182","v":-134043735.26519281},{"$f":"FV(Paramètres!$E$24,B182,-E182,,1)-FV(i_p_3,B182,-E182,,1)+(1-PI_1)*'Simulations (3)'!C182*B182","v":-193241054.48932227},3810982.8080686815,4446610.2725748159,5111972.9623818547]
[16,181,65600,63632,63632,51340.799986076236,59966.430101863945,69193.308909328116,11873600,15733955.608054757,16378208.70267668,17052798.271291181,{"$f":"FV(Paramètres!$C$24,B183,-D183,,1)-FV(i_p_1,B183,-D183,,1)+(1-PI_1)*'Simulations (3)'!C183*B183","v":-94647227.157555193},{"$f":"FV(Paramètres!$D$24,B183,-D183,,1)-FV(i_p_2,B183,-D183,,1)+(1-PI_1)*'Simulations (3)'!C183*B183","v":-137335600.65693754},{"$f":"FV(Paramètres!$E$24,B183,-E183,,1)-FV(i_p_3,B183,-E183,,1)+(1-PI_1)*'Simulations (3)'!C183*B183","v":-198370155.2318657},3860355.6080547571,4504608.7026766799,5179198.2712911814]
[null,182,65600,63632,63632,51717.191015261451,60420.630774681507,69734.455659426036,11939200,15849304.799070019,16502261.333451362,17186164.726950608,{"$f":"FV(Paramètres!$C$24,B184,-D184,,1)-FV(i_p_1,B184,-D184,,1)+(1-PI_1)*'Simulations (3)'!C184*B184","v":-96787834.642506674},{"$f":"FV(Paramètres!$D$24,B184,-D184,,1)-FV(i_p_2,B184,-D184,,1)+(1-PI_1)*'Simulations (3)'!C184*B184","v":-140703057.95918792},{"$f":"FV(Paramètres!$E$24,B184,-E184,,1)-FV(i_p_3,B184,-E184,,1)+(1-PI_1)*'Simulations (3)'!C184*B184","v":-203628707.09445271},3910104.7990700193,4563061.3334513623,5246964.7269506082]
[null,183,65600,63632,63632,52094.814250732576,60876.500548401236,70277.807108369001,12004800,15965031.613320751,16626769.833999764,17320074.534058977,{"$f":"FV(Paramètres!$C$24,B185,-D185,,1)-FV(i_p_1,B185,-D185,,1)+(1-PI_1)*'Simulations (3)'!C185*B185","v":-98972780.22485137},{"$f":"FV(Paramètres!$D$24,B185,-D185,,1)-FV(i_p_2,B185,-D185,,1)+(1-PI_1)*'Simulations (3)'!C185*B185","v":-144147797.71246919},{"$f":"FV(Paramètres!$E$24,B185,-E185,,1)-FV(i_p_3,B185,-E185,,1)+(1-PI_1)*'Simulations (3)'!C185*B185","v":-209019918.04136983},3960231.6133207511,4621969.8339997642,5315274.5340589769]
[null,184,65600,63632,63632,52473.673726412344,61334.045556650803,70823.372238372962,12070400,16081137.287047163,16751735.879556416,17454529.906297348,{"$f":"FV(Paramètres!$C$24,B186,-D186,,1)-FV(i_p_1,B186,-D186,,1)+(1-PI_1)*'Simulations (3)'!C186*B186","v":-101202948.21413042},{"$f":"FV(Paramètres!$D$24,B186,-D186,,1)-FV(i_p_2,B186,-D186,,1)+(1-PI_1)*'Simulations (3)'!C186*B186","v":-147671548.1069237},{"$f":"FV(Paramètres!$E$24,B186,-E186,,1)-FV(i_p_3,B186,-E186,,1)+(1-PI_1)*'Simulations (3)'!C186*B186","v":-214547075.30329013},4010737.2870471627,4681335.8795564156,5384129.9062973484]
[null,185,65600,63632,63632,52853.773489429499,61793.271955597811,71371.160068248602,12136000,16197623.060536591,16877161.151512016,17589533.066365596,{"$f":"FV(Paramètres!$C$24,B187,-D187,,1)-FV(i_p_1,B187,-D187,,1)+(1-PI_1)*'Simulations (3)'!C187*B187","v":-103479240.45310026},{"$f":"FV(Paramètres!$D$24,B187,-D187,,1)-FV(i_p_2,B187,-D187,,1)+(1-PI_1)*'Simulations (3)'!C187*B187","v":-151276075.82022008},{"$f":"FV(Paramètres!$E$24,B187,-E187,,1)-FV(i_p_3,B187,-E187,,1)+(1-PI_1)*'Simulations (3)'!C187*B187","v":-220213547.33494866},4061623.0605365913,4741161.1515120156,5453533.0663655959]
[null,186,65600,63632,63632,53235.117600162055,62254.185924032587,71921.179653550338,12201600,16314490.178136753,17003047.337436046,17725086.246019147,{"$f":"FV(Paramètres!$C$24,B188,-D188,,1)-FV(i_p_1,B188,-D188,,1)+(1-PI_1)*'Simulations (3)'!C188*B188","v":-105802576.66502573},{"$f":"FV(Paramètres!$D$24,B188,-D188,,1)-FV(i_p_2,B188,-D188,,1)+(1-PI_1)*'Simulations (3)'!C188*B188","v":-154963186.87410784},{"$f":"FV(Paramètres!$E$24,B188,-E188,,1)-FV(i_p_3,B188,-E188,,1)+(1-PI_1)*'Simulations (3)'!C188*B188","v":-226022785.82116184},4112890.1781367529,4801447.3374360465,5523486.2460191473]
[null,187,65600,63632,63632,53617.710132280627,62716.793663451361,72473.440086726026,{"$f":"+I188+C189","v":12267200},16431739.888269033,17129396.131099496,17861191.686105873,{"$f":"FV(Paramètres!$C$24,B189,-D189,,1)-FV(i_p_1,B189,-D189,,1)+(1-PI_1)*'Simulations (3)'!C189*B189","v":-108173894.80785102},{"$f":"FV(Paramètres!$D$24,B189,-D189,,1)-FV(i_p_2,B189,-D189,,1)+(1-PI_1)*'Simulations (3)'!C189*B189","v":-158734727.51003265},{"$f":"FV(Paramètres!$E$24,B189,-E189,,1)-FV(i_p_3,B189,-E189,,1)+(1-PI_1)*'Simulations (3)'!C189*B189","v":-231978327.73238814},4164539.8882690333,4862196.131099496,5593991.6861058734]
[null,188,65600,63632,63632,54001.555172791959,63181.101398139661,73027.950497267288,12332800,16549373.443441825,17256209.232497636,17997851.636603139,{"$f":"FV(Paramètres!$C$24,B190,-D190,,1)-FV(i_p_1,B190,-D190,,1)+(1-PI_1)*'Simulations (3)'!C190*B190","v":-110594151.43538491},{"$f":"FV(Paramètres!$D$24,B190,-D190,,1)-FV(i_p_2,B190,-D190,,1)+(1-PI_1)*'Simulations (3)'!C190*B190","v":-162592585.08423772},{"$f":"FV(Paramètres!$E$24,B190,-E190,,1)-FV(i_p_3,B190,-E190,,1)+(1-PI_1)*'Simulations (3)'!C190*B190","v":-238083797.43105087},4216573.443441825,4923409.2324976362,5665051.6366031393]
[null,189,65600,63632,63632,54386.656822082623,63647.1153752561,73584.720051860408,12398400,16667392.100263909,17383488.347872891,18135068.356654998,{"$f":"FV(Paramètres!$C$24,B191,-D191,,1)-FV(i_p_1,B191,-D191,,1)+(1-PI_1)*'Simulations (3)'!C191*B191","v":-113064322.06563877},{"$f":"FV(Paramètres!$D$24,B191,-D191,,1)-FV(i_p_2,B191,-D191,,1)+(1-PI_1)*'Simulations (3)'!C191*B191","v":-166538688.98278233},{"$f":"FV(Paramètres!$E$24,B191,-E191,,1)-FV(i_p_3,B191,-E191,,1)+(1-PI_1)*'Simulations (3)'!C191*B191","v":-244342908.82987764},4268992.1002639085,4985088.3478728905,5736668.3566549979]
[null,190,65600,63632,63632,54773.019193962755,64114.841864916365,74143.757954537898,12464000,16785797.119457871,17511235.189737808,18272844.114609536,{"$f":"FV(Paramètres!$C$24,B192,-D192,,1)-FV(i_p_1,B192,-D192,,1)+(1-PI_1)*'Simulations (3)'!C192*B192","v":-115585401.55645972},{"$f":"FV(Paramètres!$D$24,B192,-D192,,1)-FV(i_p_2,B192,-D192,,1)+(1-PI_1)*'Simulations (3)'!C192*B192","v":-170575011.55692282},{"$f":"FV(Paramètres!$E$24,B192,-E192,,1)-FV(i_p_3,B192,-E192,,1)+(1-PI_1)*'Simulations (3)'!C192*B192","v":-250759467.60354117},4321797.1194578707,5047235.189737808,5808844.1146095358]
[null,191,65600,63632,63632,55160.646415710056,64584.287160277687,74705.073446830662,12529600,16904589.765873581,17639451.476898085,18411181.188056365,{"$f":"FV(Paramètres!$C$24,B193,-D193,,1)-FV(i_p_1,B193,-D193,,1)+(1-PI_1)*'Simulations (3)'!C193*B193","v":-118158404.48860298},{"$f":"FV(Paramètres!$D$24,B193,-D193,,1)-FV(i_p_2,B193,-D193,,1)+(1-PI_1)*'Simulations (3)'!C193*B193","v":-174703569.07930869},{"$f":"FV(Paramètres!$E$24,B193,-E193,,1)-FV(i_p_3,B193,-E193,,1)+(1-PI_1)*'Simulations (3)'!C193*B193","v":-257337373.45491701},4374989.7658735812,5109851.4768980853,5881581.1880563647]
[null,192,65600,63632,63632,55549.542628113857,65055.457577623383,75268.675807920692,12595200,17023771.308501694,17768138.934475709,18550081.863864284,{"$f":"FV(Paramètres!$C$24,B194,-D194,,1)-FV(i_p_1,B194,-D194,,1)+(1-PI_1)*'Simulations (3)'!C194*B194","v":-120784365.55639042},{"$f":"FV(Paramètres!$D$24,B194,-D194,,1)-FV(i_p_2,B194,-D194,,1)+(1-PI_1)*'Simulations (3)'!C194*B194","v":-178926422.72145671},{"$f":"FV(Paramètres!$E$24,B194,-E194,,1)-FV(i_p_3,B194,-E194,,1)+(1-PI_1)*'Simulations (3)'!C194*B194","v":-264080622.43730798},4428571.3085016944,5172938.9344757088,5954881.863864284]
[17,193,65600,63632,{"$f":"+C195*PI_3","v":63632},55939.711985519345,65528.35945644795,75834.574354794575,12660800,17143343.020487215,17897299.293932158,18689548.438219078,{"$f":"FV(Paramètres!$C$24,B195,-D195,,1)-FV(i_p_1,B195,-D195,,1)+(1-PI_1)*'Simulations (3)'!C195*B195","v":-123464339.96610624},{"$f":"FV(Paramètres!$D$24,B195,-D195,,1)-FV(i_p_2,B195,-D195,,1)+(1-PI_1)*'Simulations (3)'!C195*B195","v":-183245679.55297598},{"$f":"FV(Paramètres!$E$24,B195,-E195,,1)-FV(i_p_3,B195,-E195,,1)+(1-PI_1)*'Simulations (3)'!C195*B195","v":-270993309.33401692},4482543.0204872154,5236499.2939321585,6028748.4382190779]
[null,194,65600,63632,63632,{"$f":"(D196+J195)*(tm_1)","v":56331.158655871979},{"$f":"+tm_2*(D196+K195)","v":66002.99915954232},{"$f":"+tm_3*(E196+L195)","v":76402.778442397394},12726400,{"$f":"(D196+J195)*(1+tm_1)","v":17263306.179143086},{"$f":"(D196+K195)*(1+tm_2)","v":18026934.293091699},{"$f":"(E196+L195)*(1+tm_3)","v":18829583.216661476},{"$f":"FV(Paramètres!$C$24,B196,-D196,,1)-FV(i_p_1,B196,-D196,,1)+(1-PI_1)*'Simulations (3)'!C196*B196","v":-126199403.84228247},{"$f":"FV(Paramètres!$D$24,B196,-D196,,1)-FV(i_p_2,B196,-D196,,1)+(1-PI_1)*'Simulations (3)'!C196*B196","v":-187663493.56302965},{"$f":"FV(Paramètres!$E$24,B196,-E196,,1)-FV(i_p_3,B196,-E196,,1)+(1-PI_1)*'Simulations (3)'!C196*B196","v":-278079630.09668344},4536906.1791430861,5300534.2930916995,6103183.2166614756]
[null,{"$f":"+B196+1","v":195},65600,63632,63632,56723.886820761945,66479.383073079429,76973.297463787501,12792000,17383662.065963849,18157045.67616478,18970188.514125261,{"$f":"FV(Paramètres!$C$24,B197,-D197,,1)-FV(i_p_1,B197,-D197,,1)+(1-PI_1)*'Simulations (3)'!C197*B197","v":-128990654.6420311},{"$f":"FV(Paramètres!$D$24,B197,-D197,,1)-FV(i_p_2,B197,-D197,,1)+(1-PI_1)*'Simulations (3)'!C197*B197","v":-192182066.70452636},{"$f":"FV(Paramètres!$E$24,B197,-E197,,1)-FV(i_p_3,B197,-E197,,1)+(1-PI_1)*'Simulations (3)'!C197*B197","v":-285343884.34383661},{"$f":"+J197-I197","v":4591662.0659638494},{"$f":"+K197-I197","v":5365045.6761647798},{"$f":"+L197-I197","v":6178188.5141252615}]
[null,196,65600,63632,63632,57117.900675468904,66957.517606700218,77546.14085029166,12857600,17504411.966639318,18287635.193771482,19111366.654975552,{"$f":"FV(Paramètres!$C$24,B198,-D198,,1)-FV(i_p_1,B198,-D198,,1)+(1-PI_1)*'Simulations (3)'!C198*B198","v":-131839211.57758109},{"$f":"FV(Paramètres!$D$24,B198,-D198,,1)-FV(i_p_2,B198,-D198,,1)+(1-PI_1)*'Simulations (3)'!C198*B198","v":-196803649.96154746},{"$f":"FV(Paramètres!$E$24,B198,-E198,,1)-FV(i_p_3,B198,-E198,,1)+(1-PI_1)*'Simulations (3)'!C198*B198","v":-292790477.92115057},4646811.9666393176,5430035.1937714815,6253766.6549755521]
[null,197,65600,63632,63632,57513.20442900675,67437.409193599844,78121.31807166108,12923200,17625557.171068326,18418704.602965083,19253119.973047212,{"$f":"FV(Paramètres!$C$24,B199,-D199,,1)-FV(i_p_1,B199,-D199,,1)+(1-PI_1)*'Simulations (3)'!C199*B199","v":-134746216.04718423},{"$f":"FV(Paramètres!$D$24,B199,-D199,,1)-FV(i_p_2,B199,-D199,,1)+(1-PI_1)*'Simulations (3)'!C199*B199","v":-201530544.44052917},{"$f":"FV(Paramètres!$E$24,B199,-E199,,1)-FV(i_p_3,B199,-E199,,1)+(1-PI_1)*'Simulations (3)'!C199*B199","v":-300423925.52492678},4702357.1710683256,5495504.602965083,6329919.9730472118]
[null,198,65600,63632,63632,57909.802304168617,67919.064290614187,78698.838636227898,12988800,17747098.973372493,18550255.667255696,19395450.811683439,{"$f":"FV(Paramètres!$C$24,B200,-D200,,1)-FV(i_p_1,B200,-D200,,1)+(1-PI_1)*'Simulations (3)'!C200*B200","v":-137712832.0745545},{"$f":"FV(Paramètres!$D$24,B200,-D200,,1)-FV(i_p_2,B200,-D200,,1)+(1-PI_1)*'Simulations (3)'!C200*B200","v":-206365102.48572475},{"$f":"FV(Paramètres!$E$24,B200,-E200,,1)-FV(i_p_3,B200,-E200,,1)+(1-PI_1)*'Simulations (3)'!C200*B200","v":-308248853.3903631},4758298.9733724929,5561455.6672556959,6406650.8116834387]
[null,199,{"$f":"Prime_périodique","v":65600},63632,63632,58307.698537571923,68402.489378306811,79278.712091062378,13054400,17869038.671910066,18682290.156634003,19538361.523774501,{"$f":"FV(Paramètres!$C$24,B201,-D201,,1)-FV(i_p_1,B201,-D201,,1)+(1-PI_1)*'Simulations (3)'!C201*B201","v":-140740246.75701034},{"$f":"FV(Paramètres!$D$24,B201,-D201,,1)-FV(i_p_2,B201,-D201,,1)+(1-PI_1)*'Simulations (3)'!C201*B201","v":-211309728.81948963},{"$f":"FV(Paramètres!$E$24,B201,-E201,,1)-FV(i_p_3,B201,-E201,,1)+(1-PI_1)*'Simulations (3)'!C201*B201","v":-316270002.04621232},4814638.6719100662,5627890.1566340029,6483961.5237745009]
[null,200,65600,63632,63632,58706.897379703718,68887.690961056083,79860.948022130688,13120000,17991377.56928977,18814809.847595058,19681854.471796632,{"$f":"FV(Paramètres!$C$24,B202,-D202,,1)-FV(i_p_1,B202,-D202,,1)+(1-PI_1)*'Simulations (3)'!C202*B202","v":-143829670.72249213},{"$f":"FV(Paramètres!$D$24,B202,-D202,,1)-FV(i_p_2,B202,-D202,,1)+(1-PI_1)*'Simulations (3)'!C202*B202","v":-216366881.70794153},{"$f":"FV(Paramètres!$E$24,B202,-E202,,1)-FV(i_p_3,B202,-E202,,1)+(1-PI_1)*'Simulations (3)'!C202*B202","v":-324492229.13746625},4871377.56928977,5694809.8475950584,6561854.4717966318]
[null,201,65600,{"$f":"+C203*PI_3","v":63632},63632,59107.403094966008,69374.675567142767,80445.556054453467,13185600,18114116.972384736,18947816.523162201,19825932.027851086,{"$f":"FV(Paramètres!$C$24,B203,-D203,,1)-FV(i_p_1,B203,-D203,,1)+(1-PI_1)*'Simulations (3)'!C203*B203","v":-146982338.59563029},{"$f":"FV(Paramètres!$D$24,B203,-D203,,1)-FV(i_p_2,B203,-D203,,1)+(1-PI_1)*'Simulations (3)'!C203*B203","v":-221539074.15255904},{"$f":"FV(Paramètres!$E$24,B203,-E203,,1)-FV(i_p_3,B203,-E203,,1)+(1-PI_1)*'Simulations (3)'!C203*B203","v":-332920512.31774902},4928516.9723847359,5762216.523162201,6640332.0278510861]
[null,202,65600,63632,63632,59509.219961721348,69863.449748837753,81032.545852264855,13251200,18237258.192346457,19081311.972911038,19970596.573703352,{"$f":"FV(Paramètres!$C$24,B204,-D204,,1)-FV(i_p_1,B204,-D204,,1)+(1-PI_1)*'Simulations (3)'!C204*B204","v":-150199509.47304451},{"$f":"FV(Paramètres!$D$24,B204,-D204,,1)-FV(i_p_2,B204,-D204,,1)+(1-PI_1)*'Simulations (3)'!C204*B204","v":-226828875.10829678},{"$f":"FV(Paramètres!$E$24,B204,-E204,,1)-FV(i_p_3,B204,-E204,,1)+(1-PI_1)*'Simulations (3)'!C204*B204","v":-341559952.21313673},4986058.1923464574,5830111.9729110375,6719396.5737033524]
[null,203,65600,63632,63632,59912.352272338539,70354.02008249033,81621.927119172251,13316800,18360802.544618797,19215297.992993526,20115850.500822525,{"$f":"FV(Paramètres!$C$24,B205,-D205,,1)-FV(i_p_1,B205,-D205,,1)+(1-PI_1)*'Simulations (3)'!C205*B205","v":-153482467.40805465},{"$f":"FV(Paramètres!$D$24,B205,-D205,,1)-FV(i_p_2,B205,-D205,,1)+(1-PI_1)*'Simulations (3)'!C205*B205","v":-232238910.7288073},{"$f":"FV(Paramètres!$E$24,B205,-E205,,1)-FV(i_p_3,B205,-E205,,1)+(1-PI_1)*'Simulations (3)'!C205*B205","v":-350415775.45917171},5044002.5446187966,5898497.9929935262,6799050.5008225255]
[null,204,65600,63632,63632,60316.804333238499,70846.393168616574,82213.709598316811,13382400,18484751.348952036,19349776.386162143,20261696.210420843,{"$f":"FV(Paramètres!$C$24,B206,-D206,,1)-FV(i_p_1,B206,-D206,,1)+(1-PI_1)*'Simulations (3)'!C206*B206","v":-156832521.90499231},{"$f":"FV(Paramètres!$D$24,B206,-D206,,1)-FV(i_p_2,B206,-D206,,1)+(1-PI_1)*'Simulations (3)'!C206*B206","v":-237771865.63937211},{"$f":"FV(Paramètres!$E$24,B206,-E206,,1)-FV(i_p_3,B206,-E206,,1)+(1-PI_1)*'Simulations (3)'!C206*B206","v":-359493337.81287527},5102351.3489520364,5967376.3861621432,6879296.2104208432]
[18,205,65600,63632,63632,60722.580464940213,71340.575631988249,82807.903072534376,13448000,18609105.929416977,19484748.961794131,20408136.113493379,{"$f":"FV(Paramètres!$C$24,B207,-D207,,1)-FV(i_p_1,B207,-D207,,1)+(1-PI_1)*'Simulations (3)'!C207*B207","v":-160251008.42330125},{"$f":"FV(Paramètres!$D$24,B207,-D207,,1)-FV(i_p_2,B207,-D207,,1)+(1-PI_1)*'Simulations (3)'!C207*B207","v":-243430484.23815981},{"$f":"FV(Paramètres!$E$24,B207,-E207,,1)-FV(i_p_3,B207,-E207,,1)+(1-PI_1)*'Simulations (3)'!C207*B207","v":-368798127.3416146},5161105.9294169769,6036748.9617941305,6960136.1134933792]
[null,206,65600,63632,63632,61129.68500210694,71836.574121721846,83404.517364517364,13513600,18733867.614419084,19620217.535915852,20555172.630857896,{"$f":"FV(Paramètres!$C$24,B208,-D208,,1)-FV(i_p_1,B208,-D208,,1)+(1-PI_1)*'Simulations (3)'!C208*B208","v":-163739288.89162081},{"$f":"FV(Paramètres!$D$24,B208,-D208,,1)-FV(i_p_2,B208,-D208,,1)+(1-PI_1)*'Simulations (3)'!C208*B208","v":-249217572.02643955},{"$f":"FV(Paramètres!$E$24,B208,-E208,,1)-FV(i_p_3,B208,-E208,,1)+(1-PI_1)*'Simulations (3)'!C208*B208","v":-378335767.69071716},5220267.614419084,6106617.5359158516,7041572.6308578961]
[null,207,65600,63632,63632,61538.122293592511,72334.39531136812,84003.56233697696,13579200,18859037.736712676,19756183.931227218,20702808.193194874,{"$f":"FV(Paramètres!$C$24,B209,-D209,,1)-FV(i_p_1,B209,-D209,,1)+(1-PI_1)*'Simulations (3)'!C209*B209","v":-167298752.23205203},{"$f":"FV(Paramètres!$D$24,B209,-D209,,1)-FV(i_p_2,B209,-D209,,1)+(1-PI_1)*'Simulations (3)'!C209*B209","v":-255135996.96839678},{"$f":"FV(Paramètres!$E$24,B209,-E209,,1)-FV(i_p_3,B209,-E209,,1)+(1-PI_1)*'Simulations (3)'!C209*B209","v":-388112021.43178266},5279837.7367126755,6176983.9312272184,7123608.1931948736]
[null,208,65600,63632,63632,61947.896702487742,72834.045899001852,84605.047892806338,13644800,18984617.633415163,19892649.977126218,20851045.241087679,{"$f":"FV(Paramètres!$C$24,B210,-D210,,1)-FV(i_p_1,B210,-D210,,1)+(1-PI_1)*'Simulations (3)'!C210*B210","v":-170930814.89480421},{"$f":"FV(Paramètres!$D$24,B210,-D210,,1)-FV(i_p_2,B210,-D210,,1)+(1-PI_1)*'Simulations (3)'!C210*B210","v":-261188690.8812072},{"$f":"FV(Paramètres!$E$24,B210,-E210,,1)-FV(i_p_3,B210,-E210,,1)+(1-PI_1)*'Simulations (3)'!C210*B210","v":-398132793.49368018},5339817.6334151626,6247849.9771262184,7206245.2410876788]
[null,209,65600,63632,63632,62359.012606167104,73335.532607311936,85208.983975244235,13710400,19110608.646021329,20029617.509733532,20999886.225062922,{"$f":"FV(Paramètres!$C$24,B211,-D211,,1)-FV(i_p_1,B211,-D211,,1)+(1-PI_1)*'Simulations (3)'!C211*B211","v":-174636921.40343174},{"$f":"FV(Paramètres!$D$24,B211,-D211,,1)-FV(i_p_2,B211,-D211,,1)+(1-PI_1)*'Simulations (3)'!C211*B211","v":-267378650.85604557},{"$f":"FV(Paramètres!$E$24,B211,-E211,,1)-FV(i_p_3,B211,-E211,,1)+(1-PI_1)*'Simulations (3)'!C211*B211","v":-408404134.67827743},5400208.6460213289,6319217.5097335316,7289486.2250629216]
[null,210,65600,63632,63632,62771.474396335441,73838.862183691934,85815.3805680394,13776000,19237012.120417666,20167088.371917225,21149333.60563096,{"$f":"FV(Paramètres!$C$24,B212,-D212,,1)-FV(i_p_1,B212,-D212,,1)+(1-PI_1)*'Simulations (3)'!C212*B212","v":-178418544.91086826},{"$f":"FV(Paramètres!$D$24,B212,-D212,,1)-FV(i_p_2,B212,-D212,,1)+(1-PI_1)*'Simulations (3)'!C212*B212","v":-273708940.71071327},{"$f":"FV(Paramètres!$E$24,B212,-E212,,1)-FV(i_p_3,B212,-E212,,1)+(1-PI_1)*'Simulations (3)'!C212*B212","v":-418932245.26298934},5461012.1204176657,6391088.3719172254,7373333.6056309603]
[null,211,65600,63632,63632,63185.286479074886,74344.041400330738,86424.247695615588,13841600,19363829.40689674,20305064.413317557,21299389.853326578,{"$f":"FV(Paramètres!$C$24,B213,-D213,,1)-FV(i_p_1,B213,-D213,,1)+(1-PI_1)*'Simulations (3)'!C213*B213","v":-182277187.76647228},{"$f":"FV(Paramètres!$D$24,B213,-D213,,1)-FV(i_p_2,B213,-D213,,1)+(1-PI_1)*'Simulations (3)'!C213*B213","v":-280182692.47459376},{"$f":"FV(Paramètres!$E$24,B213,-E213,,1)-FV(i_p_3,B213,-E213,,1)+(1-PI_1)*'Simulations (3)'!C213*B213","v":-429723478.69229484},5522229.4068967402,6463464.4133175574,7457789.8533265777]
[null,212,65600,63632,63632,63600.453274891952,74851.077054303736,87035.595423237333,13907200,19491061.860171631,20443547.490371861,21450057.448749814,{"$f":"FV(Paramètres!$C$24,B214,-D214,,1)-FV(i_p_1,B214,-D214,,1)+(1-PI_1)*'Simulations (3)'!C214*B214","v":-186214382.09430349},{"$f":"FV(Paramètres!$D$24,B214,-D214,,1)-FV(i_p_2,B214,-D214,,1)+(1-PI_1)*'Simulations (3)'!C214*B214","v":-286803107.90664911},{"$f":"FV(Paramètres!$E$24,B214,-E214,,1)-FV(i_p_3,B214,-E214,,1)+(1-PI_1)*'Simulations (3)'!C214*B214","v":-440784345.36041558},5583861.860171631,6536347.4903718606,7542857.4487498142]
[null,213,65600,63632,63632,64016.979218764725,75359.975967664315,87649.433857176249,13972800,19618710.839390397,20582539.466339525,21601338.882606991,{"$f":"FV(Paramètres!$C$24,B215,-D215,,1)-FV(i_p_1,B215,-D215,,1)+(1-PI_1)*'Simulations (3)'!C215*B215","v":-190231690.38285121},{"$f":"FV(Paramètres!$D$24,B215,-D215,,1)-FV(i_p_2,B215,-D215,,1)+(1-PI_1)*'Simulations (3)'!C215*B215","v":-293573460.04719985},{"$f":"FV(Paramètres!$E$24,B215,-E215,,1)-FV(i_p_3,B215,-E215,,1)+(1-PI_1)*'Simulations (3)'!C215*B215","v":-452121516.48740953},5645910.8393903971,6609739.4663395248,7628538.8826069906]
[null,214,65600,63632,63632,64434.868760190286,75870.744987535581,88265.7731448782,14038400,19746777.708150588,20722042.211327061,21753236.655751869,{"$f":"FV(Paramètres!$C$24,B216,-D216,,1)-FV(i_p_1,B216,-D216,,1)+(1-PI_1)*'Simulations (3)'!C216*B216","v":-194330706.08644131},{"$f":"FV(Paramètres!$D$24,B216,-D216,,1)-FV(i_p_2,B216,-D216,,1)+(1-PI_1)*'Simulations (3)'!C216*B216","v":-300497094.80423194},{"$f":"FV(Paramètres!$E$24,B216,-E216,,1)-FV(i_p_3,B216,-E216,,1)+(1-PI_1)*'Simulations (3)'!C216*B216","v":-463741828.09098583},5708377.708150588,6683642.2113270611,7714836.6557518691]
[null,215,65600,63632,63632,64854.126363232164,76383.390986202518,88884.623475130968,14104000,19875263.834513821,20862057.602313265,21905753.279227,{"$f":"FV(Paramètres!$C$24,B217,-D217,,1)-FV(i_p_1,B217,-D217,,1)+(1-PI_1)*'Simulations (3)'!C217*B217","v":-198513054.23855519},{"$f":"FV(Paramètres!$D$24,B217,-D217,,1)-FV(i_p_2,B217,-D217,,1)+(1-PI_1)*'Simulations (3)'!C217*B217","v":-307577432.57500738},{"$f":"FV(Paramètres!$E$24,B217,-E217,,1)-FV(i_p_3,B217,-E217,,1)+(1-PI_1)*'Simulations (3)'!C217*B217","v":-475652285.05640465},5771263.8345138207,6758057.6023132652,7801753.2792269997]
[null,216,65600,63632,63632,65274.756506568119,76897.92086120446,89505.995078232736,14169600,20004170.59102039,21002587.523174468,22058891.274305232,{"$f":"FV(Paramètres!$C$24,B218,-D218,,1)-FV(i_p_1,B218,-D218,,1)+(1-PI_1)*'Simulations (3)'!C218*B218","v":-202780392.07729304},{"$f":"FV(Paramètres!$D$24,B218,-D218,,1)-FV(i_p_2,B218,-D218,,1)+(1-PI_1)*'Simulations (3)'!C218*B218","v":-314817969.9037568},{"$f":"FV(Paramètres!$E$24,B218,-E218,,1)-FV(i_p_3,B218,-E218,,1)+(1-PI_1)*'Simulations (3)'!C218*B218","v":-487860065.30688345},5834570.5910203904,6832987.5231744684,7889291.2743052319]
[19,217,65600,63632,63632,65696.763683537909,77414.34153542787,90129.898226161196,14235200,20133499.354703929,21143633.864709895,22212653.172531392,{"$f":"FV(Paramètres!$C$24,B219,-D219,,1)-FV(i_p_1,B219,-D219,,1)+(1-PI_1)*'Simulations (3)'!C219*B219","v":-207134409.68322569},{"$f":"FV(Paramètres!$D$24,B219,-D219,,1)-FV(i_p_2,B219,-D219,,1)+(1-PI_1)*'Simulations (3)'!C219*B219","v":-322222281.17626226},{"$f":"FV(Paramètres!$E$24,B219,-E219,,1)-FV(i_p_3,B219,-E219,,1)+(1-PI_1)*'Simulations (3)'!C219*B219","v":-500372524.07699573},5898299.3547039293,6908433.8647098951,7977453.1725313924]
[null,218,65600,63632,63632,66120.152402191306,77932.659957199474,90756.343232743311,14300800,20263251.507106122,21285198.524667095,22367041.515764136,{"$f":"FV(Paramètres!$C$24,B220,-D220,,1)-FV(i_p_1,B220,-D220,,1)+(1-PI_1)*'Simulations (3)'!C220*B220","v":-211576830.62987763},{"$f":"FV(Paramètres!$D$24,B220,-D220,,1)-FV(i_p_2,B220,-D220,,1)+(1-PI_1)*'Simulations (3)'!C220*B220","v":-329794020.35214818},{"$f":"FV(Paramètres!$E$24,B220,-E220,,1)-FV(i_p_3,B220,-E220,,1)+(1-PI_1)*'Simulations (3)'!C220*B220","v":-513197198.29159808},5962451.5071061216,6984398.5246670954,8066241.5157641359]
[null,219,65600,63632,63632,66544.927185336303,78452.88310037984,91385.340453825891,14366400,20393428.43429146,21427283.407767475,22522058.856217962,{"$f":"FV(Paramètres!$C$24,B221,-D221,,1)-FV(i_p_1,B221,-D221,,1)+(1-PI_1)*'Simulations (3)'!C221*B221","v":-216109412.64709312},{"$f":"FV(Paramètres!$D$24,B221,-D221,,1)-FV(i_p_2,B221,-D221,,1)+(1-PI_1)*'Simulations (3)'!C221*B221","v":-337536922.73572057},{"$f":"FV(Paramètres!$E$24,B221,-E221,,1)-FV(i_p_3,B221,-E221,,1)+(1-PI_1)*'Simulations (3)'!C221*B221","v":-526341811.0528996},6027028.4342914596,7060883.4077674747,8155658.8562179618]
[null,220,65600,63632,63632,66971.092570587352,78975.017964457089,92016.900287446741,14432000,20524031.526862048,21569890.425731931,22677707.756505407,{"$f":"FV(Paramètres!$C$24,B222,-D222,,1)-FV(i_p_1,B222,-D222,,1)+(1-PI_1)*'Simulations (3)'!C222*B222","v":-220733948.29753888},{"$f":"FV(Paramètres!$D$24,B222,-D222,,1)-FV(i_p_2,B222,-D222,,1)+(1-PI_1)*'Simulations (3)'!C222*B222","v":-345454806.78621203},{"$f":"FV(Paramètres!$E$24,B222,-E222,,1)-FV(i_p_3,B222,-E222,,1)+(1-PI_1)*'Simulations (3)'!C222*B222","v":-539814276.23833895},6092031.5268620476,7137890.4257319309,8245707.7565054074]
[null,221,65600,63632,63632,67398.653110413899,79499.071574641144,92651.03317400653,14497600,20655062.179972462,21713021.49730657,22833990.789679416,{"$f":"FV(Paramètres!$C$24,B223,-D223,,1)-FV(i_p_1,B223,-D223,,1)+(1-PI_1)*'Simulations (3)'!C223*B223","v":-225452265.66660529},{"$f":"FV(Paramètres!$D$24,B223,-D223,,1)-FV(i_p_2,B223,-D223,,1)+(1-PI_1)*'Simulations (3)'!C223*B223","v":-353551575.96831048},{"$f":"FV(Paramètres!$E$24,B223,-E223,,1)-FV(i_p_3,B223,-E223,,1)+(1-PI_1)*'Simulations (3)'!C223*B223","v":-553622703.21200812},6157462.1799724624,7215421.4973065704,8336390.7896794155]
[null,222,65600,63632,63632,67827.613372188964,80025.050981958222,93287.74959644147,14563200,20786521.79334465,21856678.548288528,22990910.539275859,{"$f":"FV(Paramètres!$C$24,B224,-D224,,1)-FV(i_p_1,B224,-D224,,1)+(1-PI_1)*'Simulations (3)'!C224*B224","v":-230266229.06597009},{"$f":"FV(Paramètres!$D$24,B224,-D224,,1)-FV(i_p_2,B224,-D224,,1)+(1-PI_1)*'Simulations (3)'!C224*B224","v":-361831220.64386511},{"$f":"FV(Paramètres!$E$24,B224,-E224,,1)-FV(i_p_3,B224,-E224,,1)+(1-PI_1)*'Simulations (3)'!C224*B224","v":-567775401.65242481},6223321.7933446504,7293478.5482885279,8427710.5392758586]
[null,223,65600,63632,63632,68257.977938237993,80552.963263345751,93927.060080396477,14628800,20918411.771282889,22000863.511551872,23148469.599356256,{"$f":"FV(Paramètres!$C$24,B225,-D225,,1)-FV(i_p_1,B225,-D225,,1)+(1-PI_1)*'Simulations (3)'!C225*B225","v":-235177739.75109574},{"$f":"FV(Paramètres!$D$24,B225,-D225,,1)-FV(i_p_2,B225,-D225,,1)+(1-PI_1)*'Simulations (3)'!C225*B225","v":-370297820.0056901},{"$f":"FV(Paramètres!$E$24,B225,-E225,,1)-FV(i_p_3,B225,-E225,,1)+(1-PI_1)*'Simulations (3)'!C225*B225","v":-582280886.49952984},6289611.7712828889,7372063.5115518719,8519669.5993562564]
[null,224,65600,63632,63632,68689.751405887742,81082.815521747529,94568.975194399303,14694400,21050733.522688776,22145578.327073619,23306670.574550655,{"$f":"FV(Paramètres!$C$24,B226,-D226,,1)-FV(i_p_1,B226,-D226,,1)+(1-PI_1)*'Simulations (3)'!C226*B226","v":-240188736.65293637},{"$f":"FV(Paramètres!$D$24,B226,-D226,,1)-FV(i_p_2,B226,-D226,,1)+(1-PI_1)*'Simulations (3)'!C226*B226","v":-378955544.05439883},{"$f":"FV(Paramètres!$E$24,B226,-E226,,1)-FV(i_p_3,B226,-E226,,1)+(1-PI_1)*'Simulations (3)'!C226*B226","v":-597147883.02384925},6356333.5226887763,7451178.3270736188,8612270.5745506547]
[null,225,65600,63632,63632,69122.938387515431,81614.61488620934,95213.505550035174,14760000,21183488.461076293,22290824.941959828,23465516.080100689,{"$f":"FV(Paramètres!$C$24,B227,-D227,,1)-FV(i_p_1,B227,-D227,,1)+(1-PI_1)*'Simulations (3)'!C227*B227","v":-245301197.12413538},{"$f":"FV(Paramètres!$D$24,B227,-D227,,1)-FV(i_p_2,B227,-D227,,1)+(1-PI_1)*'Simulations (3)'!C227*B227","v":-387808655.61922991},{"$f":"FV(Paramètres!$E$24,B227,-E227,,1)-FV(i_p_3,B227,-E227,,1)+(1-PI_1)*'Simulations (3)'!C227*B227","v":-612385332.02084374},6423488.4610762931,7530824.9419598281,8705516.0801006891]
[null,226,65600,63632,63632,69557.543510598,82148.368511974812,95860.661802122209,14825600,21316678.00458689,22436605.310471803,23625008.74190281,{"$f":"FV(Paramètres!$C$24,B228,-D228,,1)-FV(i_p_1,B228,-D228,,1)+(1-PI_1)*'Simulations (3)'!C228*B228","v":-250517137.700001},{"$f":"FV(Paramètres!$D$24,B228,-D228,,1)-FV(i_p_2,B228,-D228,,1)+(1-PI_1)*'Simulations (3)'!C228*B228","v":-396861512.42383909},{"$f":"FV(Paramètres!$E$24,B228,-E228,,1)-FV(i_p_3,B228,-E228,,1)+(1-PI_1)*'Simulations (3)'!C228*B228","v":-628002395.13353121},6491078.0045868903,7611005.3104718029,8799408.7419028096]
[null,227,65600,63632,63632,69993.571417761559,82684.083580581762,96510.454648887608,14891200,21450303.57600465,22582921.394052386,23785151.196551695,{"$f":"FV(Paramètres!$C$24,B229,-D229,,1)-FV(i_p_1,B229,-D229,,1)+(1-PI_1)*'Simulations (3)'!C229*B229","v":-255838614.87455326},{"$f":"FV(Paramètres!$D$24,B229,-D229,,1)-FV(i_p_2,B229,-D229,,1)+(1-PI_1)*'Simulations (3)'!C229*B229","v":-406118569.19806308},{"$f":"FV(Paramètres!$E$24,B229,-E229,,1)-FV(i_p_3,B229,-E229,,1)+(1-PI_1)*'Simulations (3)'!C229*B229","v":-644008460.30655408},6559103.5760046504,7691721.3940523863,8893951.1965516955]
[null,228,65600,63632,63632,70431.026766830939,83221.767299958796,97162.894832144462,14956800,21584366.60277148,22729775.161352344,23945946.091383841,{"$f":"FV(Paramètres!$C$24,B230,-D230,,1)-FV(i_p_1,B230,-D230,,1)+(1-PI_1)*'Simulations (3)'!C230*B230","v":-261267725.89193779},{"$f":"FV(Paramètres!$D$24,B230,-D230,,1)-FV(i_p_2,B230,-D230,,1)+(1-PI_1)*'Simulations (3)'!C230*B230","v":-415584379.83667451},{"$f":"FV(Paramètres!$E$24,B230,-E230,,1)-FV(i_p_3,B230,-E230,,1)+(1-PI_1)*'Simulations (3)'!C230*B230","v":-660413147.37493587},6627566.6027714796,7772975.1613523439,8989146.0913838409]
[20,229,65600,63632,63632,70869.914230879513,83761.426904522246,97817.993137469341,15022400,21718868.517002359,22877168.588256866,24107396.084521309,{"$f":"FV(Paramètres!$C$24,B231,-D231,,1)-FV(i_p_1,B231,-D231,,1)+(1-PI_1)*'Simulations (3)'!C231*B231","v":-266806609.55351567},{"$f":"FV(Paramètres!$D$24,B231,-D231,,1)-FV(i_p_2,B231,-D231,,1)+(1-PI_1)*'Simulations (3)'!C231*B231","v":-425263599.6061759},{"$f":"FV(Paramètres!$E$24,B231,-E231,,1)-FV(i_p_3,B231,-E231,,1)+(1-PI_1)*'Simulations (3)'!C231*B231","v":-677226313.79085374},6696468.517002359,7854768.5882568657,9084996.0845213085]
[null,230,65600,63632,63632,71310.238498279039,84303.069655273575,98475.760394380573,15088000,21853810.755500637,23025103.657912139,24269503.844915688,{"$f":"FV(Paramètres!$C$24,B232,-D232,,1)-FV(i_p_1,B232,-D232,,1)+(1-PI_1)*'Simulations (3)'!C232*B232","v":-272457447.0409348},{"$f":"FV(Paramètres!$D$24,B232,-D232,,1)-FV(i_p_2,B232,-D232,,1)+(1-PI_1)*'Simulations (3)'!C232*B232","v":-435160987.40069795},{"$f":"FV(Paramètres!$E$24,B232,-E232,,1)-FV(i_p_3,B232,-E232,,1)+(1-PI_1)*'Simulations (3)'!C232*B232","v":-694458060.49183428},6765810.755500637,7937103.6579121388,9181503.844915688]
[null,231,65600,63632,63632,71752.004272749837,84846.702839897058,99136.207476517273,15153600,21989194.759773389,23173582.360752035,24432272.052392207,{"$f":"FV(Paramètres!$C$24,B233,-D233,,1)-FV(i_p_1,B233,-D233,,1)+(1-PI_1)*'Simulations (3)'!C233*B233","v":-278222462.75550312},{"$f":"FV(Paramètres!$D$24,B233,-D233,,1)-FV(i_p_2,B233,-D233,,1)+(1-PI_1)*'Simulations (3)'!C233*B233","v":-445281408.04810214},{"$f":"FV(Paramètres!$E$24,B233,-E233,,1)-FV(i_p_3,B233,-E233,,1)+(1-PI_1)*'Simulations (3)'!C233*B233","v":-712118737.91386604},6835594.7597733885,8019982.3607520349,9278672.0523922071]
[null,232,65600,63632,63632,72195.21627341093,85392.333772857775,99799.345301819179,15219200,22125021.976046801,23322606.694524892,24595703.397694025,{"$f":"FV(Paramètres!$C$24,B234,-D234,,1)-FV(i_p_1,B234,-D234,,1)+(1-PI_1)*'Simulations (3)'!C234*B234","v":-284103925.17418379},{"$f":"FV(Paramètres!$D$24,B234,-D234,,1)-FV(i_p_2,B234,-D234,,1)+(1-PI_1)*'Simulations (3)'!C234*B234","v":-455629834.66739476},{"$f":"FV(Paramètres!$E$24,B234,-E234,,1)-FV(i_p_3,B234,-E234,,1)+(1-PI_1)*'Simulations (3)'!C234*B234","v":-730218952.15300763},6905821.9760468006,8103406.6945248917,9376503.3976940252]
[null,233,65600,{"$f":"+C235*PI_3","v":63632},63632,72639.879234830529,85939.969795500117,100465.18483270696,15284800,22261293.855281632,23472178.664320391,24759800.582526732,{"$f":"FV(Paramètres!$C$24,B235,-D235,,1)-FV(i_p_1,B235,-D235,,1)+(1-PI_1)*'Simulations (3)'!C235*B235","v":-290104147.72254378},{"$f":"FV(Paramètres!$D$24,B235,-D235,,1)-FV(i_p_2,B235,-D235,,1)+(1-PI_1)*'Simulations (3)'!C235*B235","v":-466211351.07860422},{"$f":"FV(Paramètres!$E$24,B235,-E235,,1)-FV(i_p_3,B235,-E235,,1)+(1-PI_1)*'Simulations (3)'!C235*B235","v":-748769571.27915835},6976493.8552816324,8187378.6643203907,9475000.5825267322]
[null,234,65600,63632,63632,73085.997907076613,86489.618276146473,101133.73707626363,15350400,22398011.853188708,23622300.282596536,24924566.319602996,{"$f":"FV(Paramètres!$C$24,B236,-D236,,1)-FV(i_p_1,B236,-D236,,1)+(1-PI_1)*'Simulations (3)'!C236*B236","v":-296225489.66498899},{"$f":"FV(Paramètres!$D$24,B236,-D236,,1)-FV(i_p_2,B236,-D236,,1)+(1-PI_1)*'Simulations (3)'!C236*B236","v":-477031154.26628166},{"$f":"FV(Paramètres!$E$24,B236,-E236,,1)-FV(i_p_3,B236,-E236,,1)+(1-PI_1)*'Simulations (3)'!C236*B236","v":-767781731.80574775},7047611.8531887084,8271900.282596536,9574166.3196029961]
[null,235,65600,63632,63632,73533.577055767586,87041.286610196446,101805.01308441639,15416000,22535177.430244476,23772973.569206733,25090003.332687411,{"$f":"FV(Paramètres!$C$24,B237,-D237,,1)-FV(i_p_1,B237,-D237,,1)+(1-PI_1)*'Simulations (3)'!C237*B237","v":-302470357.01263177},{"$f":"FV(Paramètres!$D$24,B237,-D237,,1)-FV(i_p_2,B237,-D237,,1)+(1-PI_1)*'Simulations (3)'!C237*B237","v":-488094556.89782161},{"$f":"FV(Paramètres!$E$24,B237,-E237,,1)-FV(i_p_3,B237,-E237,,1)+(1-PI_1)*'Simulations (3)'!C237*B237","v":-787266845.31919622},7119177.4302444756,8356973.5692067333,9674003.3326874115]
[null,236,65600,63632,63632,73982.621462123323,87594.982220226317,102479.02395411934,15481600,22672792.051706597,23924200.551426958,25256114.356641531,{"$f":"FV(Paramètres!$C$24,B238,-D238,,1)-FV(i_p_1,B238,-D238,,1)+(1-PI_1)*'Simulations (3)'!C238*B238","v":-308841203.44913596},{"$f":"FV(Paramètres!$D$24,B238,-D238,,1)-FV(i_p_2,B238,-D238,,1)+(1-PI_1)*'Simulations (3)'!C238*B238","v":-499406989.89782274},{"$f":"FV(Paramètres!$E$24,B238,-E238,,1)-FV(i_p_3,B238,-E238,,1)+(1-PI_1)*'Simulations (3)'!C238*B238","v":-807236605.27209103},7191192.0517065972,8442600.5514269583,9774514.356641531]
[null,237,65600,63632,63632,74433.135923016118,88150.712556088896,103155.780827537,15547200,22810857.187629614,24075983.263983048,25422902.137469068,{"$f":"FV(Paramètres!$C$24,B239,-D239,,1)-FV(i_p_1,B239,-D239,,1)+(1-PI_1)*'Simulations (3)'!C239*B239","v":-315340531.27489948},{"$f":"FV(Paramètres!$D$24,B239,-D239,,1)-FV(i_p_2,B239,-D239,,1)+(1-PI_1)*'Simulations (3)'!C239*B239","v":-510974005.07973361},{"$f":"FV(Paramètres!$E$24,B239,-E239,,1)-FV(i_p_3,B239,-E239,,1)+(1-PI_1)*'Simulations (3)'!C239*B239","v":-827702993.94412255},7263657.187629614,8528783.2639830485,9875702.1374690682]
[null,238,65600,63632,63632,74885.125251021993,88708.485095013821,103835.29489222841,15612800,22949374.312880635,24228323.749078061,25590369.432361297,{"$f":"FV(Paramètres!$C$24,B240,-D240,,1)-FV(i_p_1,B240,-D240,,1)+(1-PI_1)*'Simulations (3)'!C240*B240","v":-321970892.36993343},{"$f":"FV(Paramètres!$D$24,B240,-D240,,1)-FV(i_p_2,B240,-D240,,1)+(1-PI_1)*'Simulations (3)'!C240*B240","v":-522801277.83606005},{"$f":"FV(Paramètres!$E$24,B240,-E240,,1)-FV(i_p_3,B240,-E240,,1)+(1-PI_1)*'Simulations (3)'!C240*B240","v":-848678289.57492185},7336574.3128806353,8615523.7490780614,9977569.4323612973]
[null,239,65600,63632,63632,75338.594274472096,89268.307341708074,104517.57738133208,15678400,23088344.907155108,24381224.056419771,25758519.009742629,{"$f":"FV(Paramètres!$C$24,B241,-D241,,1)-FV(i_p_1,B241,-D241,,1)+(1-PI_1)*'Simulations (3)'!C241*B241","v":-328734889.17581284},{"$f":"FV(Paramètres!$D$24,B241,-D241,,1)-FV(i_p_2,B241,-D241,,1)+(1-PI_1)*'Simulations (3)'!C241*B241","v":-534894609.88843614},{"$f":"FV(Paramètres!$E$24,B241,-E241,,1)-FV(i_p_3,B241,-E241,,1)+(1-PI_1)*'Simulations (3)'!C241*B241","v":-870175073.67304301},7409944.9071551077,8702824.0564197712,10080119.009742629]
[null,240,65600,63632,63632,75793.547837504258,89830.186828457081,105202.63957375179,15744000,23227770.454992611,24534686.243248228,25927353.649316382,{"$f":"FV(Paramètres!$C$24,B242,-D242,,1)-FV(i_p_1,B242,-D242,,1)+(1-PI_1)*'Simulations (3)'!C242*B242","v":-335635175.69707179},{"$f":"FV(Paramètres!$D$24,B242,-D242,,1)-FV(i_p_2,B242,-D242,,1)+(1-PI_1)*'Simulations (3)'!C242*B242","v":-547259932.09889293},{"$f":"FV(Paramètres!$E$24,B242,-E242,,1)-FV(i_p_3,B242,-E242,,1)+(1-PI_1)*'Simulations (3)'!C242*B242","v":-892206238.50544536},7483770.454992611,8790686.243248228,10183353.649316382]

{"sheet":"Paramètres","index":1,"n_rows":24,"n_cols":15,"rows_kept":24,"cut":false,"hidden":true,"merged":[[8,13,9,13],[8,14,9,14],[14,10,14,11],[15,10,15,11],[13,2,13,4],[2,1,2,4],[2,9,2,11],[5,10,5,11],[4,10,4,11],[6,10,6,11],[7,10,7,11],[11,9,12,9],[11,10,12,11],[8,9,9,9],[8,10,9,11]]}
[]
[]
[null,"PARAMETRES TECHNIQUES",null,null,null,null,null,null,null,"RESULTAT SIMULATION",null,null,null,834]
[null,null,null,null,null,null,null,null,null,null,null,null,null,{"$f":"+(N6+200000)*$N$3","v":385641600},"UNIQUE"]
[null,null,"05 ans","10 ans","15 ans",null,null,null,null,"Prime périodique",{"$f":"'CDC EPARGNE DIASPORA'!K12","v":65600},null,null,{"$f":"+N6*N3","v":218841600},"MENSUELLE"]
[null,"Taux d'intérêt technique annuel",0.04,4.4999999999999998E-2,0.05,null,null,null,null,"Périodicité de paiement",{"$f":"IF('CDC EPARGNE DIASPORA'!$N$1=1,O4,IF('CDC EPARGNE DIASPORA'!$N$1=2,O5,IF('CDC EPARGNE DIASPORA'!$N$1=3,O6,IF('CDC EPARGNE DIASPORA'!$N$1=4,O7,\"NEANT\"))))","v":"SEMESTRIELLE"},null,null,{"$f":"4*Prime_périodique","v":262400},"TRIMESTRIELLE"]
[null,null,null,null,null,null,null,null,null,"Durée de cotisation",{"$f":"+'CDC EPARGNE DIASPORA'!$G$6","v":5},null,null,null,"SEMESTRIELLE"]
[null,"Taux de frais de gestion",0.03,{"$f":"gestion","v":0.03},{"$f":"C8","v":0.03},null,null,null,null,"Cumul des cotisations",{"$f":"IF(Périodicité=\"MENSUELLE\",K7*12,IF(Périodicité=\"TRIMESTRIELLE\",4*K7,IF(Périodicité=\"SEMESTRIELLE\",2*K7,IF(Périodicité=\"ANNUELLE\",K7,0))))*Prime_périodique","v":656000}]
[null,null,null,null,null,null,null,null,null,"Epargne à terme (1)  =",{"$f":"IF(Durée<10,IF(p=\"UNIQUE\",Prime_périodique*PI_1*(1+C20)^Durée,FV(i_p_1,IF(Périodicité=\"MENSUELLE\",K7*12,IF(Périodicité=\"TRIMESTRIELLE\",4*K7,IF(Périodicité=\"SEMESTRIELLE\",2*K7,IF(Périodicité=\"ANNUELLE\",K7,0)))),-K5*PI_1,,1)),IF(Durée<15,IF(p=\"UNIQUE\",Prime_périodique*PI_1*(1+D20)^Durée,FV(i_p_2,IF(Périodicité=\"MENSUELLE\",K7*12,IF(Périodicité=\"TRIMESTRIELLE\",4*K7,IF(Périodicité=\"SEMESTRIELLE\",2*K7,IF(Périodicité=\"ANNUELLE\",K7,0)))),-K5*PI_2,,1)),IF(p=\"UNIQUE\",Prime_périodique*PI_1*(1+E20)^Durée,FV(i_p_3,IF(Périodicité=\"MENSUELLE\",K7*12,IF(Périodicité=\"TRIMESTRIELLE\",4*K7,IF(Périodicité=\"SEMESTRIELLE\",2*K7,IF(Périodicité=\"ANNUELLE\",K7,0)))),-K5*PI_3,,1))))","v":709914.37529424578}]
[null,"Taux de frais sur encours",0,{"$f":"encours","v":0},{"$f":"encours","v":0}]
[]
[null,"Taux de frais d'acquisition",0,{"$f":"C12","v":0},{"$f":"acquisition_1","v":0},null,null,null,null,"Epargne à terme (2)  =",{"$f":"IF(Durée<10,FV(i_p_1,IF(Périodicité=\"MENSUELLE\",K7*12,IF(Périodicité=\"TRIMESTRIELLE\",4*K7,IF(Périodicité=\"SEMESTRIELLE\",2*K7,IF(Périodicité=\"ANNUELLE\",K7,0)))),-K5*PI_1,,1),IF(Durée<15,FV(i_p_1,IF(Périodicité=\"MENSUELLE\",9*12,IF(Périodicité=\"TRIMESTRIELLE\",4*9,IF(Périodicité=\"SEMESTRIELLE\",2*9,IF(Périodicité=\"ANNUELLE\",9,0)))),-K5*PI_1,,1)*(1+Taux_2)^(Durée-9)+FV(i_p_2,IF(Périodicité=\"MENSUELLE\",(K7-9)*12,IF(Périodicité=\"TRIMESTRIELLE\",4*(K7-9),IF(Périodicité=\"SEMESTRIELLE\",2*(K7-9),IF(Périodicité=\"ANNUELLE\",(K7-9),0)))),-K5*PI_2,,1),(FV(i_p_1,IF(Périodicité=\"MENSUELLE\",9*12,IF(Périodicité=\"TRIMESTRIELLE\",4*9,IF(Périodicité=\"SEMESTRIELLE\",2*9,IF(Périodicité=\"ANNUELLE\",9,0)))),-K5*PI_1,,1)*(1+Taux_2)^5)*(1+Taux_3)^(Durée-14)+FV(i_p_2,IF(Périodicité=\"MENSUELLE\",5*12,IF(Périodicité=\"TRIMESTRIELLE\",4*5,IF(Périodicité=\"SEMESTRIELLE\",2*5,IF(Périodicité=\"ANNUELLE\",5,0)))),-K5*PI_2,,1)*(1+Taux_3)^(Durée-14)+FV(i_p_3,IF(Périodicité=\"MENSUELLE\",(Durée-14)*12,IF(Périodicité=\"TRIMESTRIELLE\",4*(Durée-14),IF(Périodicité=\"SEMESTRIELLE\",2*(Durée-14),IF(Périodicité=\"ANNUELLE\",(Durée-14),0)))),-K5*PI_3,,1)))","v":709914.37529424578}]
[]
[null,"Périodicité des paiements",{"$f":"$K$6","v":"SEMESTRIELLE"}]
[null,null,{"$f":"IF(Périodicité=\"MENSUELLE\",(((1+Taux_1)*(1-0))^(1/12))-1,IF(Périodicité=\"TRIMESTRIELLE\",((1+Taux_1)*(1-0))^(1/4)-1,IF(Périodicité=\"SEMESTRIELLE\",((1+Taux_1)*(1-0))^(1/2)-1,IF(Périodicité=\"ANNUELLE\",((1+Taux_1)*(1-0))^(1/1)-1,0))))","v":1.9803902718557032E-2},{"$f":"+IF(Périodicité=\"MENSUELLE\",(((1+Taux_2)*(1-0))^(0.0833333333333333))-1,IF(Périodicité=\"TRIMESTRIELLE\",((1+Taux_2)*(1-0))^(0.25)-1,IF(Périodicité=\"SEMESTRIELLE\",((1+Taux_2)*(1-0))^(0.5)-1,IF(Périodicité=\"ANNUELLE\",((1+Taux_2)*(1-0))^(1)-1,0))))","v":2.2252415013043647E-2},{"$f":"IF(Périodicité=\"MENSUELLE\",(((1+Taux_3)*(1-0))^(1/12))-1,IF(Périodicité=\"TRIMESTRIELLE\",((1+Taux_3)*(1-0))^(1/4)-1,IF(Périodicité=\"SEMESTRIELLE\",((1+Taux_3)*(1-0))^(1/2)-1,IF(Périodicité=\"ANNUELLE\",((1+Taux_3)*(1-0))^(1/1)-1,0))))","v":2.4695076595959931E-2},null,null,null,null,"GAINS (1)",{"$f":"+K9-K8","v":53914.37529424578}]
[null,"Taux d'intérêt technique périodique",{"$f":"IF(Périodicité=\"MENSUELLE\",(((1+Taux_1)*(1-encours))^(1/12))-1,IF(Périodicité=\"TRIMESTRIELLE\",((1+Taux_1)*(1-encours))^(1/4)-1,IF(Périodicité=\"SEMESTRIELLE\",((1+Taux_1)*(1-encours))^(1/2)-1,IF(Périodicité=\"ANNUELLE\",((1+Taux_1)*(1-encours))^(1/1)-1,0))))","v":1.9803902718557032E-2},{"$f":"IF(Périodicité=\"MENSUELLE\",(((1+Taux_2)*(1-encours_1))^(1/12))-1,IF(Périodicité=\"TRIMESTRIELLE\",((1+Taux_2)*(1-encours_1))^(1/4)-1,IF(Périodicité=\"SEMESTRIELLE\",((1+Taux_2)*(1-encours_1))^(1/2)-1,IF(Périodicité=\"ANNUELLE\",((1+Taux_2)*(1-encours_1))^(1/1)-1,0))))","v":2.2252415013043647E-2},{"$f":"IF(Périodicité=\"MENSUELLE\",(((1+Taux_3)*(1-encours_2))^(1/12))-1,IF(Périodicité=\"TRIMESTRIELLE\",((1+Taux_3)*(1-encours_2))^(1/4)-1,IF(Périodicité=\"SEMESTRIELLE\",((1+Taux_3)*(1-encours_2))^(1/2)-1,IF(Périodicité=\"ANNUELLE\",((1+Taux_3)*(1-encours_2))^(1/1)-1,0))))","v":2.4695076595959931E-2},null,null,null,null,"GAINS (2)",{"$f":"+K12-K8","v":53914.37529424578},null,null,{"$f":"+K15-K16","v":0}]
[]
[null,"Prime investie",{"$f":"1-gestion-acquisition","v":0.97},{"$f":"1-gestion_1-acquisition_1","v":0.97},{"$f":"1-gestion_2-acquisition_2","v":0.97},null,null,null,null,{"$f":"IF(Durée=5,FV(i_p_1,IF(Périodicité=\"MENSUELLE\",5*12,IF(Périodicité=\"TRIMESTRIELLE\",4*5,IF(Périodicité=\"SEMESTRIELLE\",2*5,IF(Périodicité=\"ANNUELLE\",5,0)))),-K5*PI_1,,1),IF(Durée=10,FV(i_p_2,IF(Périodicité=\"MENSUELLE\",5*12,IF(Périodicité=\"TRIMESTRIELLE\",4*5,IF(Périodicité=\"SEMESTRIELLE\",2*5,IF(Périodicité=\"ANNUELLE\",5,0)))),-K5*PI_1,,1),FV(i_p_3,IF(Périodicité=\"MENSUELLE\",5*12,IF(Périodicité=\"TRIMESTRIELLE\",4*5,IF(Périodicité=\"SEMESTRIELLE\",2*5,IF(Périodicité=\"ANNUELLE\",5,0)))),-K5*PI_1,,1)))","v":709914.37529424578},{"$f":"IF(Durée=5,Prime_périodique*PI_1*(1+$C$20)^5,IF(Durée=10,Prime_périodique*PI_1*(1+$D$20)^5,IF(Durée=15,Prime_périodique*PI_1*(1+$E$20)^5,0)))","v":77418.057485516823}]
[null,null,null,null,null,null,null,null,null,{"$f":"+K7","v":5},4906403.7840416394]
[null,"Taux technique NET ANNUEL",{"$f":"+(1+Taux_1)*(1-encours)-1","v":4.0000000000000036E-2},{"$f":"+(1+Taux_2)*(1-encours_1)-1","v":4.4999999999999929E-2},{"$f":"(1+Taux_3)*(1-encours_2)-1","v":5.0000000000000044E-2},null,null,null,null,null,{"$f":"+K15-K19","v":-4852489.4087473936}]
[null,null,null,null,null,null,null,null,null,null,{"$f":"+K20*N3","v":-4046976166.8953261}]
[]
[null,"Taux d'intérêt technique mensuel",{"$f":"(((1+Taux_1)*(1-encours))^(1/12))-1","v":3.2737397821989145E-3},{"$f":"(((1+Taux_2)*(1-encours_1))^(1/12))-1","v":3.6748094004368514E-3},{"$f":"(((1+Taux_3)*(1-encours_2))^(1/12))-1","v":4.0741237836483535E-3}]
[null,null,{"$f":"(((1+Taux_1)*(1-0))^(1/12))-1","v":3.2737397821989145E-3},{"$f":"+(((1+Taux_2)*(1-0))^(1/12))-1","v":3.6748094004368514E-3},{"$f":"+(((1+Taux_3)*(1-0))^(1/12))-1","v":4.0741237836483535E-3}]

{"sheet":"CDC EPARGNE DIASPORA","index":2,"n_rows":22,"n_cols":17,"rows_kept":22,"cut":false,"hidden":false,"merged":[[16,2,17,5],[2,2,2,10],[11,2,11,5],[11,8,11,9],[16,7,16,8],[18,7,18,8],[18,2,18,5],[20,2,21,9]]}
[null,null,null,null,null,null,null,null,null,null,null,null,1,4,1,null,"CDCCI"]
[null,null,null,null,null,null,null,null,null,null,null,null,null,{"$f":"Paramètres!J18","v":709914.37529424578},{"$f":"Paramètres!K18","v":77418.057485516823}]
[null,null,"CDC EPARGNE DIASPORA - SIMULATION SOUSCRIPTION"]
[]
[]
[null,null,null,null,null,"DUREE",{"$f":"IF($M$1=1,5,IF($M$1=2,10,IF($M$1=3,15,\"NEANT\")))","v":5}]
[]
[]
[null,null,null,null,null,"TAUX",{"$f":"IF($M$1=1,0.04,IF($M$1=2,0.045,IF($M$1=3,0.05,\"NEANT\")))","v":0.04}]
[]
[]
[null,null,"Périodicité de paiement",null,null,null,null,null,{"$f":"\"Prime\"&\" \"&IF(N1=1,\"Unique\",IF(N1=2,\"Mensuelle\",IF(N1=3,\"Trimestrielle\",IF(N1=4,\"Semestrielle\"))))","v":"Prime Semestrielle"},null,65600]
[null,null,null,null,null,null,null,null,null,null,null,null,null,{"$f":"+C19","v":709914.37529424578}]
[]
[]
[null,null,null,null,null,null,null,null,null,null,null,null,null,{"$f":"+J17-J19","v":0}]
[null,null,{"$f":"IF($O$1=1,\"Capital acquis au terme hors versements libres\",IF($O$1=2,\"Rente Viagère Annuelle\",IF($O$1=4,\"Prêt immobilier maximum à partir de la 5ème année\",IF($O$1=3,\"Rente viagère annuelle reversible \",\"NEANT\"))))","v":"Capital acquis au terme hors versements libres"},null,null,null,null,{"$f":"IF(OR(O1=2,O1=3),\"Age de l'épargnant au terme du contrat\",\"\")","v":""},null,null,{"$f":"+IF(OR(O1=2,O1=3),\"Renseigner obligatoirement !\",\"\")","v":""},null,null,{"$f":"+C19/12","v":59159.531274520479}]
[]
[null,null,{"$f":"IFERROR(IF($O$1=1,Paramètres!$K$9,IF(AND($O$1=2,J17<>\"\"),Paramètres!$K$9*VLOOKUP(J17,'RENTE VIAGERE NON REVERSIBLE'!$B$6:$C$68,2,FALSE),IF(AND($O$1=3,J17<>\"\",J19<>\"\"),Paramètres!$K$9*VLOOKUP(J17,'RENTE VIAGERE REVERSIBLE'!$A$8:$AP$70,1+MATCH(J17-J19,'RENTE VIAGERE REVERSIBLE'!$B$7:$AP$7,0),FALSE),IF($O$1=4,IF(Paramètres!$K$6=\"UNIQUE\",'CDC EPARGNE DIASPORA'!$O$2/10%,$N$2*10),\"NEANT\")))),\"NEANT\")","v":709914.37529424578},null,null,null,null,{"$f":"IF(O1=3,\"Age du conjoint au terme du contrat\",\"\")","v":""},null,null,{"$f":"+IF(OR(O1=3),\"Renseigner obligatoirement !\",\"\")","v":""},null,null,{"$f":"MATCH(J17-J19,'[1]RENTE VIAGERE REVERSIBLE'!$B$7:$AP$7,0)","v":21}]
[null,null,{"$f":"+IF(C19=\"NEANT\",\"Vérifier l'âge l'épargnant et/ou de son(sa) conjoint(e)\",\"\")","v":""},null,null,null,null,null,null,null,null,null,{"$f":"TEXT(60%*M22,\"# ##0\")","v":"425 948"},{"$f":"+VLOOKUP(J17,'[1]RENTE VIAGERE REVERSIBLE'!$A$8:$AP$70,1+MATCH(J17-J19,'[1]RENTE VIAGERE REVERSIBLE'!$B$7:$AP$7,0),FALSE)","v":{"$error":"#N/A"}},{"$f":"+C19","v":709914.37529424578}]
[null,null,{"$f":"IFERROR(IF(AND(O1=2,J17<>\"\"),CONCATENATE(\"Au terme du contrat,Il sera versé une rente viagère immédiate de \",M22,\" CFA par an à l’épargnant.\"),IF(AND(O1=3,J17<>\"\",J19<>\"\"),CONCATENATE(\"Il sera versé une rente viagère immédiate de \",M22,\" CFA par an à l’épargnant. Au décès de l'épargnant, Il sera reversé une rente de \",M20,\" CFA par an aux bénéficiaires désignés. \",\"Cette rente est viagère si le bénéficiaire est le(la) conjoint(e) ou payable jusqu’à l’âge de 25 ans si les bénéficiaires sont les enfants.\"),\" \")),\"\")","v":" "}]
[null,null,null,null,null,null,null,null,null,null,null,null,{"$f":"+TEXT(C19,\"# ##0\")","v":"709 914"},{"$f":"+CONCATENATE(M22,\"cfa\")","v":"709 914cfa"}]

{"sheet":"RENTE VIAGERE NON REVERSIBLE","index":3,"n_rows":68,"n_cols":3,"rows_kept":68,"cut":false,"hidden":true,"merged":[[1,1,2,2]]}
[]
[null,"RENTE VIAGERE NON REVERSIBLE"]
[]
[]
[null,"AGE LIQUIDATION","ARRERAGE"]
[null,18,3.9399999999999998E-2]
[null,19,3.9699999999999999E-2]
[null,20,3.9899999999999998E-2]
[null,21,4.02E-2]
[null,22,4.0399999999999998E-2]
[null,23,4.07E-2]
[null,24,4.1000000000000002E-2]
[null,25,4.1300000000000003E-2]
[null,26,4.1599999999999998E-2]
[null,27,4.19E-2]
[null,28,4.2299999999999997E-2]
[null,29,4.2599999999999999E-2]
[null,30,4.2999999999999997E-2]
[null,31,4.3400000000000001E-2]
[null,32,4.3799999999999999E-2]
[null,33,4.4200000000000003E-2]
[null,34,4.4699999999999997E-2]
[null,35,4.5199999999999997E-2]
[null,36,4.5699999999999998E-2]
[null,37,4.6199999999999998E-2]
[null,38,4.6800000000000001E-2]
[null,39,4.7399999999999998E-2]
[null,40,4.8000000000000001E-2]
[null,41,4.8599999999999997E-2]
[null,42,4.9299999999999997E-2]
[null,43,5.0099999999999999E-2]
[null,44,5.0799999999999998E-2]
[null,45,5.1700000000000003E-2]
[null,46,5.2499999999999998E-2]
[null,47,5.3400000000000003E-2]
[null,48,5.4399999999999997E-2]
[null,49,5.5399999999999998E-2]
[null,50,5.6500000000000002E-2]
[null,51,5.7700000000000001E-2]
[null,52,5.8900000000000001E-2]
[null,53,6.0199999999999997E-2]
[null,54,6.1600000000000002E-2]
[null,55,6.3100000000000003E-2]
[null,56,6.4699999999999994E-2]
[null,57,6.6400000000000001E-2]
[null,58,6.8199999999999997E-2]
[null,59,7.0099999999999996E-2]
[null,60,7.22E-2]
[null,61,7.4399999999999994E-2]
[null,62,7.6799999999999993E-2]
[null,63,7.9399999999999998E-2]
[null,64,8.2100000000000006E-2]
[null,65,8.5099999999999995E-2]
[null,66,8.8300000000000003E-2]
[null,67,9.1700000000000004E-2]
[null,68,9.5399999999999999E-2]
[null,69,9.9500000000000005E-2]
[null,70,0.1038]
[null,71,0.1085]
[null,72,0.1137]
[null,73,0.1193]
[null,74,0.12540000000000001]
[null,75,0.13200000000000001]
[null,76,0.13930000000000001]
[null,77,0.1472]
[null,78,0.15590000000000001]
[null,79,0.16550000000000001]
[null,80,0.17599999999999999]

{"sheet":"RENTE VIAGERE REVERSIBLE","index":4,"n_rows":70,"n_cols":42,"rows_kept":70,"cut":false,"hidden":true,"merged":[[1,1,2,40],[4,0,5,0],[4,1,4,41],[5,1,5,41]]}
[]
[null,"RENTE VIAGERE NON REVERSIBLE   -  RENTE VIAGERE NON REVERSIBLE - RENTE VIAGERE NON REVERSIBLE- RENTE VIAGERE NON REVERSIBLE"]
[]
[null,1,2,3,4,5,6,7,8,9,10,11,12,13,14,15,16,17,18,19,20,21,22,23,24,25,26,27,28,29,30,31,32,33,34,35,36,37,38,39,40,41]
["AGE LIQUIDATION"," ARRERAGE  -  ARRERAGE  -  ARRERAGE  -  ARRERAGE  -  ARRERAGE  -  ARRERAGE - ARRERAGE  -  ARRERAGE  -  ARRERAGE  -    -  ARRERAGE  -  ARRERAGE  -  ARRERAGE  -  ARRERAGE  -  ARRERAGE  -  ARRERAGE  -  ARRERAGE  -  ARRERAGE  -  ARRERAGE  -  ARRERAGE  -  "]
["AGE LIQUIDATION","DIFFERENCE AGE RENTIER ET AGE CONJOINT - DIFFERENCE AGE RENTIER ET AGE CONJOINT - DIFFERENCE AGE RENTIER ET AGE CONJOINT - DIFFERENCE AGE RENTIER ET AGE CONJOINT - DIFFERENCE AGE RENTIER ET AGE CONJOINT - DIFFERENCE AGE RENTIER ET AGE CONJOINT "]
[null,-20,-19,-18,-17,-16,-15,-14,-13,-12,-11,-10,-9,-8,-7,-6,-5,-4,-3,-2,-1,0,1,2,3,4,5,6,7,8,9,10,11,12,13,14,15,16,17,18,19,20]
[18,3.9300000000000002E-2,3.9199999999999999E-2,3.9199999999999999E-2,3.9199999999999999E-2,3.9100000000000003E-2,3.9100000000000003E-2,3.9100000000000003E-2,3.9E-2,3.9E-2,3.9E-2,3.8899999999999997E-2,3.8899999999999997E-2,3.8800000000000001E-2,3.8800000000000001E-2,3.8699999999999998E-2,3.8699999999999998E-2,3.8699999999999998E-2,3.8600000000000002E-2,3.8600000000000002E-2,3.85E-2,3.85E-2,3.8399999999999997E-2,3.8399999999999997E-2,3.8300000000000001E-2,3.8300000000000001E-2,3.8199999999999998E-2,3.8199999999999998E-2,3.8100000000000002E-2,3.7999999999999999E-2,3.7999999999999999E-2,3.7900000000000003E-2,3.7900000000000003E-2,3.78E-2,3.78E-2,3.7699999999999997E-2,3.7699999999999997E-2,3.7600000000000001E-2,3.7199999999999997E-2,0,0,0]
[19,3.95E-2,3.95E-2,3.9399999999999998E-2,3.9399999999999998E-2,3.9399999999999998E-2,3.9300000000000002E-2,3.9300000000000002E-2,3.9199999999999999E-2,3.9199999999999999E-2,3.9199999999999999E-2,3.9100000000000003E-2,3.9100000000000003E-2,3.9E-2,3.9E-2,3.9E-2,3.8899999999999997E-2,3.8899999999999997E-2,3.8800000000000001E-2,3.8800000000000001E-2,3.8699999999999998E-2,3.8699999999999998E-2,3.8600000000000002E-2,3.8600000000000002E-2,3.85E-2,3.8399999999999997E-2,3.8399999999999997E-2,3.8300000000000001E-2,3.8300000000000001E-2,3.8199999999999998E-2,3.8199999999999998E-2,3.8100000000000002E-2,3.8100000000000002E-2,3.7999999999999999E-2,3.7900000000000003E-2,3.7900000000000003E-2,3.78E-2,3.78E-2,3.7699999999999997E-2,3.73E-2,0,0]
[20,3.9699999999999999E-2,3.9699999999999999E-2,3.9699999999999999E-2,3.9600000000000003E-2,3.9600000000000003E-2,3.9600000000000003E-2,3.95E-2,3.95E-2,3.9399999999999998E-2,3.9399999999999998E-2,3.9399999999999998E-2,3.9300000000000002E-2,3.9300000000000002E-2,3.9199999999999999E-2,3.9199999999999999E-2,3.9100000000000003E-2,3.9100000000000003E-2,3.9E-2,3.9E-2,3.8899999999999997E-2,3.8899999999999997E-2,3.8800000000000001E-2,3.8800000000000001E-2,3.8699999999999998E-2,3.8600000000000002E-2,3.8600000000000002E-2,3.85E-2,3.85E-2,3.8399999999999997E-2,3.8300000000000001E-2,3.8300000000000001E-2,3.8199999999999998E-2,3.8199999999999998E-2,3.8100000000000002E-2,3.8100000000000002E-2,3.7999999999999999E-2,3.7900000000000003E-2,3.7900000000000003E-2,3.78E-2,3.7400000000000003E-2,0]
[21,0.04,3.9899999999999998E-2,3.9899999999999998E-2,3.9899999999999998E-2,3.9800000000000002E-2,3.9800000000000002E-2,3.9800000000000002E-2,3.9699999999999999E-2,3.9699999999999999E-2,3.9600000000000003E-2,3.9600000000000003E-2,3.95E-2,3.95E-2,3.9399999999999998E-2,3.9399999999999998E-2,3.9300000000000002E-2,3.9300000000000002E-2,3.9199999999999999E-2,3.9199999999999999E-2,3.9100000000000003E-2,3.9100000000000003E-2,3.9E-2,3.9E-2,3.8899999999999997E-2,3.8800000000000001E-2,3.8800000000000001E-2,3.8699999999999998E-2,3.8699999999999998E-2,3.8600000000000002E-2,3.85E-2,3.85E-2,3.8399999999999997E-2,3.8399999999999997E-2,3.8300000000000001E-2,3.8199999999999998E-2,3.8199999999999998E-2,3.8100000000000002E-2,3.8100000000000002E-2,3.7999999999999999E-2,3.7900000000000003E-2,3.7499999999999999E-2]
[22,4.02E-2,4.02E-2,4.02E-2,4.0099999999999997E-2,4.0099999999999997E-2,4.0099999999999997E-2,0.04,0.04,3.9899999999999998E-2,3.9899999999999998E-2,3.9800000000000002E-2,3.9800000000000002E-2,3.9699999999999999E-2,3.9699999999999999E-2,3.9600000000000003E-2,3.9600000000000003E-2,3.95E-2,3.95E-2,3.9399999999999998E-2,3.9399999999999998E-2,3.9300000000000002E-2,3.9199999999999999E-2,3.9199999999999999E-2,3.9100000000000003E-2,3.9100000000000003E-2,3.9E-2,3.8899999999999997E-2,3.8899999999999997E-2,3.8800000000000001E-2,3.8699999999999998E-2,3.8699999999999998E-2,3.8600000000000002E-2,3.8600000000000002E-2,3.85E-2,3.8399999999999997E-2,3.8399999999999997E-2,3.8300000000000001E-2,3.8199999999999998E-2,3.8199999999999998E-2,3.8100000000000002E-2,3.7999999999999999E-2]
[23,4.0500000000000001E-2,4.0500000000000001E-2,4.0399999999999998E-2,4.0399999999999998E-2,4.0399999999999998E-2,4.0300000000000002E-2,4.0300000000000002E-2,4.02E-2,4.02E-2,4.0099999999999997E-2,4.0099999999999997E-2,0.04,0.04,3.9899999999999998E-2,3.9899999999999998E-2,3.9800000000000002E-2,3.9800000000000002E-2,3.9699999999999999E-2,3.9699999999999999E-2,3.9600000000000003E-2,3.95E-2,3.95E-2,3.9399999999999998E-2,3.9300000000000002E-2,3.9300000000000002E-2,3.9199999999999999E-2,3.9100000000000003E-2,3.9100000000000003E-2,3.9E-2,3.8899999999999997E-2,3.8899999999999997E-2,3.8800000000000001E-2,3.8800000000000001E-2,3.8699999999999998E-2,3.8600000000000002E-2,3.8600000000000002E-2,3.85E-2,3.8399999999999997E-2,3.8399999999999997E-2,3.8300000000000001E-2,3.8199999999999998E-2]
[24,4.0800000000000003E-2,4.0800000000000003E-2,4.07E-2,4.07E-2,4.0599999999999997E-2,4.0599999999999997E-2,4.0599999999999997E-2,4.0500000000000001E-2,4.0500000000000001E-2,4.0399999999999998E-2,4.0399999999999998E-2,4.0300000000000002E-2,4.0300000000000002E-2,4.02E-2,4.0099999999999997E-2,4.0099999999999997E-2,0.04,0.04,3.9899999999999998E-2,3.9800000000000002E-2,3.9800000000000002E-2,3.9699999999999999E-2,3.9600000000000003E-2,3.9600000000000003E-2,3.95E-2,3.9399999999999998E-2,3.9399999999999998E-2,3.9300000000000002E-2,3.9199999999999999E-2,3.9199999999999999E-2,3.9100000000000003E-2,3.9E-2,3.9E-2,3.8899999999999997E-2,3.8800000000000001E-2,3.8800000000000001E-2,3.8699999999999998E-2,3.8600000000000002E-2,3.8600000000000002E-2,3.85E-2,3.8399999999999997E-2]
[25,4.1099999999999998E-2,4.1099999999999998E-2,4.1000000000000002E-2,4.1000000000000002E-2,4.0899999999999999E-2,4.0899999999999999E-2,4.0800000000000003E-2,4.0800000000000003E-2,4.07E-2,4.07E-2,4.0599999999999997E-2,4.0599999999999997E-2,4.0500000000000001E-2,4.0500000000000001E-2,4.0399999999999998E-2,4.0399999999999998E-2,4.0300000000000002E-2,4.02E-2,4.02E-2,4.0099999999999997E-2,0.04,0.04,3.9899999999999998E-2,3.9800000000000002E-2,3.9699999999999999E-2,3.9699999999999999E-2,3.9600000000000003E-2,3.95E-2,3.95E-2,3.9399999999999998E-2,3.9300000000000002E-2,3.9199999999999999E-2,3.9199999999999999E-2,3.9100000000000003E-2,3.9E-2,3.9E-2,3.8899999999999997E-2,3.8800000000000001E-2,3.8800000000000001E-2,3.8699999999999998E-2,3.8600000000000002E-2]
[26,4.1399999999999999E-2,4.1399999999999999E-2,4.1300000000000003E-2,4.1300000000000003E-2,4.1200000000000001E-2,4.1200000000000001E-2,4.1200000000000001E-2,4.1099999999999998E-2,4.1000000000000002E-2,4.1000000000000002E-2,4.0899999999999999E-2,4.0899999999999999E-2,4.0800000000000003E-2,4.0800000000000003E-2,4.07E-2,4.0599999999999997E-2,4.0599999999999997E-2,4.0500000000000001E-2,4.0399999999999998E-2,4.0399999999999998E-2,4.0300000000000002E-2,4.02E-2,4.02E-2,4.0099999999999997E-2,0.04,3.9899999999999998E-2,3.9899999999999998E-2,3.9800000000000002E-2,3.9699999999999999E-2,3.9600000000000003E-2,3.9600000000000003E-2,3.95E-2,3.9399999999999998E-2,3.9300000000000002E-2,3.9300000000000002E-2,3.9199999999999999E-2,3.9100000000000003E-2,3.9E-2,3.9E-2,3.8899999999999997E-2,3.8800000000000001E-2]
[27,4.1700000000000001E-2,4.1700000000000001E-2,4.1700000000000001E-2,4.1599999999999998E-2,4.1599999999999998E-2,4.1500000000000002E-2,4.1500000000000002E-2,4.1399999999999999E-2,4.1399999999999999E-2,4.1300000000000003E-2,4.1200000000000001E-2,4.1200000000000001E-2,4.1099999999999998E-2,4.1099999999999998E-2,4.1000000000000002E-2,4.0899999999999999E-2,4.0899999999999999E-2,4.0800000000000003E-2,4.07E-2,4.0599999999999997E-2,4.0599999999999997E-2,4.0500000000000001E-2,4.0399999999999998E-2,4.0300000000000002E-2,4.0300000000000002E-2,4.02E-2,4.0099999999999997E-2,0.04,0.04,3.9899999999999998E-2,3.9800000000000002E-2,3.9699999999999999E-2,3.9600000000000003E-2,3.9600000000000003E-2,3.95E-2,3.9399999999999998E-2,3.9300000000000002E-2,3.9300000000000002E-2,3.9199999999999999E-2,3.9100000000000003E-2,3.9E-2]
[28,4.2099999999999999E-2,4.2000000000000003E-2,4.2000000000000003E-2,4.2000000000000003E-2,4.19E-2,4.19E-2,4.1799999999999997E-2,4.1700000000000001E-2,4.1700000000000001E-2,4.1599999999999998E-2,4.1599999999999998E-2,4.1500000000000002E-2,4.1399999999999999E-2,4.1399999999999999E-2,4.1300000000000003E-2,4.1200000000000001E-2,4.1200000000000001E-2,4.1099999999999998E-2,4.1000000000000002E-2,4.0899999999999999E-2,4.0899999999999999E-2,4.0800000000000003E-2,4.07E-2,4.0599999999999997E-2,4.0500000000000001E-2,4.0500000000000001E-2,4.0399999999999998E-2,4.0300000000000002E-2,4.02E-2,4.0099999999999997E-2,0.04,0.04,3.9899999999999998E-2,3.9800000000000002E-2,3.9699999999999999E-2,3.9600000000000003E-2,3.9600000000000003E-2,3.95E-2,3.9399999999999998E-2,3.9300000000000002E-2,3.9300000000000002E-2]
[29,4.24E-2,4.24E-2,4.24E-2,4.2299999999999997E-2,4.2299999999999997E-2,4.2200000000000001E-2,4.2200000000000001E-2,4.2099999999999999E-2,4.2000000000000003E-2,4.2000000000000003E-2,4.19E-2,4.1799999999999997E-2,4.1799999999999997E-2,4.1700000000000001E-2,4.1599999999999998E-2,4.1599999999999998E-2,4.1500000000000002E-2,4.1399999999999999E-2,4.1300000000000003E-2,4.1200000000000001E-2,4.1200000000000001E-2,4.1099999999999998E-2,4.1000000000000002E-2,4.0899999999999999E-2,4.0800000000000003E-2,4.07E-2,4.07E-2,4.0599999999999997E-2,4.0500000000000001E-2,4.0399999999999998E-2,4.0300000000000002E-2,4.02E-2,4.0099999999999997E-2,4.0099999999999997E-2,0.04,3.9899999999999998E-2,3.9800000000000002E-2,3.9699999999999999E-2,3.9600000000000003E-2,3.9600000000000003E-2,3.95E-2]
[30,4.2799999999999998E-2,4.2799999999999998E-2,4.2700000000000002E-2,4.2700000000000002E-2,4.2599999999999999E-2,4.2599999999999999E-2,4.2500000000000003E-2,4.2500000000000003E-2,4.24E-2,4.2299999999999997E-2,4.2299999999999997E-2,4.2200000000000001E-2,4.2099999999999999E-2,4.2099999999999999E-2,4.2000000000000003E-2,4.19E-2,4.1799999999999997E-2,4.1700000000000001E-2,4.1700000000000001E-2,4.1599999999999998E-2,4.1500000000000002E-2,4.1399999999999999E-2,4.1300000000000003E-2,4.1200000000000001E-2,4.1099999999999998E-2,4.1000000000000002E-2,4.1000000000000002E-2,4.0899999999999999E-2,4.0800000000000003E-2,4.07E-2,4.0599999999999997E-2,4.0500000000000001E-2,4.0399999999999998E-2,4.0300000000000002E-2,4.02E-2,4.0099999999999997E-2,4.0099999999999997E-2,0.04,3.9899999999999998E-2,3.9800000000000002E-2,3.9699999999999999E-2]
[31,4.3200000000000002E-2,4.3200000000000002E-2,4.3099999999999999E-2,4.3099999999999999E-2,4.2999999999999997E-2,4.2999999999999997E-2,4.2900000000000001E-2,4.2799999999999998E-2,4.2799999999999998E-2,4.2700000000000002E-2,4.2599999999999999E-2,4.2599999999999999E-2,4.2500000000000003E-2,4.24E-2,4.2299999999999997E-2,4.2299999999999997E-2,4.2200000000000001E-2,4.2099999999999999E-2,4.2000000000000003E-2,4.19E-2,4.1799999999999997E-2,4.1700000000000001E-2,4.1599999999999998E-2,4.1500000000000002E-2,4.1399999999999999E-2,4.1399999999999999E-2,4.1300000000000003E-2,4.1200000000000001E-2,4.1099999999999998E-2,4.1000000000000002E-2,4.0899999999999999E-2,4.0800000000000003E-2,4.07E-2,4.0599999999999997E-2,4.0500000000000001E-2,4.0399999999999998E-2,4.0300000000000002E-2,4.02E-2,4.02E-2,4.0099999999999997E-2,0.04]
[32,4.36E-2,4.36E-2,4.3499999999999997E-2,4.3499999999999997E-2,4.3400000000000001E-2,4.3400000000000001E-2,4.3299999999999998E-2,4.3200000000000002E-2,4.3200000000000002E-2,4.3099999999999999E-2,4.2999999999999997E-2,4.2999999999999997E-2,4.2900000000000001E-2,4.2799999999999998E-2,4.2700000000000002E-2,4.2599999999999999E-2,4.2500000000000003E-2,4.24E-2,4.24E-2,4.2299999999999997E-2,4.2200000000000001E-2,4.2099999999999999E-2,4.2000000000000003E-2,4.19E-2,4.1799999999999997E-2,4.1700000000000001E-2,4.1599999999999998E-2,4.1500000000000002E-2,4.1399999999999999E-2,4.1300000000000003E-2,4.1200000000000001E-2,4.1099999999999998E-2,4.1000000000000002E-2,4.0899999999999999E-2,4.0800000000000003E-2,4.07E-2,4.0599999999999997E-2,4.0500000000000001E-2,4.0399999999999998E-2,4.0300000000000002E-2,4.02E-2]
[33,4.41E-2,4.3999999999999997E-2,4.3999999999999997E-2,4.3900000000000002E-2,4.3900000000000002E-2,4.3799999999999999E-2,4.3700000000000003E-2,4.3700000000000003E-2,4.36E-2,4.3499999999999997E-2,4.3400000000000001E-2,4.3400000000000001E-2,4.3299999999999998E-2,4.3200000000000002E-2,4.3099999999999999E-2,4.2999999999999997E-2,4.2900000000000001E-2,4.2799999999999998E-2,4.2700000000000002E-2,4.2599999999999999E-2,4.2500000000000003E-2,4.24E-2,4.2299999999999997E-2,4.2200000000000001E-2,4.2099999999999999E-2,4.2000000000000003E-2,4.19E-2,4.1799999999999997E-2,4.1700000000000001E-2,4.1599999999999998E-2,4.1500000000000002E-2,4.1399999999999999E-2,4.1300000000000003E-2,4.1200000000000001E-2,4.1099999999999998E-2,4.1000000000000002E-2,4.0899999999999999E-2,4.0800000000000003E-2,4.07E-2,4.0599999999999997E-2,4.0500000000000001E-2]
[34,4.4499999999999998E-2,4.4499999999999998E-2,4.4400000000000002E-2,4.4400000000000002E-2,4.4299999999999999E-2,4.4200000000000003E-2,4.4200000000000003E-2,4.41E-2,4.3999999999999997E-2,4.3900000000000002E-2,4.3900000000000002E-2,4.3799999999999999E-2,4.3700000000000003E-2,4.36E-2,4.3499999999999997E-2,4.3400000000000001E-2,4.3299999999999998E-2,4.3200000000000002E-2,4.3099999999999999E-2,4.2999999999999997E-2,4.2900000000000001E-2,4.2799999999999998E-2,4.2700000000000002E-2,4.2599999999999999E-2,4.2500000000000003E-2,4.24E-2,4.2299999999999997E-2,4.2200000000000001E-2,4.2099999999999999E-2,4.19E-2,4.1799999999999997E-2,4.1700000000000001E-2,4.1599999999999998E-2,4.1500000000000002E-2,4.1399999999999999E-2,4.1300000000000003E-2,4.1200000000000001E-2,4.1099999999999998E-2,4.1000000000000002E-2,4.0899999999999999E-2,4.0800000000000003E-2]
[35,4.4999999999999998E-2,4.4999999999999998E-2,4.4900000000000002E-2,4.48E-2,4.48E-2,4.4699999999999997E-2,4.4600000000000001E-2,4.4600000000000001E-2,4.4499999999999998E-2,4.4400000000000002E-2,4.4299999999999999E-2,4.4200000000000003E-2,4.41E-2,4.41E-2,4.3999999999999997E-2,4.3900000000000002E-2,4.3799999999999999E-2,4.3700000000000003E-2,4.3499999999999997E-2,4.3400000000000001E-2,4.3299999999999998E-2,4.3200000000000002E-2,4.3099999999999999E-2,4.2999999999999997E-2,4.2900000000000001E-2,4.2799999999999998E-2,4.2599999999999999E-2,4.2500000000000003E-2,4.24E-2,4.2299999999999997E-2,4.2200000000000001E-2,4.2099999999999999E-2,4.2000000000000003E-2,4.1799999999999997E-2,4.1700000000000001E-2,4.1599999999999998E-2,4.1500000000000002E-2,4.1399999999999999E-2,4.1300000000000003E-2,4.1200000000000001E-2,4.1099999999999998E-2]
[36,4.5499999999999999E-2,4.5499999999999999E-2,4.5400000000000003E-2,4.53E-2,4.53E-2,4.5199999999999997E-2,4.5100000000000001E-2,4.5100000000000001E-2,4.4999999999999998E-2,4.4900000000000002E-2,4.48E-2,4.4699999999999997E-2,4.4600000000000001E-2,4.4499999999999998E-2,4.4400000000000002E-2,4.4299999999999999E-2,4.4200000000000003E-2,4.41E-2,4.3999999999999997E-2,4.3900000000000002E-2,4.3799999999999999E-2,4.36E-2,4.3499999999999997E-2,4.3400000000000001E-2,4.3299999999999998E-2,4.3200000000000002E-2,4.2999999999999997E-2,4.2900000000000001E-2,4.2799999999999998E-2,4.2700000000000002E-2,4.2500000000000003E-2,4.24E-2,4.2299999999999997E-2,4.2200000000000001E-2,4.2099999999999999E-2,4.2000000000000003E-2,4.1799999999999997E-2,4.1700000000000001E-2,4.1599999999999998E-2,4.1500000000000002E-2,4.1399999999999999E-2]
[37,4.6100000000000002E-2,4.5999999999999999E-2,4.5900000000000003E-2,4.5900000000000003E-2,4.58E-2,4.5699999999999998E-2,4.5600000000000002E-2,4.5600000000000002E-2,4.5499999999999999E-2,4.5400000000000003E-2,4.53E-2,4.5199999999999997E-2,4.5100000000000001E-2,4.4999999999999998E-2,4.4900000000000002E-2,4.48E-2,4.4699999999999997E-2,4.4600000000000001E-2,4.4400000000000002E-2,4.4299999999999999E-2,4.4200000000000003E-2,4.41E-2,4.3999999999999997E-2,4.3799999999999999E-2,4.3700000000000003E-2,4.36E-2,4.3400000000000001E-2,4.3299999999999998E-2,4.3200000000000002E-2,4.3099999999999999E-2,4.2900000000000001E-2,4.2799999999999998E-2,4.2700000000000002E-2,4.2599999999999999E-2,4.24E-2,4.2299999999999997E-2,4.2200000000000001E-2,4.2099999999999999E-2,4.2000000000000003E-2,4.1799999999999997E-2,4.1700000000000001E-2]
[38,4.6600000000000003E-2,4.6600000000000003E-2,4.65E-2,4.6399999999999997E-2,4.6300000000000001E-2,4.6300000000000001E-2,4.6199999999999998E-2,4.6100000000000002E-2,4.5999999999999999E-2,4.5900000000000003E-2,4.58E-2,4.5699999999999998E-2,4.5600000000000002E-2,4.5499999999999999E-2,4.5400000000000003E-2,4.53E-2,4.5199999999999997E-2,4.5100000000000001E-2,4.4900000000000002E-2,4.48E-2,4.4699999999999997E-2,4.4499999999999998E-2,4.4400000000000002E-2,4.4299999999999999E-2,4.41E-2,4.3999999999999997E-2,4.3900000000000002E-2,4.3700000000000003E-2,4.36E-2,4.3499999999999997E-2,4.3299999999999998E-2,4.3200000000000002E-2,4.3099999999999999E-2,4.2900000000000001E-2,4.2799999999999998E-2,4.2700000000000002E-2,4.2599999999999999E-2,4.24E-2,4.2299999999999997E-2,4.2200000000000001E-2,4.2099999999999999E-2]
[39,4.7199999999999999E-2,4.7100000000000003E-2,4.7100000000000003E-2,4.7E-2,4.6899999999999997E-2,4.6800000000000001E-2,4.6800000000000001E-2,4.6699999999999998E-2,4.6600000000000003E-2,4.65E-2,4.6399999999999997E-2,4.6300000000000001E-2,4.6199999999999998E-2,4.6100000000000002E-2,4.5900000000000003E-2,4.58E-2,4.5699999999999998E-2,4.5600000000000002E-2,4.5400000000000003E-2,4.53E-2,4.5199999999999997E-2,4.4999999999999998E-2,4.4900000000000002E-2,4.48E-2,4.4600000000000001E-2,4.4499999999999998E-2,4.4299999999999999E-2,4.4200000000000003E-2,4.3999999999999997E-2,4.3900000000000002E-2,4.3799999999999999E-2,4.36E-2,4.3499999999999997E-2,4.3299999999999998E-2,4.3200000000000002E-2,4.3099999999999999E-2,4.2900000000000001E-2,4.2799999999999998E-2,4.2700000000000002E-2,4.2500000000000003E-2,4.24E-2]
[40,4.7800000000000002E-2,4.7800000000000002E-2,4.7699999999999999E-2,4.7600000000000003E-2,4.7500000000000001E-2,4.7500000000000001E-2,4.7399999999999998E-2,4.7300000000000002E-2,4.7199999999999999E-2,4.7100000000000003E-2,4.7E-2,4.6899999999999997E-2,4.6699999999999998E-2,4.6600000000000003E-2,4.65E-2,4.6399999999999997E-2,4.6199999999999998E-2,4.6100000000000002E-2,4.5999999999999999E-2,4.58E-2,4.5699999999999998E-2,4.5499999999999999E-2,4.5400000000000003E-2,4.53E-2,4.5100000000000001E-2,4.4999999999999998E-2,4.48E-2,4.4699999999999997E-2,4.4499999999999998E-2,4.4299999999999999E-2,4.4200000000000003E-2,4.41E-2,4.3900000000000002E-2,4.3799999999999999E-2,4.36E-2,4.3499999999999997E-2,4.3299999999999998E-2,4.3200000000000002E-2,4.3099999999999999E-2,4.2900000000000001E-2,4.2799999999999998E-2]
[41,4.8500000000000001E-2,4.8399999999999999E-2,4.8300000000000003E-2,4.8300000000000003E-2,4.82E-2,4.8099999999999997E-2,4.8000000000000001E-2,4.7899999999999998E-2,4.7800000000000002E-2,4.7699999999999999E-2,4.7600000000000003E-2,4.7500000000000001E-2,4.7399999999999998E-2,4.7199999999999999E-2,4.7100000000000003E-2,4.7E-2,4.6800000000000001E-2,4.6699999999999998E-2,4.65E-2,4.6399999999999997E-2,4.6199999999999998E-2,4.6100000000000002E-2,4.5900000000000003E-2,4.58E-2,4.5600000000000002E-2,4.5499999999999999E-2,4.53E-2,4.5100000000000001E-2,4.4999999999999998E-2,4.48E-2,4.4699999999999997E-2,4.4499999999999998E-2,4.4400000000000002E-2,4.4200000000000003E-2,4.3999999999999997E-2,4.3900000000000002E-2,4.3799999999999999E-2,4.36E-2,4.3499999999999997E-2,4.3299999999999998E-2,4.3200000000000002E-2]
[42,4.9200000000000001E-2,4.9099999999999998E-2,4.9000000000000002E-2,4.9000000000000002E-2,4.8899999999999999E-2,4.8800000000000003E-2,4.87E-2,4.8599999999999997E-2,4.8500000000000001E-2,4.8399999999999999E-2,4.82E-2,4.8099999999999997E-2,4.8000000000000001E-2,4.7899999999999998E-2,4.7699999999999999E-2,4.7600000000000003E-2,4.7399999999999998E-2,4.7300000000000002E-2,4.7100000000000003E-2,4.7E-2,4.6800000000000001E-2,4.6699999999999998E-2,4.65E-2,4.6300000000000001E-2,4.6199999999999998E-2,4.5999999999999999E-2,4.58E-2,4.5699999999999998E-2,4.5499999999999999E-2,4.53E-2,4.5199999999999997E-2,4.4999999999999998E-2,4.48E-2,4.4699999999999997E-2,4.4499999999999998E-2,4.4299999999999999E-2,4.4200000000000003E-2,4.3999999999999997E-2,4.3900000000000002E-2,4.3700000000000003E-2,4.36E-2]
[43,4.99E-2,4.9799999999999997E-2,4.9799999999999997E-2,4.9700000000000001E-2,4.9599999999999998E-2,4.9500000000000002E-2,4.9399999999999999E-2,4.9299999999999997E-2,4.9200000000000001E-2,4.9099999999999998E-2,4.8899999999999999E-2,4.8800000000000003E-2,4.87E-2,4.8500000000000001E-2,4.8399999999999999E-2,4.82E-2,4.8099999999999997E-2,4.7899999999999998E-2,4.7800000000000002E-2,4.7600000000000003E-2,4.7399999999999998E-2,4.7300000000000002E-2,4.7100000000000003E-2,4.6899999999999997E-2,4.6699999999999998E-2,4.6600000000000003E-2,4.6399999999999997E-2,4.6199999999999998E-2,4.5999999999999999E-2,4.5900000000000003E-2,4.5699999999999998E-2,4.5499999999999999E-2,4.53E-2,4.5199999999999997E-2,4.4999999999999998E-2,4.48E-2,4.4699999999999997E-2,4.4499999999999998E-2,4.4299999999999999E-2,4.4200000000000003E-2,4.3999999999999997E-2]
[44,5.0700000000000002E-2,5.0599999999999999E-2,5.0500000000000003E-2,5.04E-2,5.04E-2,5.0299999999999997E-2,5.0099999999999999E-2,0.05,4.99E-2,4.9799999999999997E-2,4.9700000000000001E-2,4.9500000000000002E-2,4.9399999999999999E-2,4.9200000000000001E-2,4.9099999999999998E-2,4.8899999999999999E-2,4.8800000000000003E-2,4.8599999999999997E-2,4.8399999999999999E-2,4.8300000000000003E-2,4.8099999999999997E-2,4.7899999999999998E-2,4.7699999999999999E-2,4.7500000000000001E-2,4.7300000000000002E-2,4.7199999999999999E-2,4.7E-2,4.6800000000000001E-2,4.6600000000000003E-2,4.6399999999999997E-2,4.6199999999999998E-2,4.5999999999999999E-2,4.58E-2,4.5699999999999998E-2,4.5499999999999999E-2,4.53E-2,4.5100000000000001E-2,4.4999999999999998E-2,4.48E-2,4.4600000000000001E-2,4.4499999999999998E-2]
[45,5.1499999999999997E-2,5.1400000000000001E-2,5.1299999999999998E-2,5.1299999999999998E-2,5.1200000000000002E-2,5.11E-2,5.0900000000000001E-2,5.0799999999999998E-2,5.0700000000000002E-2,5.0599999999999999E-2,5.04E-2,5.0299999999999997E-2,5.0099999999999999E-2,0.05,4.9799999999999997E-2,4.9700000000000001E-2,4.9500000000000002E-2,4.9299999999999997E-2,4.9099999999999998E-2,4.9000000000000002E-2,4.8800000000000003E-2,4.8599999999999997E-2,4.8399999999999999E-2,4.82E-2,4.8000000000000001E-2,4.7800000000000002E-2,4.7600000000000003E-2,4.7399999999999998E-2,4.7199999999999999E-2,4.7E-2,4.6800000000000001E-2,4.6600000000000003E-2,4.6399999999999997E-2,4.6199999999999998E-2,4.5999999999999999E-2,4.58E-2,4.5699999999999998E-2,4.5499999999999999E-2,4.53E-2,4.5100000000000001E-2,4.4999999999999998E-2]
[46,5.2400000000000002E-2,5.2299999999999999E-2,5.2200000000000003E-2,5.21E-2,5.1999999999999998E-2,5.1900000000000002E-2,5.1799999999999999E-2,5.1700000000000003E-2,5.1499999999999997E-2,5.1400000000000001E-2,5.1299999999999998E-2,5.11E-2,5.0900000000000001E-2,5.0799999999999998E-2,5.0599999999999999E-2,5.04E-2,5.0299999999999997E-2,5.0099999999999999E-2,4.99E-2,4.9700000000000001E-2,4.9500000000000002E-2,4.9299999999999997E-2,4.9099999999999998E-2,4.8899999999999999E-2,4.87E-2,4.8399999999999999E-2,4.82E-2,4.8000000000000001E-2,4.7800000000000002E-2,4.7600000000000003E-2,4.7399999999999998E-2,4.7199999999999999E-2,4.7E-2,4.6800000000000001E-2,4.6600000000000003E-2,4.6399999999999997E-2,4.6199999999999998E-2,4.5999999999999999E-2,4.58E-2,4.5600000000000002E-2,4.5499999999999999E-2]
[47,5.33E-2,5.3199999999999997E-2,5.3100000000000001E-2,5.2999999999999999E-2,5.2900000000000003E-2,5.28E-2,5.2699999999999997E-2,5.2499999999999998E-2,5.2400000000000002E-2,5.2299999999999999E-2,5.21E-2,5.1999999999999998E-2,5.1799999999999999E-2,5.16E-2,5.1400000000000001E-2,5.1299999999999998E-2,5.11E-2,5.0900000000000001E-2,5.0700000000000002E-2,5.0500000000000003E-2,5.0200000000000002E-2,0.05,4.9799999999999997E-2,4.9599999999999998E-2,4.9399999999999999E-2,4.9099999999999998E-2,4.8899999999999999E-2,4.87E-2,4.8500000000000001E-2,4.82E-2,4.8000000000000001E-2,4.7800000000000002E-2,4.7600000000000003E-2,4.7399999999999998E-2,4.7199999999999999E-2,4.7E-2,4.6699999999999998E-2,4.65E-2,4.6399999999999997E-2,4.6199999999999998E-2,4.5999999999999999E-2]
[48,5.4300000000000001E-2,5.4199999999999998E-2,5.4100000000000002E-2,5.3999999999999999E-2,5.3900000000000003E-2,5.3800000000000001E-2,5.3600000000000002E-2,5.3499999999999999E-2,5.33E-2,5.3199999999999997E-2,5.2999999999999999E-2,5.2900000000000003E-2,5.2699999999999997E-2,5.2499999999999998E-2,5.2299999999999999E-2,5.21E-2,5.1900000000000002E-2,5.1700000000000003E-2,5.1499999999999997E-2,5.1299999999999998E-2,5.11E-2,5.0799999999999998E-2,5.0599999999999999E-2,5.04E-2,5.0099999999999999E-2,4.99E-2,4.9599999999999998E-2,4.9399999999999999E-2,4.9200000000000001E-2,4.8899999999999999E-2,4.87E-2,4.8500000000000001E-2,4.82E-2,4.8000000000000001E-2,4.7800000000000002E-2,4.7600000000000003E-2,4.7300000000000002E-2,4.7100000000000003E-2,4.6899999999999997E-2,4.6699999999999998E-2,4.65E-2]
[49,5.5300000000000002E-2,5.5199999999999999E-2,5.5100000000000003E-2,5.5E-2,5.4899999999999997E-2,5.4800000000000001E-2,5.4600000000000003E-2,5.45E-2,5.4300000000000001E-2,5.4199999999999998E-2,5.3999999999999999E-2,5.3800000000000001E-2,5.3600000000000002E-2,5.3499999999999999E-2,5.3199999999999997E-2,5.2999999999999999E-2,5.28E-2,5.2600000000000001E-2,5.2400000000000002E-2,5.21E-2,5.1900000000000002E-2,5.1700000000000003E-2,5.1400000000000001E-2,5.1200000000000002E-2,5.0900000000000001E-2,5.0700000000000002E-2,5.04E-2,5.0200000000000002E-2,4.99E-2,4.9700000000000001E-2,4.9399999999999999E-2,4.9200000000000001E-2,4.8899999999999999E-2,4.87E-2,4.8399999999999999E-2,4.82E-2,4.8000000000000001E-2,4.7699999999999999E-2,4.7500000000000001E-2,4.7300000000000002E-2,4.7100000000000003E-2]
[50,5.6399999999999999E-2,5.6300000000000003E-2,5.62E-2,5.6099999999999997E-2,5.6000000000000001E-2,5.5800000000000002E-2,5.57E-2,5.5500000000000001E-2,5.5399999999999998E-2,5.5199999999999999E-2,5.5E-2,5.4899999999999997E-2,5.4699999999999999E-2,5.45E-2,5.4199999999999998E-2,5.3999999999999999E-2,5.3800000000000001E-2,5.3600000000000002E-2,5.33E-2,5.3100000000000001E-2,5.28E-2,5.2600000000000001E-2,5.2299999999999999E-2,5.1999999999999998E-2,5.1799999999999999E-2,5.1499999999999997E-2,5.1200000000000002E-2,5.0999999999999997E-2,5.0700000000000002E-2,5.04E-2,5.0200000000000002E-2,4.99E-2,4.9599999999999998E-2,4.9399999999999999E-2,4.9099999999999998E-2,4.8899999999999999E-2,4.8599999999999997E-2,4.8399999999999999E-2,4.82E-2,4.7899999999999998E-2,4.7699999999999999E-2]
[51,5.7599999999999998E-2,5.7500000000000002E-2,5.7299999999999997E-2,5.7200000000000001E-2,5.7099999999999998E-2,5.7000000000000002E-2,5.6800000000000003E-2,5.67E-2,5.6500000000000002E-2,5.6300000000000003E-2,5.6099999999999997E-2,5.5899999999999998E-2,5.57E-2,5.5500000000000001E-2,5.5300000000000002E-2,5.5100000000000003E-2,5.4800000000000001E-2,5.4600000000000003E-2,5.4300000000000001E-2,5.3999999999999999E-2,5.3800000000000001E-2,5.3499999999999999E-2,5.3199999999999997E-2,5.2900000000000003E-2,5.2699999999999997E-2,5.2400000000000002E-2,5.21E-2,5.1799999999999999E-2,5.1499999999999997E-2,5.1200000000000002E-2,5.0900000000000001E-2,5.0700000000000002E-2,5.04E-2,5.0099999999999999E-2,4.9799999999999997E-2,4.9599999999999998E-2,4.9299999999999997E-2,4.9099999999999998E-2,4.8800000000000003E-2,4.8599999999999997E-2,4.8300000000000003E-2]
[52,5.8799999999999998E-2,5.8700000000000002E-2,5.8599999999999999E-2,5.8500000000000003E-2,5.8299999999999998E-2,5.8200000000000002E-2,5.8000000000000003E-2,5.79E-2,5.7700000000000001E-2,5.7500000000000002E-2,5.7299999999999997E-2,5.7099999999999998E-2,5.6899999999999999E-2,5.6599999999999998E-2,5.6399999999999999E-2,5.62E-2,5.5899999999999998E-2,5.5599999999999997E-2,5.5399999999999998E-2,5.5100000000000003E-2,5.4800000000000001E-2,5.45E-2,5.4199999999999998E-2,5.3900000000000003E-2,5.3600000000000002E-2,5.33E-2,5.2999999999999999E-2,5.2699999999999997E-2,5.2400000000000002E-2,5.21E-2,5.1799999999999999E-2,5.1499999999999997E-2,5.1200000000000002E-2,5.0900000000000001E-2,5.0599999999999999E-2,5.0299999999999997E-2,0.05,4.9799999999999997E-2,4.9500000000000002E-2,4.9299999999999997E-2,4.9000000000000002E-2]
[53,6.0100000000000001E-2,0.06,5.9900000000000002E-2,5.9799999999999999E-2,5.96E-2,5.9499999999999997E-2,5.9299999999999999E-2,5.91E-2,5.8900000000000001E-2,5.8700000000000002E-2,5.8500000000000003E-2,5.8299999999999998E-2,5.8099999999999999E-2,5.7799999999999997E-2,5.7599999999999998E-2,5.7299999999999997E-2,5.7000000000000002E-2,5.6800000000000003E-2,5.6500000000000002E-2,5.62E-2,5.5899999999999998E-2,5.5599999999999997E-2,5.5199999999999999E-2,5.4899999999999997E-2,5.4600000000000003E-2,5.4300000000000001E-2,5.3999999999999999E-2,5.3600000000000002E-2,5.33E-2,5.2999999999999999E-2,5.2699999999999997E-2,5.2299999999999999E-2,5.1999999999999998E-2,5.1700000000000003E-2,5.1400000000000001E-2,5.11E-2,5.0799999999999998E-2,5.0500000000000003E-2,5.0299999999999997E-2,0.05,4.9700000000000001E-2]
[54,6.1499999999999999E-2,6.1400000000000003E-2,6.13E-2,6.1100000000000002E-2,6.0999999999999999E-2,6.08E-2,6.0699999999999997E-2,6.0499999999999998E-2,6.0299999999999999E-2,6.0100000000000001E-2,5.9900000000000002E-2,5.96E-2,5.9400000000000001E-2,5.91E-2,5.8799999999999998E-2,5.8599999999999999E-2,5.8299999999999998E-2,5.8000000000000003E-2,5.7700000000000001E-2,5.7299999999999997E-2,5.7000000000000002E-2,5.67E-2,5.6399999999999999E-2,5.6000000000000001E-2,5.57E-2,5.5300000000000002E-2,5.5E-2,5.4600000000000003E-2,5.4300000000000001E-2,5.3900000000000003E-2,5.3600000000000002E-2,5.33E-2,5.2900000000000003E-2,5.2600000000000001E-2,5.2299999999999999E-2,5.1900000000000002E-2,5.16E-2,5.1299999999999998E-2,5.0999999999999997E-2,5.0700000000000002E-2,5.0500000000000003E-2]
[55,6.3E-2,6.2899999999999998E-2,6.2700000000000006E-2,6.2600000000000003E-2,6.25E-2,6.2300000000000001E-2,6.2100000000000002E-2,6.1899999999999997E-2,6.1699999999999998E-2,6.1499999999999999E-2,6.13E-2,6.0999999999999999E-2,6.08E-2,6.0499999999999998E-2,6.0199999999999997E-2,5.9900000000000002E-2,5.96E-2,5.9299999999999999E-2,5.8900000000000001E-2,5.8599999999999999E-2,5.8200000000000002E-2,5.79E-2,5.7500000000000002E-2,5.7200000000000001E-2,5.6800000000000003E-2,5.6399999999999999E-2,5.6099999999999997E-2,5.57E-2,5.5300000000000002E-2,5.4899999999999997E-2,5.4600000000000003E-2,5.4199999999999998E-2,5.3900000000000003E-2,5.3499999999999999E-2,5.3199999999999997E-2,5.28E-2,5.2499999999999998E-2,5.2200000000000003E-2,5.1799999999999999E-2,5.1499999999999997E-2,5.1200000000000002E-2]
[56,6.4600000000000005E-2,6.4500000000000002E-2,6.4299999999999996E-2,6.4199999999999993E-2,6.4000000000000001E-2,6.3899999999999998E-2,6.3700000000000007E-2,6.3500000000000001E-2,6.3200000000000006E-2,6.3E-2,6.2799999999999995E-2,6.25E-2,6.2199999999999998E-2,6.1899999999999997E-2,6.1600000000000002E-2,6.13E-2,6.0999999999999999E-2,6.0600000000000001E-2,6.0299999999999999E-2,5.9900000000000002E-2,5.9499999999999997E-2,5.9200000000000003E-2,5.8799999999999998E-2,5.8400000000000001E-2,5.8000000000000003E-2,5.7599999999999998E-2,5.7200000000000001E-2,5.6800000000000003E-2,5.6399999999999999E-2,5.6000000000000001E-2,5.5599999999999997E-2,5.5199999999999999E-2,5.4899999999999997E-2,5.45E-2,5.4100000000000002E-2,5.3800000000000001E-2,5.3400000000000003E-2,5.3100000000000001E-2,5.2699999999999997E-2,5.2400000000000002E-2,5.21E-2]
[57,6.6299999999999998E-2,6.6100000000000006E-2,6.6000000000000003E-2,6.59E-2,6.5699999999999995E-2,6.5500000000000003E-2,6.5299999999999997E-2,6.5100000000000005E-2,6.4899999999999999E-2,6.4600000000000005E-2,6.4399999999999999E-2,6.4100000000000004E-2,6.3799999999999996E-2,6.3500000000000001E-2,6.3200000000000006E-2,6.2799999999999995E-2,6.25E-2,6.2100000000000002E-2,6.1699999999999998E-2,6.13E-2,6.0900000000000003E-2,6.0499999999999998E-2,6.0100000000000001E-2,5.9700000000000003E-2,5.9299999999999999E-2,5.8900000000000001E-2,5.8400000000000001E-2,5.8000000000000003E-2,5.7599999999999998E-2,5.7200000000000001E-2,5.67E-2,5.6300000000000003E-2,5.5899999999999998E-2,5.5500000000000001E-2,5.5100000000000003E-2,5.4699999999999999E-2,5.4399999999999997E-2,5.3999999999999999E-2,5.3600000000000002E-2,5.33E-2,5.2900000000000003E-2]
[58,6.8099999999999994E-2,6.8000000000000005E-2,6.7799999999999999E-2,6.7699999999999996E-2,6.7500000000000004E-2,6.7299999999999999E-2,6.7100000000000007E-2,6.6900000000000001E-2,6.6600000000000006E-2,6.6400000000000001E-2,6.6100000000000006E-2,6.5799999999999997E-2,6.5500000000000003E-2,6.5100000000000005E-2,6.4799999999999996E-2,6.4399999999999999E-2,6.4100000000000004E-2,6.3700000000000007E-2,6.3299999999999995E-2,6.2799999999999995E-2,6.2399999999999997E-2,6.2E-2,6.1499999999999999E-2,6.1100000000000002E-2,6.0600000000000001E-2,6.0199999999999997E-2,5.9700000000000003E-2,5.9299999999999999E-2,5.8799999999999998E-2,5.8400000000000001E-2,5.79E-2,5.7500000000000002E-2,5.7000000000000002E-2,5.6599999999999998E-2,5.62E-2,5.5800000000000002E-2,5.5399999999999998E-2,5.5E-2,5.4600000000000003E-2,5.4199999999999998E-2,5.3800000000000001E-2]
[59,7.0000000000000007E-2,6.9900000000000004E-2,6.9699999999999998E-2,6.9599999999999995E-2,6.9400000000000003E-2,6.9199999999999998E-2,6.9000000000000006E-2,6.8699999999999997E-2,6.8500000000000005E-2,6.8199999999999997E-2,6.7900000000000002E-2,6.7599999999999993E-2,6.7299999999999999E-2,6.6900000000000001E-2,6.6500000000000004E-2,6.6199999999999995E-2,6.5799999999999997E-2,6.5299999999999997E-2,6.4899999999999999E-2,6.4500000000000002E-2,6.4000000000000001E-2,6.3500000000000001E-2,6.3100000000000003E-2,6.2600000000000003E-2,6.2100000000000002E-2,6.1600000000000002E-2,6.1100000000000002E-2,6.0600000000000001E-2,6.0100000000000001E-2,5.9700000000000003E-2,5.9200000000000003E-2,5.8700000000000002E-2,5.8200000000000002E-2,5.7799999999999997E-2,5.7299999999999997E-2,5.6899999999999999E-2,5.6500000000000002E-2,5.6000000000000001E-2,5.5599999999999997E-2,5.5199999999999999E-2,5.4800000000000001E-2]
[60,7.2099999999999997E-2,7.1900000000000006E-2,7.1800000000000003E-2,7.1599999999999997E-2,7.1400000000000005E-2,7.1199999999999999E-2,7.0999999999999994E-2,7.0800000000000002E-2,7.0499999999999993E-2,7.0199999999999999E-2,6.9900000000000004E-2,6.9599999999999995E-2,6.9199999999999998E-2,6.88E-2,6.8400000000000002E-2,6.8000000000000005E-2,6.7599999999999993E-2,6.7100000000000007E-2,6.6699999999999995E-2,6.6199999999999995E-2,6.5699999999999995E-2,6.5199999999999994E-2,6.4699999999999994E-2,6.4199999999999993E-2,6.3700000000000007E-2,6.3100000000000003E-2,6.2600000000000003E-2,6.2100000000000002E-2,6.1600000000000002E-2,6.0999999999999999E-2,6.0499999999999998E-2,0.06,5.9499999999999997E-2,5.8999999999999997E-2,5.8500000000000003E-2,5.8099999999999999E-2,5.7599999999999998E-2,5.7099999999999998E-2,5.67E-2,5.6300000000000003E-2,5.5800000000000002E-2]
[61,7.4300000000000005E-2,7.4200000000000002E-2,7.3999999999999996E-2,7.3800000000000004E-2,7.3599999999999999E-2,7.3400000000000007E-2,7.3200000000000001E-2,7.2900000000000006E-2,7.2599999999999998E-2,7.2300000000000003E-2,7.1999999999999995E-2,7.1599999999999997E-2,7.1300000000000002E-2,7.0900000000000005E-2,7.0400000000000004E-2,7.0000000000000007E-2,6.9500000000000006E-2,6.9000000000000006E-2,6.8500000000000005E-2,6.8000000000000005E-2,6.7500000000000004E-2,6.7000000000000004E-2,6.6400000000000001E-2,6.59E-2,6.5299999999999997E-2,6.4699999999999994E-2,6.4199999999999993E-2,6.3600000000000004E-2,6.3100000000000003E-2,6.25E-2,6.1899999999999997E-2,6.1400000000000003E-2,6.0900000000000003E-2,6.0299999999999999E-2,5.9799999999999999E-2,5.9299999999999999E-2,5.8799999999999998E-2,5.8299999999999998E-2,5.7799999999999997E-2,5.74E-2,5.6899999999999999E-2]
[62,7.6700000000000004E-2,7.6499999999999999E-2,7.6399999999999996E-2,7.6200000000000004E-2,7.5999999999999998E-2,7.5800000000000006E-2,7.5499999999999998E-2,7.5200000000000003E-2,7.4899999999999994E-2,7.46E-2,7.4300000000000005E-2,7.3899999999999993E-2,7.3499999999999996E-2,7.2999999999999995E-2,7.2599999999999998E-2,7.2099999999999997E-2,7.1599999999999997E-2,7.1099999999999997E-2,7.0599999999999996E-2,7.0000000000000007E-2,6.9400000000000003E-2,6.8900000000000003E-2,6.83E-2,6.7699999999999996E-2,6.7100000000000007E-2,6.6500000000000004E-2,6.59E-2,6.5299999999999997E-2,6.4699999999999994E-2,6.4100000000000004E-2,6.3500000000000001E-2,6.2899999999999998E-2,6.2300000000000001E-2,6.1699999999999998E-2,6.1199999999999997E-2,6.0600000000000001E-2,6.0100000000000001E-2,5.96E-2,5.8999999999999997E-2,5.8500000000000003E-2,5.8099999999999999E-2]
[63,7.9200000000000007E-2,7.9100000000000004E-2,7.8899999999999998E-2,7.8700000000000006E-2,7.85E-2,7.8299999999999995E-2,7.8E-2,7.7700000000000005E-2,7.7399999999999997E-2,7.7100000000000002E-2,7.6700000000000004E-2,7.6300000000000007E-2,7.5800000000000006E-2,7.5399999999999995E-2,7.4899999999999994E-2,7.4399999999999994E-2,7.3899999999999993E-2,7.3300000000000004E-2,7.2700000000000001E-2,7.2099999999999997E-2,7.1499999999999994E-2,7.0900000000000005E-2,7.0300000000000001E-2,6.9599999999999995E-2,6.9000000000000006E-2,6.83E-2,6.7699999999999996E-2,6.7000000000000004E-2,6.6400000000000001E-2,6.5699999999999995E-2,6.5100000000000005E-2,6.4399999999999999E-2,6.3799999999999996E-2,6.3200000000000006E-2,6.2600000000000003E-2,6.2E-2,6.1400000000000003E-2,6.0900000000000003E-2,6.0299999999999999E-2,5.9799999999999999E-2,5.9299999999999999E-2]
[64,8.2000000000000003E-2,8.1799999999999998E-2,8.1699999999999995E-2,8.1500000000000003E-2,8.1199999999999994E-2,8.1000000000000003E-2,8.0699999999999994E-2,8.0399999999999999E-2,8.0100000000000005E-2,7.9699999999999993E-2,7.9299999999999995E-2,7.8899999999999998E-2,7.8399999999999997E-2,7.7899999999999997E-2,7.7399999999999997E-2,7.6799999999999993E-2,7.6300000000000007E-2,7.5700000000000003E-2,7.51E-2,7.4399999999999994E-2,7.3800000000000004E-2,7.3099999999999998E-2,7.2400000000000006E-2,7.17E-2,7.0999999999999994E-2,7.0300000000000001E-2,6.9599999999999995E-2,6.8900000000000003E-2,6.8199999999999997E-2,6.7500000000000004E-2,6.6799999999999998E-2,6.6100000000000006E-2,6.54E-2,6.4799999999999996E-2,6.4100000000000004E-2,6.3500000000000001E-2,6.2899999999999998E-2,6.2300000000000001E-2,6.1699999999999998E-2,6.1100000000000002E-2,6.0600000000000001E-2]
[65,8.5000000000000006E-2,8.48E-2,8.4599999999999995E-2,8.4400000000000003E-2,8.4199999999999997E-2,8.3900000000000002E-2,8.3599999999999994E-2,8.3299999999999999E-2,8.2900000000000001E-2,8.2500000000000004E-2,8.2100000000000006E-2,8.1699999999999995E-2,8.1199999999999994E-2,8.0600000000000005E-2,8.0100000000000005E-2,7.9500000000000001E-2,7.8899999999999998E-2,7.8200000000000006E-2,7.7600000000000002E-2,7.6899999999999996E-2,7.6200000000000004E-2,7.5399999999999995E-2,7.4700000000000003E-2,7.3999999999999996E-2,7.3200000000000001E-2,7.2400000000000006E-2,7.17E-2,7.0900000000000005E-2,7.0099999999999996E-2,6.9400000000000003E-2,6.8599999999999994E-2,6.7900000000000002E-2,6.7199999999999996E-2,6.6500000000000004E-2,6.5799999999999997E-2,6.5100000000000005E-2,6.4399999999999999E-2,6.3799999999999996E-2,6.3100000000000003E-2,6.25E-2,6.1899999999999997E-2]
[66,8.8099999999999998E-2,8.7999999999999995E-2,8.7800000000000003E-2,8.7599999999999997E-2,8.7300000000000003E-2,8.7099999999999997E-2,8.6699999999999999E-2,8.6400000000000005E-2,8.5999999999999993E-2,8.5599999999999996E-2,8.5099999999999995E-2,8.4699999999999998E-2,8.4099999999999994E-2,8.3599999999999994E-2,8.3000000000000004E-2,8.2299999999999998E-2,8.1699999999999995E-2,8.1000000000000003E-2,8.0299999999999996E-2,7.9500000000000001E-2,7.8700000000000006E-2,7.8E-2,7.7200000000000005E-2,7.6399999999999996E-2,7.5499999999999998E-2,7.4700000000000003E-2,7.3899999999999993E-2,7.3099999999999998E-2,7.22E-2,7.1400000000000005E-2,7.0599999999999996E-2,6.9800000000000001E-2,6.9000000000000006E-2,6.83E-2,6.7500000000000004E-2,6.6799999999999998E-2,6.6000000000000003E-2,6.5299999999999997E-2,6.4699999999999994E-2,6.4000000000000001E-2,6.3299999999999995E-2]
[67,9.1600000000000001E-2,9.1399999999999995E-2,9.1200000000000003E-2,9.0999999999999998E-2,9.0700000000000003E-2,9.0399999999999994E-2,9.01E-2,8.9800000000000005E-2,8.9399999999999993E-2,8.8900000000000007E-2,8.8400000000000006E-2,8.7900000000000006E-2,8.7300000000000003E-2,8.6699999999999999E-2,8.6099999999999996E-2,8.5400000000000004E-2,8.4699999999999998E-2,8.3900000000000002E-2,8.3199999999999996E-2,8.2400000000000001E-2,8.1500000000000003E-2,8.0699999999999994E-2,7.9799999999999996E-2,7.8899999999999998E-2,7.8100000000000003E-2,7.7200000000000005E-2,7.6300000000000007E-2,7.5399999999999995E-2,7.4499999999999997E-2,7.3599999999999999E-2,7.2700000000000001E-2,7.1900000000000006E-2,7.0999999999999994E-2,7.0199999999999999E-2,6.93E-2,6.8599999999999994E-2,6.7799999999999999E-2,6.7000000000000004E-2,6.6299999999999998E-2,6.5600000000000006E-2,6.4899999999999999E-2]
[68,9.5299999999999996E-2,9.5100000000000004E-2,9.4899999999999998E-2,9.4700000000000006E-2,9.4399999999999998E-2,9.4100000000000003E-2,9.3799999999999994E-2,9.3399999999999997E-2,9.2999999999999999E-2,9.2499999999999999E-2,9.1999999999999998E-2,9.1399999999999995E-2,9.0800000000000006E-2,9.01E-2,8.9499999999999996E-2,8.8700000000000001E-2,8.7999999999999995E-2,8.7099999999999997E-2,8.6300000000000002E-2,8.5400000000000004E-2,8.4500000000000006E-2,8.3599999999999994E-2,8.2699999999999996E-2,8.1699999999999995E-2,8.0799999999999997E-2,7.9799999999999996E-2,7.8799999999999995E-2,7.7799999999999994E-2,7.6899999999999996E-2,7.5899999999999995E-2,7.4999999999999997E-2,7.3999999999999996E-2,7.3099999999999998E-2,7.22E-2,7.1300000000000002E-2,7.0499999999999993E-2,6.9599999999999995E-2,6.88E-2,6.8000000000000005E-2,6.7199999999999996E-2,6.6500000000000004E-2]
[69,9.9299999999999999E-2,9.9099999999999994E-2,9.8900000000000002E-2,9.8699999999999996E-2,9.8400000000000001E-2,9.8100000000000007E-2,9.7699999999999995E-2,9.7299999999999998E-2,9.69E-2,9.64E-2,9.5799999999999996E-2,9.5200000000000007E-2,9.4500000000000001E-2,9.3899999999999997E-2,9.3100000000000002E-2,9.2299999999999993E-2,9.1499999999999998E-2,9.06E-2,8.9700000000000002E-2,8.8800000000000004E-2,8.7800000000000003E-2,8.6800000000000002E-2,8.5800000000000001E-2,8.4699999999999998E-2,8.3699999999999997E-2,8.2600000000000007E-2,8.1600000000000006E-2,8.0500000000000002E-2,7.9500000000000001E-2,7.8399999999999997E-2,7.7399999999999997E-2,7.6399999999999996E-2,7.5399999999999995E-2,7.4399999999999994E-2,7.3400000000000007E-2,7.2499999999999995E-2,7.1599999999999997E-2,7.0699999999999999E-2,6.9800000000000001E-2,6.9000000000000006E-2,6.8199999999999997E-2]
[70,0.1037,0.10349999999999999,0.1033,0.10299999999999999,0.1027,0.1024,0.10199999999999999,0.1016,0.1011,0.10050000000000001,0.1,9.9299999999999999E-2,9.8599999999999993E-2,9.7900000000000001E-2,9.7100000000000006E-2,9.6199999999999994E-2,9.5299999999999996E-2,9.4399999999999998E-2,9.3399999999999997E-2,9.2299999999999993E-2,9.1300000000000006E-2,9.0200000000000002E-2,8.9099999999999999E-2,8.7999999999999995E-2,8.6800000000000002E-2,8.5699999999999998E-2,8.4500000000000006E-2,8.3400000000000002E-2,8.2199999999999995E-2,8.1100000000000005E-2,0.08,7.8899999999999998E-2,7.7799999999999994E-2,7.6700000000000004E-2,7.5700000000000003E-2,7.4700000000000003E-2,7.3700000000000002E-2,7.2700000000000001E-2,7.1800000000000003E-2,7.0900000000000005E-2,7.0000000000000007E-2]
[71,0.1084,0.1082,0.108,0.1077,0.1074,0.1071,0.1066,0.1062,0.1057,0.1051,0.1045,0.1038,0.10299999999999999,0.1022,0.1013,9.9400000000000002E-2,9.8400000000000001E-2,9.8400000000000001E-2,9.7299999999999998E-2,9.6199999999999994E-2,9.5100000000000004E-2,9.3899999999999997E-2,9.2700000000000005E-2,9.1499999999999998E-2,9.0200000000000002E-2,8.8999999999999996E-2,8.77E-2,8.6499999999999994E-2,8.5199999999999998E-2,8.4000000000000005E-2,8.2799999999999999E-2,8.1600000000000006E-2,8.0399999999999999E-2,7.9200000000000007E-2,7.8100000000000003E-2,7.6999999999999999E-2,7.5899999999999995E-2,7.4899999999999994E-2,7.3899999999999993E-2,7.2900000000000006E-2,7.1999999999999995E-2]
[72,0.1135,0.1133,0.11310000000000001,0.1128,0.1125,0.11210000000000001,0.11169999999999999,0.11119999999999999,0.11070000000000001,0.11,0.1094,0.1086,0.10780000000000001,0.1069,0.106,0.105,0.10390000000000001,0.1028,0.1017,0.10050000000000001,9.9199999999999997E-2,9.7900000000000001E-2,9.6600000000000005E-2,9.5299999999999996E-2,9.3899999999999997E-2,9.2499999999999999E-2,9.1200000000000003E-2,8.9800000000000005E-2,8.8499999999999995E-2,8.7099999999999997E-2,8.5800000000000001E-2,8.4500000000000006E-2,8.3199999999999996E-2,8.1900000000000001E-2,8.0699999999999994E-2,7.9500000000000001E-2,7.8299999999999995E-2,7.7200000000000005E-2,7.6100000000000001E-2,7.51E-2,7.3999999999999996E-2]
[73,0.1191,0.11890000000000001,0.1187,0.11840000000000001,0.11799999999999999,0.1176,0.1172,0.1167,0.11609999999999999,0.1154,0.1147,0.1139,0.113,0.11210000000000001,0.1111,0.11,0.10879999999999999,0.1076,0.10639999999999999,0.105,0.1037,0.1023,0.1008,9.9400000000000002E-2,9.7900000000000001E-2,9.64E-2,9.4899999999999998E-2,9.3399999999999997E-2,9.1899999999999996E-2,9.0499999999999997E-2,8.8999999999999996E-2,8.7599999999999997E-2,8.6199999999999999E-2,8.48E-2,8.3500000000000005E-2,8.2199999999999995E-2,8.09E-2,7.9699999999999993E-2,7.85E-2,7.7299999999999994E-2,7.6200000000000004E-2]
[74,0.12520000000000001,0.125,0.12470000000000001,0.1244,0.1241,0.1236,0.1232,0.1226,0.122,0.12130000000000001,0.1205,0.1196,0.1187,0.1177,0.1166,0.1154,0.1142,0.1128,0.1115,0.11,0.1085,0.107,0.10539999999999999,0.1038,0.1022,0.10059999999999999,9.8900000000000002E-2,9.7299999999999998E-2,9.5699999999999993E-2,9.4100000000000003E-2,9.2499999999999999E-2,9.0899999999999995E-2,8.9399999999999993E-2,8.7900000000000006E-2,8.6499999999999994E-2,8.5000000000000006E-2,8.3699999999999997E-2,8.2299999999999998E-2,8.1000000000000003E-2,7.9799999999999996E-2,7.8600000000000003E-2]
[75,0.13189999999999999,0.13159999999999999,0.13139999999999999,0.13100000000000001,0.13059999999999999,0.13020000000000001,0.12970000000000001,0.12909999999999999,0.12839999999999999,0.12770000000000001,0.1268,0.12590000000000001,0.1249,0.12379999999999999,0.1226,0.12130000000000001,0.12,0.11849999999999999,0.11700000000000001,0.11550000000000001,0.1138,0.11210000000000001,0.1104,0.1087,0.1069,0.1051,0.1033,0.10150000000000001,9.98E-2,9.8000000000000004E-2,9.6299999999999997E-2,9.4600000000000004E-2,9.2899999999999996E-2,9.1300000000000006E-2,8.9700000000000002E-2,8.8099999999999998E-2,8.6599999999999996E-2,8.5199999999999998E-2,8.3699999999999997E-2,8.2400000000000001E-2,8.1100000000000005E-2]
[76,0.1391,0.1389,0.1386,0.13819999999999999,0.13780000000000001,0.13739999999999999,0.1368,0.13619999999999999,0.13550000000000001,0.13469999999999999,0.1338,0.1328,0.13170000000000001,0.1305,0.12920000000000001,0.1278,0.1263,0.12479999999999999,0.1231,0.12139999999999999,0.1196,0.1178,0.1159,0.1139,0.112,0.11,0.1081,0.1061,0.1042,0.1022,0.1003,9.8500000000000004E-2,9.6600000000000005E-2,9.4799999999999995E-2,9.3100000000000002E-2,9.1399999999999995E-2,8.9800000000000005E-2,8.8200000000000001E-2,8.6599999999999996E-2,8.5199999999999998E-2,8.3699999999999997E-2]
[77,0.14699999999999999,0.14680000000000001,0.14649999999999999,0.14610000000000001,0.1457,0.1452,0.14460000000000001,0.14399999999999999,0.14319999999999999,0.14230000000000001,0.1414,0.14030000000000001,0.1391,0.13780000000000001,0.13639999999999999,0.13489999999999999,0.1333,0.13159999999999999,0.12970000000000001,0.12790000000000001,0.12590000000000001,0.1239,0.12180000000000001,0.1197,0.1176,0.1154,0.1132,0.1111,0.1089,0.10680000000000001,0.1047,0.1027,0.1007,9.8699999999999996E-2,9.6799999999999997E-2,9.5000000000000001E-2,9.3200000000000005E-2,9.1399999999999995E-2,8.9800000000000005E-2,8.8099999999999998E-2,8.6599999999999996E-2]
[78,0.15579999999999999,0.1555,0.1552,0.15479999999999999,0.15440000000000001,0.15379999999999999,0.1532,0.1525,0.1517,0.1507,0.1497,0.14849999999999999,0.1472,0.14580000000000001,0.14430000000000001,0.1426,0.1409,0.13900000000000001,0.13700000000000001,0.13489999999999999,0.1328,0.13059999999999999,0.1283,0.126,0.1236,0.1212,0.11890000000000001,0.11650000000000001,0.11409999999999999,0.1118,0.1095,0.10730000000000001,0.1051,0.10290000000000001,0.1008,9.8799999999999999E-2,9.6799999999999997E-2,9.4899999999999998E-2,9.3100000000000002E-2,9.1300000000000006E-2,8.9599999999999999E-2]
[79,0.1653,0.1651,0.16470000000000001,0.1643,0.1638,0.1633,0.16259999999999999,0.16189999999999999,0.161,0.16,0.1588,0.15759999999999999,0.15620000000000001,0.15459999999999999,0.153,0.1512,0.1492,0.1472,0.14499999999999999,0.14269999999999999,0.1404,0.13789999999999999,0.13539999999999999,0.1328,0.13020000000000001,0.12759999999999999,0.125,0.12239999999999999,0.1198,0.1172,0.1147,0.11219999999999999,0.10979999999999999,0.1074,0.1051,0.10290000000000001,0.1008,9.8699999999999996E-2,9.6699999999999994E-2,9.4799999999999995E-2,9.2899999999999996E-2]
[80,0.1759,0.17560000000000001,0.17519999999999999,0.17480000000000001,0.17430000000000001,0.17369999999999999,0.17299999999999999,0.17219999999999999,0.17119999999999999,0.1701,0.16889999999999999,0.16750000000000001,0.16600000000000001,0.1643,0.16250000000000001,0.1605,0.15840000000000001,0.15620000000000001,0.15379999999999999,0.15129999999999999,0.1487,0.14599999999999999,0.14319999999999999,0.14030000000000001,0.13750000000000001,0.1346,0.13170000000000001,0.1288,0.12590000000000001,0.1231,0.1203,0.1176,0.1149,0.1123,0.10979999999999999,0.10730000000000001,0.105,0.1027,0.10050000000000001,9.8400000000000001E-2,9.64E-2]

{"sheet":"Simulations (2)","index":5,"n_rows":242,"n_cols":20,"rows_kept":242,"cut":false,"hidden":true,"merged":[[230,0,241,0],[98,0,109,0],[110,0,121,0],[122,0,133,0],[134,0,145,0],[146,0,157,0],[158,0,169,0],[170,0,181,0],[182,0,193,0],[194,0,205,0],[206,0,217,0],[218,0,229,0],[86,0,97,0],[0,0,1,0],[0,1,1,1],[0,5,1,5],[0,7,1,7],[2,0,13,0],[14,0,25,0],[26,0,37,0],[38,0,49,0],[50,0,61,0],[62,0,73,0],[74,0,85,0]]}
["Année","Mois","Provision ","Provision ","Provision ","Cotisation","Cotisation ","Intérêts","Cumul de ","Provision de","Provision de","Provision de",null,"Gains",null,null,"5 ANS","10 ANS","15 ANS","20 ANS"]
[null,null,"ouverture 01","ouverture 02","ouverture 03",null,"investie",null,"cotisations"," clôture 01"," clôture 02"," clôture 03",null,"Assuré",null,"CAPITAL A TERME",0.03]
[1,1,0,null,null,{"$f":"Prime_périodique","v":65600},{"$f":"+F3*PI_1","v":63632},{"$f":"+L3-G3","v":{"$error":"#REF!"}},{"$f":"+F3","v":65600},{"$f":"FV(i_p_1,B3,-G3,0,1)","v":64892.161937787219},null,{"$f":"+FV(#REF!,B3,-G3,0,1)","v":{"$error":"#REF!"}},{"$f":"+G3","v":63632},null,null,"CUMUL",1.4999999999999999E-2]
[null,{"$f":"+B3+1","v":2},{"$f":"L3","v":{"$error":"#REF!"}},null,null,{"$f":"F3","v":65600},63632,{"$f":"+L4-M4","v":{"$error":"#REF!"}},{"$f":"+I3+F4","v":131200},131069.44193778691,null,{"$f":"+FV(#REF!,B4,-G4,0,1)","v":{"$error":"#REF!"}},{"$f":"+G4+M3","v":127264}]
[null,{"$f":"+B4+1","v":3},{"$f":"L4","v":{"$error":"#REF!"}},null,null,{"$f":"F4","v":65600},63632,{"$f":"+L5-M5","v":{"$error":"#REF!"}},{"$f":"+I4+F5","v":196800},198557.29035308561,null,{"$f":"+FV(#REF!,B5,-G5,0,1)","v":{"$error":"#REF!"}},190896]
[null,4,{"$error":"#REF!"},null,null,65600,63632,{"$f":"+L6-M6","v":{"$error":"#REF!"}},262400,267381.66155308543,null,{"$f":"+FV(#REF!,B6,-G6,0,1)","v":{"$error":"#REF!"}},254528]
[null,5,{"$error":"#REF!"},null,null,65600,63632,{"$error":"#REF!"},328000,337569.02390499605,null,{"$f":"+FV(#REF!,B7,-G7,0,1)","v":{"$error":"#REF!"}},318160]
[null,6,{"$error":"#REF!"},null,null,65600,63632,{"$error":"#REF!"},393600,409146.3699529955,null,{"$f":"+FV(#REF!,B8,-G8,0,1)","v":{"$error":"#REF!"}},381792]
[null,7,{"$error":"#REF!"},null,null,{"$f":"Prime_périodique","v":65600},63632,{"$error":"#REF!"},459200,482141.22679898259,null,{"$f":"+FV(#REF!,B9,-G9,0,1)","v":{"$error":"#REF!"}},445424]
[null,8,{"$error":"#REF!"},null,null,65600,63632,{"$error":"#REF!"},524800,556581.66668890242,null,{"$f":"+FV(#REF!,B10,-G10,0,1)","v":{"$error":"#REF!"}},509056]
[null,9,{"$error":"#REF!"},null,null,65600,63632,{"$error":"#REF!"},590400,632496.31780872936,null,{"$f":"+FV(#REF!,B11,-G11,0,1)","v":{"$error":"#REF!"}},572688]
[null,10,{"$error":"#REF!"},null,null,65600,63632,{"$error":"#REF!"},656000,709914.37529424578,null,{"$f":"+FV(#REF!,B12,-G12,0,1)","v":{"$error":"#REF!"}},636320]
[null,11,{"$error":"#REF!"},null,null,65600,63632,{"$error":"#REF!"},721600,788865.61245886551,null,{"$f":"+FV(#REF!,B13,-G13,0,1)","v":{"$error":"#REF!"}},699952]
[null,12,{"$error":"#REF!"},null,null,65600,63632,{"$error":"#REF!"},787200,869380.39224380255,null,{"$f":"+FV(#REF!,B14,-G14,0,1)","v":{"$error":"#REF!"}},763584]
[2,13,{"$error":"#REF!"},null,null,65600,63632,{"$error":"#REF!"},852800,951489.67889500724,null,{"$f":"+FV(#REF!,B15,-G15,0,1)","v":{"$error":"#REF!"}},827216]
[null,14,{"$error":"#REF!"},null,null,65600,63632,{"$error":"#REF!"},918400,1035225.0498713409,null,{"$f":"+FV(#REF!,B16,-G16,0,1)","v":{"$error":"#REF!"}},890848]
[null,15,{"$error":"#REF!"},null,null,65600,63632,{"$error":"#REF!"},984000,1120618.7079885942,null,{"$f":"+FV(#REF!,B17,-G17,0,1)","v":{"$error":"#REF!"}},954480]
[null,16,{"$error":"#REF!"},null,null,65600,63632,{"$error":"#REF!"},1049600,1207703.4938039822,null,{"$f":"+FV(#REF!,B18,-G18,0,1)","v":{"$error":"#REF!"}},1018112]
[null,17,{"$error":"#REF!"},null,null,65600,63632,{"$error":"#REF!"},1115200,1296512.8982459249,null,{"$f":"+FV(#REF!,B19,-G19,0,1)","v":{"$error":"#REF!"}},1081744]
[null,18,{"$error":"#REF!"},null,null,65600,63632,{"$error":"#REF!"},1180800,1387081.0754939285,null,{"$f":"+FV(#REF!,B20,-G20,0,1)","v":{"$error":"#REF!"}},1145376]
[null,19,{"$error":"#REF!"},null,null,65600,63632,{"$error":"#REF!"},1246400,1479442.8561135491,null,{"$f":"+FV(#REF!,B21,-G21,0,1)","v":{"$error":"#REF!"}},1209008]
[null,20,{"$error":"#REF!"},null,null,65600,63632,{"$error":"#REF!"},1312000,1573633.7604514726,null,{"$f":"+FV(#REF!,B22,-G22,0,1)","v":{"$error":"#REF!"}},1272640]
[null,21,{"$error":"#REF!"},null,null,65600,63632,{"$error":"#REF!"},1377600,1669690.012295878,null,{"$f":"+FV(#REF!,B23,-G23,0,1)","v":{"$error":"#REF!"}},1336272]
[null,22,{"$error":"#REF!"},null,null,65600,63632,{"$error":"#REF!"},1443200,1767648.5528073178,null,{"$f":"+FV(#REF!,B24,-G24,0,1)","v":{"$error":"#REF!"}},1399904]
[null,23,{"$error":"#REF!"},null,null,65600,63632,{"$error":"#REF!"},1508800,1867547.0547255001,null,{"$f":"+FV(#REF!,B25,-G25,0,1)","v":{"$error":"#REF!"}},1463536]
[null,24,{"$error":"#REF!"},null,null,65600,63632,{"$error":"#REF!"},1574400,1969423.9368573986,null,{"$f":"+FV(#REF!,B26,-G26,0,1)","v":{"$error":"#REF!"}},1527168]
[3,25,{"$error":"#REF!"},null,null,65600,63632,{"$error":"#REF!"},1640000,2073318.3788523076,null,{"$f":"+FV(#REF!,B27,-G27,0,1)","v":{"$error":"#REF!"}},1590800]
[null,26,{"$error":"#REF!"},null,null,65600,63632,{"$error":"#REF!"},1705600,2179270.3362694811,null,{"$f":"+FV(#REF!,B28,-G28,0,1)","v":{"$error":"#REF!"}},1654432]
[null,27,{"$error":"#REF!"},null,null,65600,63632,{"$error":"#REF!"},1771200,2287320.5559441862,null,{"$f":"+FV(#REF!,B29,-G29,0,1)","v":{"$error":"#REF!"}},1718064]
[null,28,{"$error":"#REF!"},null,null,65600,63632,{"$error":"#REF!"},1836800,2397510.5916580474,null,{"$f":"+FV(#REF!,B30,-G30,0,1)","v":{"$error":"#REF!"}},1781696]
[null,29,{"$error":"#REF!"},null,null,65600,63632,{"$error":"#REF!"},1902400,2509882.8201197409,null,{"$f":"+FV(#REF!,B31,-G31,0,1)","v":{"$error":"#REF!"}},1845328]
[null,30,{"$error":"#REF!"},null,null,65600,63632,{"$error":"#REF!"},1968000,2624480.4572621556,null,{"$f":"+FV(#REF!,B32,-G32,0,1)","v":{"$error":"#REF!"}},1908960]
[null,31,{"$error":"#REF!"},null,null,65600,63632,{"$error":"#REF!"},2033600,2741347.5748623176,null,{"$f":"+FV(#REF!,B33,-G33,0,1)","v":{"$error":"#REF!"}},1972592]
[null,32,{"$error":"#REF!"},null,null,65600,63632,{"$error":"#REF!"},2099200,2860529.1174904299,null,{"$f":"+FV(#REF!,B34,-G34,0,1)","v":{"$error":"#REF!"}},2036224]
[null,33,{"$error":"#REF!"},null,null,65600,{"$f":"+F35*PI_1","v":63632},{"$error":"#REF!"},2164800,{"$f":"FV(i_p_1,B35,-G35,0,1)","v":2982070.9197945977},null,{"$f":"+FV(#REF!,B35,-G35,0,1)","v":{"$error":"#REF!"}},2099856]
[null,34,{"$error":"#REF!"},null,null,65600,63632,{"$error":"#REF!"},2230400,3106019.7241278342,null,{"$f":"+FV(#REF!,B36,-G36,0,1)","v":{"$error":"#REF!"}},{"$f":"+G36+M35","v":2163488}]
[null,35,{"$error":"#REF!"},null,null,65600,63632,{"$error":"#REF!"},2296000,3232423.1985241687,null,{"$f":"+FV(#REF!,B37,-G37,0,1)","v":{"$error":"#REF!"}},2227120]
[null,36,{"$error":"#REF!"},null,null,65600,63632,{"$error":"#REF!"},{"$f":"+I37+F38","v":2361600},3361329.9550307347,null,{"$f":"+FV(#REF!,B38,-G38,0,1)","v":{"$error":"#REF!"}},2290752]
[4,37,{"$error":"#REF!"},null,null,65600,63632,{"$error":"#REF!"},{"$f":"+I38+F39","v":2427200},3492789.5684029232,null,{"$f":"+FV(#REF!,B39,-G39,0,1)","v":{"$error":"#REF!"}},2354384]
[null,38,{"$error":"#REF!"},null,null,65600,63632,{"$error":"#REF!"},2492800,3626852.595169751,null,{"$f":"+FV(#REF!,B40,-G40,0,1)","v":{"$error":"#REF!"}},2418016]
[null,39,{"$error":"#REF!"},null,null,65600,63632,{"$error":"#REF!"},2558400,3763570.5930768256,null,{"$f":"+FV(#REF!,B41,-G41,0,1)","v":{"$error":"#REF!"}},2481648]
[null,40,{"$error":"#REF!"},null,null,65600,63632,{"$error":"#REF!"},2624000,3902996.1409143284,null,{"$f":"+FV(#REF!,B42,-G42,0,1)","v":{"$error":"#REF!"}},2545280]
[null,41,{"$error":"#REF!"},null,null,65600,63632,{"$error":"#REF!"},2689600,4045182.8587376871,null,{"$f":"+FV(#REF!,B43,-G43,0,1)","v":{"$error":"#REF!"}},2608912]
[null,42,{"$error":"#REF!"},null,null,65600,63632,{"$error":"#REF!"},2755200,4190185.4284886899,null,{"$f":"+FV(#REF!,B44,-G44,0,1)","v":{"$error":"#REF!"}},2672544]
[null,43,{"$error":"#REF!"},null,null,65600,63632,{"$error":"#REF!"},2820800,4338059.615024982,null,{"$f":"+FV(#REF!,B45,-G45,0,1)","v":{"$error":"#REF!"}},2736176]
[null,44,{"$error":"#REF!"},null,null,65600,63632,{"$error":"#REF!"},2886400,4488862.2875660239,null,{"$f":"+FV(#REF!,B46,-G46,0,1)","v":{"$error":"#REF!"}},2799808]
[null,45,{"$error":"#REF!"},null,null,65600,63632,{"$error":"#REF!"},2952000,4642651.4415637683,null,{"$f":"+FV(#REF!,B47,-G47,0,1)","v":{"$error":"#REF!"}},2863440]
[null,46,{"$error":"#REF!"},null,null,65600,63632,{"$error":"#REF!"},3017600,4799486.2210064502,null,{"$f":"+FV(#REF!,B48,-G48,0,1)","v":{"$error":"#REF!"}},2927072]
[null,47,{"$error":"#REF!"},null,null,65600,63632,{"$error":"#REF!"},3083200,4959426.9411641061,null,{"$f":"+FV(#REF!,B49,-G49,0,1)","v":{"$error":"#REF!"}},2990704]
[null,48,{"$error":"#REF!"},null,null,65600,63632,{"$error":"#REF!"},3148800,5122535.1117844963,null,{"$f":"+FV(#REF!,B50,-G50,0,1)","v":{"$error":"#REF!"}},3054336]
[5,49,{"$error":"#REF!"},null,null,65600,63632,{"$error":"#REF!"},3214400,5288873.4607484555,null,{"$f":"+FV(#REF!,B51,-G51,0,1)","v":{"$error":"#REF!"}},3117968]
[null,50,{"$error":"#REF!"},null,null,65600,63632,{"$error":"#REF!"},3280000,5458505.9581936644,null,{"$f":"+FV(#REF!,B52,-G52,0,1)","v":{"$error":"#REF!"}},3181600]
[null,51,{"$error":"#REF!"},null,null,65600,63632,{"$error":"#REF!"},3345600,5631497.8411161825,null,{"$f":"+FV(#REF!,B53,-G53,0,1)","v":{"$error":"#REF!"}},3245232]
[null,52,{"$error":"#REF!"},null,null,65600,63632,{"$error":"#REF!"},3411200,5807915.6384591972,null,{"$f":"+FV(#REF!,B54,-G54,0,1)","v":{"$error":"#REF!"}},3308864]
[null,53,{"$error":"#REF!"},null,null,65600,63632,{"$error":"#REF!"},3476800,5987827.1966986172,null,{"$f":"+FV(#REF!,B55,-G55,0,1)","v":{"$error":"#REF!"}},3372496]
[null,54,{"$error":"#REF!"},null,null,65600,63632,{"$error":"#REF!"},3542400,6171301.7059353516,null,{"$f":"+FV(#REF!,B56,-G56,0,1)","v":{"$error":"#REF!"}},3436128]
[null,55,{"$error":"#REF!"},null,null,65600,63632,{"$error":"#REF!"},3608000,6358409.7265043473,null,{"$f":"+FV(#REF!,B57,-G57,0,1)","v":{"$error":"#REF!"}},3499760]
[null,56,{"$error":"#REF!"},null,null,65600,63632,{"$error":"#REF!"},3673600,6549223.2161105545,null,{"$f":"+FV(#REF!,B58,-G58,0,1)","v":{"$error":"#REF!"}},3563392]
[null,57,{"$error":"#REF!"},null,null,65600,63632,{"$error":"#REF!"},3739200,6743815.5575023107,null,{"$f":"+FV(#REF!,B59,-G59,0,1)","v":{"$error":"#REF!"}},3627024]
[null,58,{"$error":"#REF!"},null,null,65600,63632,{"$error":"#REF!"},{"$f":"+I59+F60","v":3804800},6942261.5866927644,null,{"$f":"+FV(#REF!,B60,-G60,0,1)","v":{"$error":"#REF!"}},3690656]
[null,59,{"$error":"#REF!"},null,null,65600,63632,{"$error":"#REF!"},{"$f":"+I60+F61","v":3870400},7144637.6217401894,null,{"$f":"+FV(#REF!,B61,-G61,0,1)","v":{"$error":"#REF!"}},3754288]
[null,60,{"$error":"#REF!"},null,null,65600,63632,{"$error":"#REF!"},3936000,7351021.4920982616,null,{"$f":"+FV(#REF!,B62,-G62,0,1)","v":{"$error":"#REF!"}},3817920]
[6,61,{"$error":"#REF!"},null,null,65600,63632,{"$error":"#REF!"},4001600,null,null,{"$f":"+FV(#REF!,B63,-G63,0,1)","v":{"$error":"#REF!"}},3881552]
[null,62,{"$error":"#REF!"},null,null,65600,63632,{"$error":"#REF!"},4067200,null,null,{"$f":"+FV(#REF!,B64,-G64,0,1)","v":{"$error":"#REF!"}},3945184]
[null,63,{"$error":"#REF!"},null,null,65600,63632,{"$error":"#REF!"},4132800,null,null,{"$f":"+FV(#REF!,B65,-G65,0,1)","v":{"$error":"#REF!"}},4008816]
[null,64,{"$error":"#REF!"},null,null,65600,63632,{"$error":"#REF!"},4198400,null,null,{"$f":"+FV(#REF!,B66,-G66,0,1)","v":{"$error":"#REF!"}},4072448]
[null,65,{"$error":"#REF!"},null,null,65600,{"$f":"+F67*PI_1","v":63632},{"$error":"#REF!"},4264000,null,null,{"$f":"+FV(#REF!,B67,-G67,0,1)","v":{"$error":"#REF!"}},4136080]
[null,66,{"$error":"#REF!"},null,null,65600,63632,{"$error":"#REF!"},4329600,null,null,{"$f":"+FV(#REF!,B68,-G68,0,1)","v":{"$error":"#REF!"}},4199712]
[null,{"$f":"+B68+1","v":67},{"$f":"L68","v":{"$error":"#REF!"}},null,null,65600,63632,{"$error":"#REF!"},4395200,null,null,{"$f":"+FV(#REF!,B69,-G69,0,1)","v":{"$error":"#REF!"}},{"$f":"+G69+M68","v":4263344}]
[null,68,{"$error":"#REF!"},null,null,65600,63632,{"$f":"+L70-M70","v":{"$error":"#REF!"}},4460800,null,null,{"$f":"+FV(#REF!,B70,-G70,0,1)","v":{"$error":"#REF!"}},4326976]
[null,69,{"$error":"#REF!"},null,null,65600,63632,{"$error":"#REF!"},4526400,null,null,{"$f":"+FV(#REF!,B71,-G71,0,1)","v":{"$error":"#REF!"}},4390608]
[null,70,{"$error":"#REF!"},null,null,65600,63632,{"$error":"#REF!"},4592000,null,null,{"$f":"+FV(#REF!,B72,-G72,0,1)","v":{"$error":"#REF!"}},4454240]
[null,71,{"$error":"#REF!"},null,null,{"$f":"Prime_périodique","v":65600},63632,{"$error":"#REF!"},4657600,null,null,{"$f":"+FV(#REF!,B73,-G73,0,1)","v":{"$error":"#REF!"}},4517872]
[null,72,{"$error":"#REF!"},null,null,65600,63632,{"$error":"#REF!"},4723200,null,null,{"$f":"+FV(#REF!,B74,-G74,0,1)","v":{"$error":"#REF!"}},4581504]
[7,73,{"$error":"#REF!"},null,null,65600,63632,{"$error":"#REF!"},4788800,null,null,{"$f":"+FV(#REF!,B75,-G75,0,1)","v":{"$error":"#REF!"}},4645136]
[null,74,{"$error":"#REF!"},null,null,65600,63632,{"$error":"#REF!"},4854400,null,null,{"$f":"+FV(#REF!,B76,-G76,0,1)","v":{"$error":"#REF!"}},4708768]
[null,75,{"$error":"#REF!"},null,null,65600,63632,{"$error":"#REF!"},4920000,null,null,{"$f":"+FV(#REF!,B77,-G77,0,1)","v":{"$error":"#REF!"}},4772400]
[null,76,{"$error":"#REF!"},null,null,65600,63632,{"$error":"#REF!"},4985600,null,null,{"$f":"+FV(#REF!,B78,-G78,0,1)","v":{"$error":"#REF!"}},4836032]
[null,77,{"$error":"#REF!"},null,null,65600,63632,{"$error":"#REF!"},5051200,null,null,{"$f":"+FV(#REF!,B79,-G79,0,1)","v":{"$error":"#REF!"}},4899664]
[null,78,{"$error":"#REF!"},null,null,65600,63632,{"$error":"#REF!"},5116800,null,null,{"$f":"+FV(#REF!,B80,-G80,0,1)","v":{"$error":"#REF!"}},4963296]
[null,79,{"$error":"#REF!"},null,null,65600,63632,{"$error":"#REF!"},5182400,null,null,{"$f":"+FV(#REF!,B81,-G81,0,1)","v":{"$error":"#REF!"}},5026928]
[null,80,{"$error":"#REF!"},null,null,65600,63632,{"$error":"#REF!"},5248000,null,null,{"$f":"+FV(#REF!,B82,-G82,0,1)","v":{"$error":"#REF!"}},5090560]
[null,81,{"$error":"#REF!"},null,null,65600,63632,{"$error":"#REF!"},5313600,null,null,{"$f":"+FV(#REF!,B83,-G83,0,1)","v":{"$error":"#REF!"}},5154192]
[null,82,{"$error":"#REF!"},null,null,65600,63632,{"$error":"#REF!"},5379200,null,null,{"$f":"+FV(#REF!,B84,-G84,0,1)","v":{"$error":"#REF!"}},5217824]
[null,83,{"$error":"#REF!"},null,null,65600,63632,{"$error":"#REF!"},5444800,null,null,{"$f":"+FV(#REF!,B85,-G85,0,1)","v":{"$error":"#REF!"}},5281456]
[null,84,{"$error":"#REF!"},null,null,65600,63632,{"$error":"#REF!"},5510400,null,null,{"$f":"+FV(#REF!,B86,-G86,0,1)","v":{"$error":"#REF!"}},5345088]
[8,85,{"$error":"#REF!"},null,null,65600,63632,{"$error":"#REF!"},5576000,null,null,{"$f":"+FV(#REF!,B87,-G87,0,1)","v":{"$error":"#REF!"}},5408720]
[null,86,{"$error":"#REF!"},null,null,65600,63632,{"$error":"#REF!"},5641600,null,null,{"$f":"+FV(#REF!,B88,-G88,0,1)","v":{"$error":"#REF!"}},5472352]
[null,87,{"$error":"#REF!"},null,null,65600,63632,{"$error":"#REF!"},5707200,null,null,{"$f":"+FV(#REF!,B89,-G89,0,1)","v":{"$error":"#REF!"}},5535984]
[null,88,{"$error":"#REF!"},null,null,65600,63632,{"$error":"#REF!"},5772800,null,null,{"$f":"+FV(#REF!,B90,-G90,0,1)","v":{"$error":"#REF!"}},5599616]
[null,89,{"$error":"#REF!"},null,null,65600,63632,{"$error":"#REF!"},5838400,null,null,{"$f":"+FV(#REF!,B91,-G91,0,1)","v":{"$error":"#REF!"}},5663248]
[null,90,{"$error":"#REF!"},null,null,65600,63632,{"$error":"#REF!"},5904000,null,null,{"$f":"+FV(#REF!,B92,-G92,0,1)","v":{"$error":"#REF!"}},5726880]
[null,91,{"$error":"#REF!"},null,null,65600,63632,{"$error":"#REF!"},5969600,null,null,{"$f":"+FV(#REF!,B93,-G93,0,1)","v":{"$error":"#REF!"}},5790512]
[null,92,{"$error":"#REF!"},null,null,65600,63632,{"$error":"#REF!"},6035200,null,null,{"$f":"+FV(#REF!,B94,-G94,0,1)","v":{"$error":"#REF!"}},5854144]
[null,93,{"$error":"#REF!"},null,null,65600,63632,{"$error":"#REF!"},6100800,null,null,{"$f":"+FV(#REF!,B95,-G95,0,1)","v":{"$error":"#REF!"}},5917776]
[null,94,{"$error":"#REF!"},null,null,65600,63632,{"$error":"#REF!"},6166400,null,null,{"$f":"+FV(#REF!,B96,-G96,0,1)","v":{"$error":"#REF!"}},5981408]
[null,95,{"$error":"#REF!"},null,null,65600,63632,{"$error":"#REF!"},6232000,null,null,{"$f":"+FV(#REF!,B97,-G97,0,1)","v":{"$error":"#REF!"}},6045040]
[null,96,{"$error":"#REF!"},null,null,65600,63632,{"$error":"#REF!"},6297600,null,null,{"$f":"+FV(#REF!,B98,-G98,0,1)","v":{"$error":"#REF!"}},6108672]
[9,97,{"$error":"#REF!"},null,null,65600,{"$f":"+F99*PI_1","v":63632},{"$error":"#REF!"},6363200,null,null,{"$f":"+FV(#REF!,B99,-G99,0,1)","v":{"$error":"#REF!"}},6172304]
[null,98,{"$error":"#REF!"},null,null,65600,63632,{"$error":"#REF!"},6428800,null,null,{"$f":"+FV(#REF!,B100,-G100,0,1)","v":{"$error":"#REF!"}},6235936]
[null,99,{"$error":"#REF!"},null,null,65600,63632,{"$error":"#REF!"},6494400,null,null,{"$f":"+FV(#REF!,B101,-G101,0,1)","v":{"$error":"#REF!"}},6299568]
[null,100,{"$error":"#REF!"},null,null,65600,63632,{"$error":"#REF!"},6560000,null,null,{"$f":"+FV(#REF!,B102,-G102,0,1)","v":{"$error":"#REF!"}},6363200]
[null,101,{"$error":"#REF!"},null,null,65600,63632,{"$error":"#REF!"},6625600,null,null,{"$f":"+FV(#REF!,B103,-G103,0,1)","v":{"$error":"#REF!"}},6426832]
[null,102,{"$error":"#REF!"},null,null,65600,63632,{"$error":"#REF!"},6691200,null,null,{"$f":"+FV(#REF!,B104,-G104,0,1)","v":{"$error":"#REF!"}},6490464]
[null,103,{"$error":"#REF!"},null,null,65600,63632,{"$error":"#REF!"},6756800,null,null,{"$f":"+FV(#REF!,B105,-G105,0,1)","v":{"$error":"#REF!"}},6554096]
[null,104,{"$error":"#REF!"},null,null,65600,63632,{"$error":"#REF!"},6822400,null,null,{"$f":"+FV(#REF!,B106,-G106,0,1)","v":{"$error":"#REF!"}},6617728]
[null,105,{"$error":"#REF!"},null,null,65600,63632,{"$error":"#REF!"},6888000,null,null,{"$f":"+FV(#REF!,B107,-G107,0,1)","v":{"$error":"#REF!"}},6681360]
[null,106,{"$error":"#REF!"},null,null,65600,63632,{"$error":"#REF!"},6953600,null,null,{"$f":"+FV(#REF!,B108,-G108,0,1)","v":{"$error":"#REF!"}},6744992]
[null,107,{"$error":"#REF!"},null,null,65600,63632,{"$error":"#REF!"},7019200,null,null,{"$f":"+FV(#REF!,B109,-G109,0,1)","v":{"$error":"#REF!"}},6808624]
[null,108,{"$error":"#REF!"},null,null,65600,63632,{"$error":"#REF!"},7084800,null,null,{"$f":"+FV(#REF!,B110,-G110,0,1)","v":{"$error":"#REF!"}},6872256]
[10,109,{"$error":"#REF!"},null,null,65600,{"$f":"+F111*PI_2","v":63632},{"$error":"#REF!"},7150400,null,null,{"$f":"+FV(#REF!,B111,-G111,0,1)","v":{"$error":"#REF!"}},6935888]
[null,110,{"$error":"#REF!"},null,null,65600,63632,{"$error":"#REF!"},7216000,null,null,{"$f":"+FV(#REF!,B112,-G112,0,1)","v":{"$error":"#REF!"}},6999520]
[null,111,{"$error":"#REF!"},null,null,65600,63632,{"$error":"#REF!"},7281600,null,null,{"$f":"+FV(#REF!,B113,-G113,0,1)","v":{"$error":"#REF!"}},7063152]
[null,112,{"$error":"#REF!"},null,null,65600,63632,{"$error":"#REF!"},7347200,null,null,{"$f":"+FV(#REF!,B114,-G114,0,1)","v":{"$error":"#REF!"}},7126784]
[null,113,{"$error":"#REF!"},null,null,65600,63632,{"$error":"#REF!"},7412800,null,null,{"$f":"+FV(#REF!,B115,-G115,0,1)","v":{"$error":"#REF!"}},7190416]
[null,114,{"$error":"#REF!"},null,null,65600,63632,{"$error":"#REF!"},7478400,null,null,{"$f":"+FV(#REF!,B116,-G116,0,1)","v":{"$error":"#REF!"}},7254048]
[null,115,{"$error":"#REF!"},null,null,65600,63632,{"$error":"#REF!"},7544000,null,null,{"$f":"+FV(#REF!,B117,-G117,0,1)","v":{"$error":"#REF!"}},7317680]
[null,116,{"$error":"#REF!"},null,null,65600,63632,{"$error":"#REF!"},7609600,null,null,{"$f":"+FV(#REF!,B118,-G118,0,1)","v":{"$error":"#REF!"}},7381312]
[null,117,{"$error":"#REF!"},null,null,65600,63632,{"$error":"#REF!"},7675200,null,null,{"$f":"+FV(#REF!,B119,-G119,0,1)","v":{"$error":"#REF!"}},7444944]
[null,118,{"$error":"#REF!"},null,null,65600,63632,{"$error":"#REF!"},7740800,null,null,{"$f":"+FV(#REF!,B120,-G120,0,1)","v":{"$error":"#REF!"}},7508576]
[null,119,{"$error":"#REF!"},null,null,65600,63632,{"$error":"#REF!"},7806400,null,null,{"$f":"+FV(#REF!,B121,-G121,0,1)","v":{"$error":"#REF!"}},7572208]
[null,120,{"$error":"#REF!"},null,null,65600,63632,{"$error":"#REF!"},7872000,null,null,{"$f":"+FV(#REF!,B122,-G122,0,1)","v":{"$error":"#REF!"}},7635840]
[11,121,{"$error":"#REF!"},null,null,65600,63632,{"$error":"#REF!"},7937600,null,null,{"$f":"+FV(#REF!,B123,-G123,0,1)","v":{"$error":"#REF!"}},7699472]
[null,122,{"$error":"#REF!"},null,null,65600,63632,{"$error":"#REF!"},8003200,null,null,{"$f":"+FV(#REF!,B124,-G124,0,1)","v":{"$error":"#REF!"}},7763104]
[null,123,{"$error":"#REF!"},null,null,65600,63632,{"$error":"#REF!"},{"$f":"+I124+F125","v":8068800},null,null,{"$f":"+FV(#REF!,B125,-G125,0,1)","v":{"$error":"#REF!"}},7826736]
[null,124,{"$error":"#REF!"},null,null,65600,63632,{"$error":"#REF!"},8134400,null,null,{"$f":"+FV(#REF!,B126,-G126,0,1)","v":{"$error":"#REF!"}},7890368]
[null,125,{"$error":"#REF!"},null,null,65600,63632,{"$error":"#REF!"},8200000,null,null,{"$f":"+FV(#REF!,B127,-G127,0,1)","v":{"$error":"#REF!"}},7954000]
[null,126,{"$error":"#REF!"},null,null,65600,63632,{"$error":"#REF!"},8265600,null,null,{"$f":"+FV(#REF!,B128,-G128,0,1)","v":{"$error":"#REF!"}},8017632]
[null,127,{"$error":"#REF!"},null,null,65600,63632,{"$error":"#REF!"},8331200,null,null,{"$f":"+FV(#REF!,B129,-G129,0,1)","v":{"$error":"#REF!"}},8081264]
[null,128,{"$error":"#REF!"},null,null,65600,63632,{"$error":"#REF!"},8396800,null,null,{"$f":"+FV(#REF!,B130,-G130,0,1)","v":{"$error":"#REF!"}},8144896]
[null,129,{"$error":"#REF!"},null,null,65600,63632,{"$error":"#REF!"},8462400,null,null,{"$f":"+FV(#REF!,B131,-G131,0,1)","v":{"$error":"#REF!"}},8208528]
[null,130,{"$error":"#REF!"},null,null,65600,63632,{"$error":"#REF!"},8528000,null,null,{"$f":"+FV(#REF!,B132,-G132,0,1)","v":{"$error":"#REF!"}},8272160]
[null,{"$f":"+B132+1","v":131},{"$f":"L132","v":{"$error":"#REF!"}},null,null,65600,63632,{"$error":"#REF!"},8593600,null,null,{"$f":"+FV(#REF!,B133,-G133,0,1)","v":{"$error":"#REF!"}},{"$f":"+G133+M132","v":8335792}]
[null,132,{"$error":"#REF!"},null,null,65600,63632,{"$f":"+L134-M134","v":{"$error":"#REF!"}},8659200,null,null,{"$f":"+FV(#REF!,B134,-G134,0,1)","v":{"$error":"#REF!"}},8399424]
[12,133,{"$error":"#REF!"},null,null,65600,63632,{"$error":"#REF!"},8724800,null,null,{"$f":"+FV(#REF!,B135,-G135,0,1)","v":{"$error":"#REF!"}},8463056]
[null,134,{"$error":"#REF!"},null,null,65600,63632,{"$error":"#REF!"},8790400,null,null,{"$f":"+FV(#REF!,B136,-G136,0,1)","v":{"$error":"#REF!"}},8526688]
[null,135,{"$error":"#REF!"},null,null,{"$f":"Prime_périodique","v":65600},63632,{"$error":"#REF!"},8856000,null,null,{"$f":"+FV(#REF!,B137,-G137,0,1)","v":{"$error":"#REF!"}},8590320]
[null,136,{"$error":"#REF!"},null,null,65600,63632,{"$error":"#REF!"},8921600,null,null,{"$f":"+FV(#REF!,B138,-G138,0,1)","v":{"$error":"#REF!"}},8653952]
[null,137,{"$error":"#REF!"},null,null,65600,63632,{"$error":"#REF!"},8987200,null,null,{"$f":"+FV(#REF!,B139,-G139,0,1)","v":{"$error":"#REF!"}},8717584]
[null,138,{"$error":"#REF!"},null,null,65600,63632,{"$error":"#REF!"},9052800,null,null,{"$f":"+FV(#REF!,B140,-G140,0,1)","v":{"$error":"#REF!"}},8781216]
[null,139,{"$error":"#REF!"},null,null,65600,63632,{"$error":"#REF!"},9118400,null,null,{"$f":"+FV(#REF!,B141,-G141,0,1)","v":{"$error":"#REF!"}},8844848]
[null,140,{"$error":"#REF!"},null,null,65600,63632,{"$error":"#REF!"},9184000,null,null,{"$f":"+FV(#REF!,B142,-G142,0,1)","v":{"$error":"#REF!"}},8908480]
[null,141,{"$error":"#REF!"},null,null,65600,{"$f":"+F143*PI_2","v":63632},{"$error":"#REF!"},9249600,null,null,{"$f":"+FV(#REF!,B143,-G143,0,1)","v":{"$error":"#REF!"}},8972112]
[null,142,{"$error":"#REF!"},null,null,65600,63632,{"$error":"#REF!"},9315200,null,null,{"$f":"+FV(#REF!,B144,-G144,0,1)","v":{"$error":"#REF!"}},9035744]
[null,143,{"$error":"#REF!"},null,null,65600,63632,{"$error":"#REF!"},9380800,null,null,{"$f":"+FV(#REF!,B145,-G145,0,1)","v":{"$error":"#REF!"}},9099376]
[null,144,{"$error":"#REF!"},null,null,65600,63632,{"$error":"#REF!"},9446400,null,null,{"$f":"+FV(#REF!,B146,-G146,0,1)","v":{"$error":"#REF!"}},9163008]
[13,145,{"$error":"#REF!"},null,null,65600,63632,{"$error":"#REF!"},9512000,null,null,{"$f":"+FV(#REF!,B147,-G147,0,1)","v":{"$error":"#REF!"}},9226640]
[null,146,{"$error":"#REF!"},null,null,65600,63632,{"$error":"#REF!"},9577600,null,null,{"$f":"+FV(#REF!,B148,-G148,0,1)","v":{"$error":"#REF!"}},9290272]
[null,147,{"$error":"#REF!"},null,null,65600,63632,{"$error":"#REF!"},9643200,null,null,{"$f":"+FV(#REF!,B149,-G149,0,1)","v":{"$error":"#REF!"}},9353904]
[null,148,{"$error":"#REF!"},null,null,65600,63632,{"$error":"#REF!"},9708800,null,null,{"$f":"+FV(#REF!,B150,-G150,0,1)","v":{"$error":"#REF!"}},9417536]
[null,149,{"$error":"#REF!"},null,null,65600,63632,{"$error":"#REF!"},9774400,null,null,{"$f":"+FV(#REF!,B151,-G151,0,1)","v":{"$error":"#REF!"}},9481168]
[null,150,{"$error":"#REF!"},null,null,65600,63632,{"$error":"#REF!"},9840000,null,null,{"$f":"+FV(#REF!,B152,-G152,0,1)","v":{"$error":"#REF!"}},9544800]
[null,151,{"$error":"#REF!"},null,null,65600,63632,{"$error":"#REF!"},9905600,null,null,{"$f":"+FV(#REF!,B153,-G153,0,1)","v":{"$error":"#REF!"}},9608432]
[null,152,{"$error":"#REF!"},null,null,65600,63632,{"$error":"#REF!"},9971200,null,null,{"$f":"+FV(#REF!,B154,-G154,0,1)","v":{"$error":"#REF!"}},9672064]
[null,153,{"$error":"#REF!"},null,null,65600,63632,{"$error":"#REF!"},10036800,null,null,{"$f":"+FV(#REF!,B155,-G155,0,1)","v":{"$error":"#REF!"}},9735696]
[null,154,{"$error":"#REF!"},null,null,65600,63632,{"$error":"#REF!"},10102400,null,null,{"$f":"+FV(#REF!,B156,-G156,0,1)","v":{"$error":"#REF!"}},9799328]
[null,155,{"$error":"#REF!"},null,null,65600,63632,{"$error":"#REF!"},10168000,null,null,{"$f":"+FV(#REF!,B157,-G157,0,1)","v":{"$error":"#REF!"}},9862960]
[null,156,{"$error":"#REF!"},null,null,65600,63632,{"$error":"#REF!"},10233600,null,null,{"$f":"+FV(#REF!,B158,-G158,0,1)","v":{"$error":"#REF!"}},9926592]
[14,157,{"$error":"#REF!"},null,null,65600,63632,{"$error":"#REF!"},10299200,null,null,{"$f":"+FV(#REF!,B159,-G159,0,1)","v":{"$error":"#REF!"}},9990224]
[null,158,{"$error":"#REF!"},null,null,65600,63632,{"$error":"#REF!"},10364800,null,null,{"$f":"+FV(#REF!,B160,-G160,0,1)","v":{"$error":"#REF!"}},10053856]
[null,159,{"$error":"#REF!"},null,null,65600,63632,{"$error":"#REF!"},10430400,null,null,{"$f":"+FV(#REF!,B161,-G161,0,1)","v":{"$error":"#REF!"}},10117488]
[null,160,{"$error":"#REF!"},null,null,65600,63632,{"$error":"#REF!"},10496000,null,null,{"$f":"+FV(#REF!,B162,-G162,0,1)","v":{"$error":"#REF!"}},10181120]
[null,161,{"$error":"#REF!"},null,null,65600,63632,{"$error":"#REF!"},10561600,null,null,{"$f":"+FV(#REF!,B163,-G163,0,1)","v":{"$error":"#REF!"}},10244752]
[null,162,{"$error":"#REF!"},null,null,65600,63632,{"$error":"#REF!"},10627200,null,null,{"$f":"+FV(#REF!,B164,-G164,0,1)","v":{"$error":"#REF!"}},10308384]
[null,163,{"$error":"#REF!"},null,null,65600,63632,{"$error":"#REF!"},10692800,null,null,{"$f":"+FV(#REF!,B165,-G165,0,1)","v":{"$error":"#REF!"}},10372016]
[null,164,{"$error":"#REF!"},null,null,65600,63632,{"$error":"#REF!"},10758400,null,null,{"$f":"+FV(#REF!,B166,-G166,0,1)","v":{"$error":"#REF!"}},10435648]
[null,165,{"$error":"#REF!"},null,null,65600,63632,{"$error":"#REF!"},10824000,null,null,{"$f":"+FV(#REF!,B167,-G167,0,1)","v":{"$error":"#REF!"}},10499280]
[null,166,{"$error":"#REF!"},null,null,65600,63632,{"$error":"#REF!"},10889600,null,null,{"$f":"+FV(#REF!,B168,-G168,0,1)","v":{"$error":"#REF!"}},10562912]
[null,167,{"$error":"#REF!"},null,null,65600,63632,{"$error":"#REF!"},10955200,null,null,{"$f":"+FV(#REF!,B169,-G169,0,1)","v":{"$error":"#REF!"}},10626544]
[null,168,{"$error":"#REF!"},null,null,65600,63632,{"$error":"#REF!"},11020800,null,null,{"$f":"+FV(#REF!,B170,-G170,0,1)","v":{"$error":"#REF!"}},10690176]
[15,169,{"$error":"#REF!"},null,null,65600,{"$f":"+F171*PI_3","v":63632},{"$error":"#REF!"},11086400,null,null,{"$f":"+FV(#REF!,B171,-G171,0,1)","v":{"$error":"#REF!"}},10753808]
[null,170,{"$error":"#REF!"},null,null,65600,63632,{"$error":"#REF!"},11152000,null,null,{"$f":"+FV(#REF!,B172,-G172,0,1)","v":{"$error":"#REF!"}},10817440]
[null,171,{"$error":"#REF!"},null,null,65600,63632,{"$error":"#REF!"},11217600,null,null,{"$f":"+FV(#REF!,B173,-G173,0,1)","v":{"$error":"#REF!"}},10881072]
[null,172,{"$error":"#REF!"},null,null,65600,63632,{"$error":"#REF!"},11283200,null,null,{"$f":"+FV(#REF!,B174,-G174,0,1)","v":{"$error":"#REF!"}},10944704]
[null,173,{"$error":"#REF!"},null,null,65600,63632,{"$error":"#REF!"},11348800,null,null,{"$f":"+FV(#REF!,B175,-G175,0,1)","v":{"$error":"#REF!"}},11008336]
[null,174,{"$error":"#REF!"},null,null,65600,63632,{"$error":"#REF!"},11414400,null,null,{"$f":"+FV(#REF!,B176,-G176,0,1)","v":{"$error":"#REF!"}},11071968]
[null,175,{"$error":"#REF!"},null,null,65600,63632,{"$error":"#REF!"},11480000,null,null,{"$f":"+FV(#REF!,B177,-G177,0,1)","v":{"$error":"#REF!"}},11135600]
[null,176,{"$error":"#REF!"},null,null,65600,63632,{"$error":"#REF!"},11545600,null,null,{"$f":"+FV(#REF!,B178,-G178,0,1)","v":{"$error":"#REF!"}},11199232]
[null,177,{"$error":"#REF!"},null,null,65600,63632,{"$error":"#REF!"},11611200,null,null,{"$f":"+FV(#REF!,B179,-G179,0,1)","v":{"$error":"#REF!"}},11262864]
[null,178,{"$error":"#REF!"},null,null,65600,63632,{"$error":"#REF!"},11676800,null,null,{"$f":"+FV(#REF!,B180,-G180,0,1)","v":{"$error":"#REF!"}},11326496]
[null,179,{"$error":"#REF!"},null,null,65600,63632,{"$error":"#REF!"},11742400,null,null,{"$f":"+FV(#REF!,B181,-G181,0,1)","v":{"$error":"#REF!"}},11390128]
[null,180,{"$error":"#REF!"},null,null,65600,63632,{"$error":"#REF!"},11808000,null,null,{"$f":"+FV(#REF!,B182,-G182,0,1)","v":{"$error":"#REF!"}},11453760]
[16,181,{"$error":"#REF!"},null,null,65600,63632,{"$error":"#REF!"},11873600,null,null,{"$f":"+FV(#REF!,B183,-G183,0,1)","v":{"$error":"#REF!"}},11517392]
[null,182,{"$error":"#REF!"},null,null,65600,63632,{"$error":"#REF!"},11939200,null,null,{"$f":"+FV(#REF!,B184,-G184,0,1)","v":{"$error":"#REF!"}},11581024]
[null,183,{"$error":"#REF!"},null,null,65600,63632,{"$error":"#REF!"},12004800,null,null,{"$f":"+FV(#REF!,B185,-G185,0,1)","v":{"$error":"#REF!"}},11644656]
[null,184,{"$error":"#REF!"},null,null,65600,63632,{"$error":"#REF!"},12070400,null,null,{"$f":"+FV(#REF!,B186,-G186,0,1)","v":{"$error":"#REF!"}},11708288]
[null,185,{"$error":"#REF!"},null,null,65600,63632,{"$error":"#REF!"},12136000,null,null,{"$f":"+FV(#REF!,B187,-G187,0,1)","v":{"$error":"#REF!"}},11771920]
[null,186,{"$error":"#REF!"},null,null,65600,63632,{"$error":"#REF!"},12201600,null,null,{"$f":"+FV(#REF!,B188,-G188,0,1)","v":{"$error":"#REF!"}},11835552]
[null,187,{"$error":"#REF!"},null,null,65600,63632,{"$error":"#REF!"},{"$f":"+I188+F189","v":12267200},null,null,{"$f":"+FV(#REF!,B189,-G189,0,1)","v":{"$error":"#REF!"}},11899184]
[null,188,{"$error":"#REF!"},null,null,65600,63632,{"$error":"#REF!"},12332800,null,null,{"$f":"+FV(#REF!,B190,-G190,0,1)","v":{"$error":"#REF!"}},11962816]
[null,189,{"$error":"#REF!"},null,null,65600,63632,{"$error":"#REF!"},12398400,null,null,{"$f":"+FV(#REF!,B191,-G191,0,1)","v":{"$error":"#REF!"}},12026448]
[null,190,{"$error":"#REF!"},null,null,65600,63632,{"$error":"#REF!"},12464000,null,null,{"$f":"+FV(#REF!,B192,-G192,0,1)","v":{"$error":"#REF!"}},12090080]
[null,191,{"$error":"#REF!"},null,null,65600,63632,{"$error":"#REF!"},12529600,null,null,{"$f":"+FV(#REF!,B193,-G193,0,1)","v":{"$error":"#REF!"}},12153712]
[null,192,{"$error":"#REF!"},null,null,65600,63632,{"$error":"#REF!"},12595200,null,null,{"$f":"+FV(#REF!,B194,-G194,0,1)","v":{"$error":"#REF!"}},12217344]
[17,193,{"$error":"#REF!"},null,null,65600,63632,{"$error":"#REF!"},12660800,null,null,{"$f":"+FV(#REF!,B195,-G195,0,1)","v":{"$error":"#REF!"}},12280976]
[null,194,{"$error":"#REF!"},null,null,65600,63632,{"$error":"#REF!"},12726400,null,null,{"$f":"+FV(#REF!,B196,-G196,0,1)","v":{"$error":"#REF!"}},12344608]
[null,{"$f":"+B196+1","v":195},{"$f":"L196","v":{"$error":"#REF!"}},null,null,65600,63632,{"$error":"#REF!"},12792000,null,null,{"$f":"+FV(#REF!,B197,-G197,0,1)","v":{"$error":"#REF!"}},{"$f":"+G197+M196","v":12408240}]
[null,196,{"$error":"#REF!"},null,null,65600,63632,{"$f":"+L198-M198","v":{"$error":"#REF!"}},12857600,null,null,{"$f":"+FV(#REF!,B198,-G198,0,1)","v":{"$error":"#REF!"}},12471872]
[null,197,{"$error":"#REF!"},null,null,65600,63632,{"$error":"#REF!"},12923200,null,null,{"$f":"+FV(#REF!,B199,-G199,0,1)","v":{"$error":"#REF!"}},12535504]
[null,198,{"$error":"#REF!"},null,null,65600,63632,{"$error":"#REF!"},12988800,null,null,{"$f":"+FV(#REF!,B200,-G200,0,1)","v":{"$error":"#REF!"}},12599136]
[null,199,{"$error":"#REF!"},null,null,{"$f":"Prime_périodique","v":65600},63632,{"$error":"#REF!"},13054400,null,null,{"$f":"+FV(#REF!,B201,-G201,0,1)","v":{"$error":"#REF!"}},12662768]
[null,200,{"$error":"#REF!"},null,null,65600,63632,{"$error":"#REF!"},13120000,null,null,{"$f":"+FV(#REF!,B202,-G202,0,1)","v":{"$error":"#REF!"}},12726400]
[null,201,{"$error":"#REF!"},null,null,65600,{"$f":"+F203*PI_3","v":63632},{"$error":"#REF!"},13185600,null,null,{"$f":"+FV(#REF!,B203,-G203,0,1)","v":{"$error":"#REF!"}},12790032]
[null,202,{"$error":"#REF!"},null,null,65600,63632,{"$error":"#REF!"},13251200,null,null,{"$f":"+FV(#REF!,B204,-G204,0,1)","v":{"$error":"#REF!"}},12853664]
[null,203,{"$error":"#REF!"},null,null,65600,63632,{"$error":"#REF!"},13316800,null,null,{"$f":"+FV(#REF!,B205,-G205,0,1)","v":{"$error":"#REF!"}},12917296]
[null,204,{"$error":"#REF!"},null,null,65600,63632,{"$error":"#REF!"},13382400,null,null,{"$f":"+FV(#REF!,B206,-G206,0,1)","v":{"$error":"#REF!"}},12980928]
[18,205,{"$error":"#REF!"},null,null,65600,63632,{"$error":"#REF!"},13448000,null,null,{"$f":"+FV(#REF!,B207,-G207,0,1)","v":{"$error":"#REF!"}},13044560]
[null,206,{"$error":"#REF!"},null,null,65600,63632,{"$error":"#REF!"},13513600,null,null,{"$f":"+FV(#REF!,B208,-G208,0,1)","v":{"$error":"#REF!"}},13108192]
[null,207,{"$error":"#REF!"},null,null,65600,63632,{"$error":"#REF!"},13579200,null,null,{"$f":"+FV(#REF!,B209,-G209,0,1)","v":{"$error":"#REF!"}},13171824]
[null,208,{"$error":"#REF!"},null,null,65600,63632,{"$error":"#REF!"},13644800,null,null,{"$f":"+FV(#REF!,B210,-G210,0,1)","v":{"$error":"#REF!"}},13235456]
[null,209,{"$error":"#REF!"},null,null,65600,63632,{"$error":"#REF!"},13710400,null,null,{"$f":"+FV(#REF!,B211,-G211,0,1)","v":{"$error":"#REF!"}},13299088]
[null,210,{"$error":"#REF!"},null,null,65600,63632,{"$error":"#REF!"},13776000,null,null,{"$f":"+FV(#REF!,B212,-G212,0,1)","v":{"$error":"#REF!"}},13362720]
[null,211,{"$error":"#REF!"},null,null,65600,63632,{"$error":"#REF!"},13841600,null,null,{"$f":"+FV(#REF!,B213,-G213,0,1)","v":{"$error":"#REF!"}},13426352]
[null,212,{"$error":"#REF!"},null,null,65600,63632,{"$error":"#REF!"},13907200,null,null,{"$f":"+FV(#REF!,B214,-G214,0,1)","v":{"$error":"#REF!"}},13489984]
[null,213,{"$error":"#REF!"},null,null,65600,63632,{"$error":"#REF!"},13972800,null,null,{"$f":"+FV(#REF!,B215,-G215,0,1)","v":{"$error":"#REF!"}},13553616]
[null,214,{"$error":"#REF!"},null,null,65600,63632,{"$error":"#REF!"},14038400,null,null,{"$f":"+FV(#REF!,B216,-G216,0,1)","v":{"$error":"#REF!"}},13617248]
[null,215,{"$error":"#REF!"},null,null,65600,63632,{"$error":"#REF!"},14104000,null,null,{"$f":"+FV(#REF!,B217,-G217,0,1)","v":{"$error":"#REF!"}},13680880]
[null,216,{"$error":"#REF!"},null,null,65600,63632,{"$error":"#REF!"},14169600,null,null,{"$f":"+FV(#REF!,B218,-G218,0,1)","v":{"$error":"#REF!"}},13744512]
[19,217,{"$error":"#REF!"},null,null,65600,63632,{"$error":"#REF!"},14235200,null,null,{"$f":"+FV(#REF!,B219,-G219,0,1)","v":{"$error":"#REF!"}},13808144]
[null,218,{"$error":"#REF!"},null,null,65600,63632,{"$error":"#REF!"},14300800,null,null,{"$f":"+FV(#REF!,B220,-G220,0,1)","v":{"$error":"#REF!"}},13871776]
[null,219,{"$error":"#REF!"},null,null,65600,63632,{"$error":"#REF!"},14366400,null,null,{"$f":"+FV(#REF!,B221,-G221,0,1)","v":{"$error":"#REF!"}},13935408]
[null,220,{"$error":"#REF!"},null,null,65600,63632,{"$error":"#REF!"},14432000,null,null,{"$f":"+FV(#REF!,B222,-G222,0,1)","v":{"$error":"#REF!"}},13999040]
[null,221,{"$error":"#REF!"},null,null,65600,63632,{"$error":"#REF!"},14497600,null,null,{"$f":"+FV(#REF!,B223,-G223,0,1)","v":{"$error":"#REF!"}},14062672]
[null,222,{"$error":"#REF!"},null,null,65600,63632,{"$error":"#REF!"},14563200,null,null,{"$f":"+FV(#REF!,B224,-G224,0,1)","v":{"$error":"#REF!"}},14126304]
[null,223,{"$error":"#REF!"},null,null,65600,63632,{"$error":"#REF!"},14628800,null,null,{"$f":"+FV(#REF!,B225,-G225,0,1)","v":{"$error":"#REF!"}},14189936]
[null,224,{"$error":"#REF!"},null,null,65600,63632,{"$error":"#REF!"},14694400,null,null,{"$f":"+FV(#REF!,B226,-G226,0,1)","v":{"$error":"#REF!"}},14253568]
[null,225,{"$error":"#REF!"},null,null,65600,63632,{"$error":"#REF!"},14760000,null,null,{"$f":"+FV(#REF!,B227,-G227,0,1)","v":{"$error":"#REF!"}},14317200]
[null,226,{"$error":"#REF!"},null,null,65600,63632,{"$error":"#REF!"},14825600,null,null,{"$f":"+FV(#REF!,B228,-G228,0,1)","v":{"$error":"#REF!"}},14380832]
[null,227,{"$error":"#REF!"},null,null,65600,63632,{"$error":"#REF!"},14891200,null,null,{"$f":"+FV(#REF!,B229,-G229,0,1)","v":{"$error":"#REF!"}},14444464]
[null,228,{"$error":"#REF!"},null,null,65600,63632,{"$error":"#REF!"},14956800,null,null,{"$f":"+FV(#REF!,B230,-G230,0,1)","v":{"$error":"#REF!"}},14508096]
[20,229,{"$error":"#REF!"},null,null,65600,63632,{"$error":"#REF!"},15022400,null,null,{"$f":"+FV(#REF!,B231,-G231,0,1)","v":{"$error":"#REF!"}},14571728]
[null,230,{"$error":"#REF!"},null,null,65600,63632,{"$error":"#REF!"},15088000,null,null,{"$f":"+FV(#REF!,B232,-G232,0,1)","v":{"$error":"#REF!"}},14635360]
[null,231,{"$error":"#REF!"},null,null,65600,63632,{"$error":"#REF!"},15153600,null,null,{"$f":"+FV(#REF!,B233,-G233,0,1)","v":{"$error":"#REF!"}},14698992]
[null,232,{"$error":"#REF!"},null,null,65600,63632,{"$error":"#REF!"},15219200,null,null,{"$f":"+FV(#REF!,B234,-G234,0,1)","v":{"$error":"#REF!"}},14762624]
[null,233,{"$error":"#REF!"},null,null,65600,{"$f":"+F235*PI_3","v":63632},{"$error":"#REF!"},15284800,null,null,{"$f":"+FV(#REF!,B235,-G235,0,1)","v":{"$error":"#REF!"}},14826256]
[null,234,{"$error":"#REF!"},null,null,65600,63632,{"$error":"#REF!"},15350400,null,null,{"$f":"+FV(#REF!,B236,-G236,0,1)","v":{"$error":"#REF!"}},14889888]
[null,235,{"$error":"#REF!"},null,null,65600,63632,{"$error":"#REF!"},15416000,null,null,{"$f":"+FV(#REF!,B237,-G237,0,1)","v":{"$error":"#REF!"}},14953520]
[null,236,{"$error":"#REF!"},null,null,65600,63632,{"$error":"#REF!"},15481600,null,null,{"$f":"+FV(#REF!,B238,-G238,0,1)","v":{"$error":"#REF!"}},15017152]
[null,237,{"$error":"#REF!"},null,null,65600,63632,{"$error":"#REF!"},15547200,null,null,{"$f":"+FV(#REF!,B239,-G239,0,1)","v":{"$error":"#REF!"}},15080784]
[null,238,{"$error":"#REF!"},null,null,65600,63632,{"$error":"#REF!"},15612800,null,null,{"$f":"+FV(#REF!,B240,-G240,0,1)","v":{"$error":"#REF!"}},15144416]
[null,239,{"$error":"#REF!"},null,null,65600,63632,{"$error":"#REF!"},15678400,null,null,{"$f":"+FV(#REF!,B241,-G241,0,1)","v":{"$error":"#REF!"}},15208048]
[null,240,{"$error":"#REF!"},null,null,65600,63632,{"$error":"#REF!"},15744000,null,null,{"$f":"+FV(#REF!,B242,-G242,0,1)","v":{"$error":"#REF!"}},15271680]